BEGIN:VCALENDAR
VERSION:2.0
PRODID:-//DeKalb County Convention and Visitors Bureau - ECPv6.15.17.1//NONSGML v1.0//EN
CALSCALE:GREGORIAN
METHOD:PUBLISH
X-WR-CALNAME:DeKalb County Convention and Visitors Bureau
X-ORIGINAL-URL:https://dekalbcountycvb.com
X-WR-CALDESC:Events for DeKalb County Convention and Visitors Bureau
REFRESH-INTERVAL;VALUE=DURATION:PT1H
X-Robots-Tag:noindex
X-PUBLISHED-TTL:PT1H
BEGIN:VTIMEZONE
TZID:America/Chicago
BEGIN:DAYLIGHT
TZOFFSETFROM:-0600
TZOFFSETTO:-0500
TZNAME:CDT
DTSTART:20240310T080000
END:DAYLIGHT
BEGIN:STANDARD
TZOFFSETFROM:-0500
TZOFFSETTO:-0600
TZNAME:CST
DTSTART:20241103T070000
END:STANDARD
BEGIN:DAYLIGHT
TZOFFSETFROM:-0600
TZOFFSETTO:-0500
TZNAME:CDT
DTSTART:20250309T080000
END:DAYLIGHT
BEGIN:STANDARD
TZOFFSETFROM:-0500
TZOFFSETTO:-0600
TZNAME:CST
DTSTART:20251102T070000
END:STANDARD
BEGIN:DAYLIGHT
TZOFFSETFROM:-0600
TZOFFSETTO:-0500
TZNAME:CDT
DTSTART:20260308T080000
END:DAYLIGHT
BEGIN:STANDARD
TZOFFSETFROM:-0500
TZOFFSETTO:-0600
TZNAME:CST
DTSTART:20261101T070000
END:STANDARD
END:VTIMEZONE
BEGIN:VEVENT
DTSTART;TZID=America/Chicago:20250817T120000
DTEND;TZID=America/Chicago:20250817T170000
DTSTAMP:20260420T043555
CREATED:20240625T183931Z
LAST-MODIFIED:20250702T204831Z
UID:10000781-1755432000-1755450000@dekalbcountycvb.com
SUMMARY:Uke Day DeKalb 2025
DESCRIPTION:Join this for UKE DAY 2025!August 17\, 2025\, Noon – 5 p.m.Hopkins Park in the Terrace Room and the Community Room. \n\n\n\n$5 admission (just pay at the door!) will help cover costs of the event.Free Leis to the first 40 people!Email with questions or for more information at ilukesoc@gmail.com \n\n\n\nGet ready for a day of strum and sing\, vendors and workshops\, Wild Blue Ukulele Orchestra\, our ukulele community\, Wild Carrot Food Truck and more! \n\n\n\nVendor Tables\, Noon to 5 p.m.Sign up for classes\, get those strings you need\, try a ukulele or pick up some new sheet music. \n\n\n\nWild Carrot Food Truck\, Noon to 3 p.m.Try a menu that focuses on locally sourced ingredients\, handmade into seasonal dishes. \n\n\n\nWorkshop details to be announced soon\, but topics will most likely be strum patterns\, adding intros and outros to songs and an intro to the UBass. \n\n\n\nWild Blue Ukulele Orchestra\, 3 p.m.Get ready for a 9-piece ukulele orchestra! They are excited to perform their summer set featuring many new arrangements. \n\n\n\nStrum and Sing\, 4 p.m.Get out your ukes and tune up!Chords and lyrics provided \n\n\n\nRaffle DrawingsDrawings will be held during Strum and Sing.Arrange with a friend if you cannot be present.
URL:https://dekalbcountycvb.com/dccvb-event/uke-day-dekalb-2025/
LOCATION:Hopkins Park Terrace Room\, 1403 Sycamore Rd\, DeKalb\, IL\, 60115\, United States
CATEGORIES:Family Friendly,LGBTQ Friendly,Live Music
ATTACH;FMTTYPE=image/jpeg:https://dekalbcountycvb.com/wp-content/uploads/2024/06/Uke_Day_starter_logo_reg-300x300-1.jpg
ORGANIZER;CN="Illinois Ukulele Society":MAILTO:ilukesoc@gmail.com
END:VEVENT
BEGIN:VEVENT
DTSTART;TZID=America/Chicago:20250819T150000
DTEND;TZID=America/Chicago:20250819T180000
DTSTAMP:20260420T043555
CREATED:20250509T215930Z
LAST-MODIFIED:20250627T203932Z
UID:10001733-1755615600-1755626400@dekalbcountycvb.com
SUMMARY:Sycamore Farmers' Market
DESCRIPTION:Shop fresh produce\, meat\, canned items\, art\, and more from locals at the Sycamore Farmers’ Market!
URL:https://dekalbcountycvb.com/dccvb-event/sycamore-farmers-market/2025-08-19/
LOCATION:Kar-Fre Flowers\, 1126 E. State St. Sycamore\, Sycamore\, Illinois\, 60178\, United States
CATEGORIES:Farmers' Markets
ATTACH;FMTTYPE=image/jpeg:https://dekalbcountycvb.com/wp-content/uploads/2025/05/IMG_131825.jpg
END:VEVENT
BEGIN:VEVENT
DTSTART;TZID=America/Chicago:20250819T193000
DTEND;TZID=America/Chicago:20250819T210000
DTSTAMP:20260420T043555
CREATED:20250512T161102Z
LAST-MODIFIED:20250512T161105Z
UID:10001744-1755631800-1755637200@dekalbcountycvb.com
SUMMARY:DeKalb Municipal Band Concert 2025
DESCRIPTION:Join the DeKalb Park District for the 171st season of Municipal Band Concerts on Tuesday nights this summer! These FREE concerts begin at 7:30 pm in the Hopkins Park Bandshell.
URL:https://dekalbcountycvb.com/dccvb-event/dekalb-municipal-band-concert-2025/2025-08-19/
LOCATION:Hopkins Park Band Shell\, 1403 Sycamore Road\, DeKalb\, IL\, 60115\, United States
CATEGORIES:Free Event,Live Music
ATTACH;FMTTYPE=image/jpeg:https://dekalbcountycvb.com/wp-content/uploads/2024/06/DeKalb-Municipal-Band-Shelter.jpg
END:VEVENT
BEGIN:VEVENT
DTSTART;TZID=America/Chicago:20250820T100000
DTEND;TZID=America/Chicago:20250820T103000
DTSTAMP:20260420T043555
CREATED:20250512T154505Z
LAST-MODIFIED:20250627T203844Z
UID:10001758-1755684000-1755685800@dekalbcountycvb.com
SUMMARY:Stories at Huntley Park
DESCRIPTION:It’s summertime\, so join John and Laura at the park for the DeKalb Public Library’s 5th summer of outdoor story times! They will be reading stories\, singing songs\, and having fun. After the stories\, go play on the playground. Bringing a blanket is encouraged to make sitting on the grass a little more comfortable. \nAll of the story times are at Huntley Park at 2nd and Garden Street in DeKalb. Look for them in the southwestern corner. \nIt will be announce on the DeKalb Public Library Facebook page if the program is cancelled due to weather. \nFor questions or further information\, please contact John at johna@dkpl.org or at (815) 756-9568 ext. 3350.
URL:https://dekalbcountycvb.com/dccvb-event/stories-at-huntley-park/2025-08-20/
LOCATION:Huntley Park\, 200 Prospect st\, DeKalb\, IL\, 60115\, United States
CATEGORIES:Family Friendly
ATTACH;FMTTYPE=image/jpeg:https://dekalbcountycvb.com/wp-content/uploads/2025/05/huntley-park.jpg
ORGANIZER;CN="DeKalb Public Library":MAILTO:theresaw@dkpl.org
END:VEVENT
BEGIN:VEVENT
DTSTART;TZID=America/Chicago:20250820T180000
DTEND;TZID=America/Chicago:20250820T200000
DTSTAMP:20260420T043555
CREATED:20250612T182406Z
LAST-MODIFIED:20250612T182407Z
UID:10001829-1755712800-1755720000@dekalbcountycvb.com
SUMMARY:Beginner Line Dancing
DESCRIPTION:Beginner lessons from 6-8pm  \n\n\n\nOpen dancing until 10pmEvery Wednesday\, unless noted on their calendar.
URL:https://dekalbcountycvb.com/dccvb-event/beginner-line-dancing/2025-08-20/
LOCATION:Denim & Diamonds Saloon\, 425 W State St.\, Sycamore\, IL\, 60178\, United States
END:VEVENT
BEGIN:VEVENT
DTSTART;TZID=America/Chicago:20250820T180000
DTEND;TZID=America/Chicago:20250820T200000
DTSTAMP:20260420T043555
CREATED:20250707T145344Z
LAST-MODIFIED:20250709T171316Z
UID:10001892-1755712800-1755720000@dekalbcountycvb.com
SUMMARY:Malta Music in the Park
DESCRIPTION:Enjoy live tunes and summer vibes at Malta Music in the Park at Malta Lions Park! This free\, family-friendly concert series features performances from 6–8 PM\, including the Yankee Cowboy Band on Thursday\, July 17\, The Beaux Band on Thursday\, August 20\, and Sound Check Band on Thursday\, September 18. Grab a bite from the Press Box Food Truck or Andale Taco Shop\, bring your lawn chairs\, and feel free to BYOB for a relaxing evening of music in the park.
URL:https://dekalbcountycvb.com/dccvb-event/malta-music-in-the-park/2025-08-20/
LOCATION:Malta Lions Park\, 409 N 4th Street\, Malta\, IL\, 60150\, United States
CATEGORIES:Family Friendly,Free Event,Live Music
ATTACH;FMTTYPE=image/png:https://dekalbcountycvb.com/wp-content/uploads/2025/07/Music-in-Park-ALL-2025.png
ORGANIZER;CN="Malta Seedling Project":MAILTO:malta.seedlings@gmail.com
END:VEVENT
BEGIN:VEVENT
DTSTART;TZID=America/Chicago:20250821T090000
DTEND;TZID=America/Chicago:20250821T193000
DTSTAMP:20260420T043555
CREATED:20250809T040244Z
LAST-MODIFIED:20250811T160550Z
UID:10001997-1755766800-1755804600@dekalbcountycvb.com
SUMMARY:Wise & Well Senior Summit
DESCRIPTION:Older adults frequently face unique challenges that can be isolating and anxiety-inducing. The Wise & Well Senior Summit is designed to address these challenges and enhance the quality of life for senior residents—helping seniors to feel more equipped\, connected and supported. \nThe inaugural Wise & Well Senior Summit will be held on August 21st\, from 9 AM to 7:30 PM at Faranda’s. The event will feature concurrent sessions focusing on a variety of topics that are particularly relevant to the aging population\, such as: Healthcare\, Health Insurance\, Protecting Assets\, Scams & Fraud Prevention\, Financial Assistance Programs\, Aging in Place\, Life After Loss\, Legacy Planning\, The Aging Mind & Mental Health\, Movement & Healthy Living\, Alternative Transportation\, Budgeting\, Financial Planning\, Local Social Service Programs\, Travel\, Home Away from Home\, Funerals\, Celebration of Life Planning\, Eating Well\, Lifelong Learning\, Safe Driving\, Curbing Isolation & Finding Purpose\, Veteran Services\, Therapeutic Hobbies & more! \nFor a complete event schedule\, session description & presenter list\, visit www.dekalbtownship.org/events.
URL:https://dekalbcountycvb.com/dccvb-event/wise-well-senior-summit/
LOCATION:Faranda’s Banquet Center\, 302 Grove Street\, DeKalb\, IL\, 60115\, United States
CATEGORIES:Adult,Free Event
END:VEVENT
BEGIN:VEVENT
DTSTART;TZID=America/Chicago:20250821T180000
DTEND;TZID=America/Chicago:20250821T200000
DTSTAMP:20260420T043555
CREATED:20250423T181600Z
LAST-MODIFIED:20250425T192540Z
UID:10001627-1755799200-1755806400@dekalbcountycvb.com
SUMMARY:Hinckley Summer Band Concerts
DESCRIPTION:Enjoy Hinckley’s friendly\, small-town hospitality. Bring your lawn chairs and refreshments to the Community Building lawn (100 Maple Street\, Hinckley). Free concerts from 6-8 p.m. are organized by the Hinckley Historical Society. \n\n\n\nThursday June 19\, the 40 piece Fox Valley Brass Band will provide a variety of traditional and contemporary brass music. The skilled volunteer musicians promote music enjoyment for all ages. \n\n\n\nThursday July 17\, Ann Stewart and the Banjo Buddies Dixieland Jazz Band provide a show of classic Dixieland Jazz and improvisations that keep the music fresh and entertaining. \n\n\n\nThursday August 21\, the Jazz in Progress 18-piece community band features classical jazz\, swing-era and favorites from across the decades. Soloists will add to their performance.
URL:https://dekalbcountycvb.com/dccvb-event/hinckley-summer-band-concerts/2025-08-21/
LOCATION:Hinckley Community Building\, 100 N. Maple Street\, Hinckley\,\, Illinois
CATEGORIES:Free Event,Live Music
ATTACH;FMTTYPE=image/jpeg:https://dekalbcountycvb.com/wp-content/uploads/2025/04/thumbnail_Band-4-pc.jpg
END:VEVENT
BEGIN:VEVENT
DTSTART;TZID=America/Chicago:20250822T080000
DTEND;TZID=America/Chicago:20250822T170000
DTSTAMP:20260420T043555
CREATED:20250612T184207Z
LAST-MODIFIED:20250627T203238Z
UID:10001845-1755849600-1755882000@dekalbcountycvb.com
SUMMARY:Line & couples Dancing
DESCRIPTION:Join DJ Dave at Denim and Dimonds for Line Dancing and Couples Dancing beginning at 7pmEvery Friday unless noted on their calendar.
URL:https://dekalbcountycvb.com/dccvb-event/line-couples-dancing/2025-08-22/
LOCATION:Denim & Diamonds Saloon\, 425 W State St.\, Sycamore\, IL\, 60178\, United States
ATTACH;FMTTYPE=image/jpeg:https://dekalbcountycvb.com/wp-content/uploads/2025/06/IMG_1717.jpeg
END:VEVENT
BEGIN:VEVENT
DTSTART;TZID=America/Chicago:20250822T180000
DTEND;TZID=America/Chicago:20250822T200000
DTSTAMP:20260420T043555
CREATED:20250804T162729Z
LAST-MODIFIED:20250804T162729Z
UID:10001926-1755885600-1755892800@dekalbcountycvb.com
SUMMARY:DeKalb Area Women's Center Artist Reception
DESCRIPTION:Meet artist Bernadette Curl-Woodruff at the free reception\, which is open to the public. This recent MFA recipient from the NIU School of Art & Design has a solo show in the DAWC Great Hall Exhibition Space.
URL:https://dekalbcountycvb.com/dccvb-event/dekalb-area-womens-center-artist-reception/
LOCATION:DeKalb Area Women’s\, 1021 State St\, DeKalb\, IL\, 60115
CATEGORIES:Free Event
END:VEVENT
BEGIN:VEVENT
DTSTART;TZID=America/Chicago:20250823T090000
DTEND;TZID=America/Chicago:20250823T150000
DTSTAMP:20260420T043555
CREATED:20250822T185732Z
LAST-MODIFIED:20250822T185734Z
UID:10002013-1755939600-1755961200@dekalbcountycvb.com
SUMMARY:DeKalb Sycamore Chevrolet GMC Car Show
DESCRIPTION:You’re invited to a day of cars & fun! Join the 11th Annual Car Show on Saturday\, August 23rd from 9AM–3PM at DeKalb Sycamore Chevrolet GMC – 1925 Mercantile Drive in Sycamore. \n\n\n\nThis year\, things are shifting into high gear with more family fun than ever — and it’s 100% FREE to attend! \n\n\n\nFree ice cream (11AM–2PM)\, delicious food truck\, ‘Dress Like a Corvette Owner’ contest – come ready to strut your stuff\, music\, exciting giveaways\, family-friendly fun for all ages. \n\n\n\nWhether you’re a gearhead\, a foodie\, or just here for the fun — there’s something for everyone. Bring the whole crew — it’s going to be a showstopper! \n\n\n\nIf you have a vehicle you’d like to enter into the show\, all makes and models are welcome\, and no pre-registration is required. Registration will begin at 7am on August 23rd.
URL:https://dekalbcountycvb.com/dccvb-event/dekalb-sycamore-chevrolet-gmc-car-show/
LOCATION:DeKalb Sycamore Chevrolet GMC\, 1925 Mercantile Dr.\, Sycamore\, Illinois\, 60178\, United States
CATEGORIES:Family Friendly,Free Event
ATTACH;FMTTYPE=image/jpeg:https://dekalbcountycvb.com/wp-content/uploads/2025/08/DeKalb-Sycamore-GMC-Car-Show.jpg
ORGANIZER;CN="DeKalb Sycamore Chevrolet GMC":MAILTO:dpage@dekalbmotors.com
END:VEVENT
END:VCALENDAR