BEGIN:VCALENDAR
VERSION:2.0
PRODID:-//DeKalb County Convention and Visitors Bureau - ECPv6.15.17.1//NONSGML v1.0//EN
CALSCALE:GREGORIAN
METHOD:PUBLISH
X-ORIGINAL-URL:https://dekalbcountycvb.com
X-WR-CALDESC:Events for DeKalb County Convention and Visitors Bureau
REFRESH-INTERVAL;VALUE=DURATION:PT1H
X-Robots-Tag:noindex
X-PUBLISHED-TTL:PT1H
BEGIN:VTIMEZONE
TZID:America/Chicago
BEGIN:DAYLIGHT
TZOFFSETFROM:-0600
TZOFFSETTO:-0500
TZNAME:CDT
DTSTART:20250309T080000
END:DAYLIGHT
BEGIN:STANDARD
TZOFFSETFROM:-0500
TZOFFSETTO:-0600
TZNAME:CST
DTSTART:20251102T070000
END:STANDARD
BEGIN:DAYLIGHT
TZOFFSETFROM:-0600
TZOFFSETTO:-0500
TZNAME:CDT
DTSTART:20260308T080000
END:DAYLIGHT
BEGIN:STANDARD
TZOFFSETFROM:-0500
TZOFFSETTO:-0600
TZNAME:CST
DTSTART:20261101T070000
END:STANDARD
BEGIN:DAYLIGHT
TZOFFSETFROM:-0600
TZOFFSETTO:-0500
TZNAME:CDT
DTSTART:20270314T080000
END:DAYLIGHT
BEGIN:STANDARD
TZOFFSETFROM:-0500
TZOFFSETTO:-0600
TZNAME:CST
DTSTART:20271107T070000
END:STANDARD
END:VTIMEZONE
BEGIN:VEVENT
DTSTART;TZID=America/Chicago:20260718T073000
DTEND;TZID=America/Chicago:20260718T220000
DTSTAMP:20260420T161100
CREATED:20240625T212915Z
LAST-MODIFIED:20260406T182523Z
UID:10000838-1784359800-1784412000@dekalbcountycvb.com
SUMMARY:Waterman Lions Summerfest 2026
DESCRIPTION:Don’t miss the 26th Waterman Lions Summerfest and Antique Tractor & Truck Show! Enjoy an entire day full of antique and craft shows\, tractor pulls\, train rides\, live music\, a beer garden\, and more\, and end it with a fireworks show!
URL:https://dekalbcountycvb.com/dccvb-event/waterman-lions-summerfest-2026/
LOCATION:Waterman Lions Park\, 435 S. Birch St\, Waterman\, IL\, 60556\, United States
CATEGORIES:Family Friendly,Live Music
ATTACH;FMTTYPE=image/jpeg:https://dekalbcountycvb.com/wp-content/uploads/2024/06/puller-waterman-tractor-show-and-summerfest-300x300-1.jpg
END:VEVENT
END:VCALENDAR