BEGIN:VCALENDAR
VERSION:2.0
PRODID:-//DeKalb County Convention and Visitors Bureau - ECPv6.15.17.1//NONSGML v1.0//EN
CALSCALE:GREGORIAN
METHOD:PUBLISH
X-WR-CALNAME:DeKalb County Convention and Visitors Bureau
X-ORIGINAL-URL:https://dekalbcountycvb.com
X-WR-CALDESC:Events for DeKalb County Convention and Visitors Bureau
REFRESH-INTERVAL;VALUE=DURATION:PT1H
X-Robots-Tag:noindex
X-PUBLISHED-TTL:PT1H
BEGIN:VTIMEZONE
TZID:America/Chicago
BEGIN:DAYLIGHT
TZOFFSETFROM:-0600
TZOFFSETTO:-0500
TZNAME:CDT
DTSTART:20250309T080000
END:DAYLIGHT
BEGIN:STANDARD
TZOFFSETFROM:-0500
TZOFFSETTO:-0600
TZNAME:CST
DTSTART:20251102T070000
END:STANDARD
BEGIN:DAYLIGHT
TZOFFSETFROM:-0600
TZOFFSETTO:-0500
TZNAME:CDT
DTSTART:20260308T080000
END:DAYLIGHT
BEGIN:STANDARD
TZOFFSETFROM:-0500
TZOFFSETTO:-0600
TZNAME:CST
DTSTART:20261101T070000
END:STANDARD
BEGIN:DAYLIGHT
TZOFFSETFROM:-0600
TZOFFSETTO:-0500
TZNAME:CDT
DTSTART:20270314T080000
END:DAYLIGHT
BEGIN:STANDARD
TZOFFSETFROM:-0500
TZOFFSETTO:-0600
TZNAME:CST
DTSTART:20271107T070000
END:STANDARD
END:VTIMEZONE
BEGIN:VEVENT
DTSTART;TZID=America/Chicago:20260117T090000
DTEND;TZID=America/Chicago:20260117T150000
DTSTAMP:20260420T104947
CREATED:20251203T152705Z
LAST-MODIFIED:20251217T155408Z
UID:10002228-1768640400-1768662000@dekalbcountycvb.com
SUMMARY:WinterFest 2026
DESCRIPTION:Join staff and volunteers of the Natural Resource Education Center in Genoa for a full day of winter fun in the woods! Learn birding tips and tricks\, explore the preserve with a guided forest hike\, discover nature topics\, test your knowledge during the nature trivia game\, and enjoy crafts and facepainting. Also\, can you complete the Un-natural Nature Trail or the Scavenger Hunt? \nFestivities begin at 9 AM. Celebrate the season\, connect with nature\, and make lasting memories! See website for more details.
URL:https://dekalbcountycvb.com/dccvb-event/winterfest-2026/
LOCATION:Russell Woods Forest Preserve\, 11750 IL-72\, Genoa\, 60135\, United States
CATEGORIES:Family Friendly
ATTACH;FMTTYPE=image/jpeg:https://dekalbcountycvb.com/wp-content/uploads/2025/12/Screenshot_8-12-2025_94656_extension.illinois.edu_.jpeg
ORGANIZER;CN="University of Illinois Extension":MAILTO:mariantt@illinois.edu
END:VEVENT
END:VCALENDAR