BEGIN:VCALENDAR
VERSION:2.0
PRODID:-//DeKalb County Convention and Visitors Bureau - ECPv6.15.17.1//NONSGML v1.0//EN
CALSCALE:GREGORIAN
METHOD:PUBLISH
X-ORIGINAL-URL:https://dekalbcountycvb.com
X-WR-CALDESC:Events for DeKalb County Convention and Visitors Bureau
REFRESH-INTERVAL;VALUE=DURATION:PT1H
X-Robots-Tag:noindex
X-PUBLISHED-TTL:PT1H
BEGIN:VTIMEZONE
TZID:America/Chicago
BEGIN:DAYLIGHT
TZOFFSETFROM:-0600
TZOFFSETTO:-0500
TZNAME:CDT
DTSTART:20240310T080000
END:DAYLIGHT
BEGIN:STANDARD
TZOFFSETFROM:-0500
TZOFFSETTO:-0600
TZNAME:CST
DTSTART:20241103T070000
END:STANDARD
BEGIN:DAYLIGHT
TZOFFSETFROM:-0600
TZOFFSETTO:-0500
TZNAME:CDT
DTSTART:20250309T080000
END:DAYLIGHT
BEGIN:STANDARD
TZOFFSETFROM:-0500
TZOFFSETTO:-0600
TZNAME:CST
DTSTART:20251102T070000
END:STANDARD
BEGIN:DAYLIGHT
TZOFFSETFROM:-0600
TZOFFSETTO:-0500
TZNAME:CDT
DTSTART:20260308T080000
END:DAYLIGHT
BEGIN:STANDARD
TZOFFSETFROM:-0500
TZOFFSETTO:-0600
TZNAME:CST
DTSTART:20261101T070000
END:STANDARD
END:VTIMEZONE
BEGIN:VEVENT
DTSTART;TZID=America/Chicago:20251003T170000
DTEND;TZID=America/Chicago:20251003T220000
DTSTAMP:20260420T145620
CREATED:20250904T161057Z
LAST-MODIFIED:20250905T214121Z
UID:10002040-1759510800-1759528800@dekalbcountycvb.com
SUMMARY:Food Truck Fest 2025
DESCRIPTION:Enjoy this family-friendly event with bar service available! 7 different food trucks and live music will take over the Midwest Sportsplex parking lot on Friday\, October 3 from 5-10PM.
URL:https://dekalbcountycvb.com/dccvb-event/food-truck-fest-2025/
LOCATION:Midwest Sportsplex\, 212 W Woodlawn Street\, Hinckley\, IL\, 60520\, United States
CATEGORIES:Family Friendly,Live Music
ATTACH;FMTTYPE=image/png:https://dekalbcountycvb.com/wp-content/uploads/2025/09/Fall-Food-Truck-4.png
END:VEVENT
BEGIN:VEVENT
DTSTART;TZID=America/Chicago:20251004T090000
DTEND;TZID=America/Chicago:20251004T150000
DTSTAMP:20260420T145620
CREATED:20240821T190857Z
LAST-MODIFIED:20250912T215243Z
UID:10001054-1759568400-1759590000@dekalbcountycvb.com
SUMMARY:2025 Genoa Harvest Festival
DESCRIPTION:The City of Genoa’s 5th Annual Harvest Festival is taking place on October 4th in Downtown Genoa! \n\n\n\nCome enjoy rides\, kids’ crafts and activities\, community organization booths\, and OpenDoor’s Fall Makers’ Market!
URL:https://dekalbcountycvb.com/dccvb-event/2025-genoa-harvest-festival/
LOCATION:Downtown Genoa\, Genoa\, IL
CATEGORIES:Family Friendly
ATTACH;FMTTYPE=image/png:https://dekalbcountycvb.com/wp-content/uploads/2024/08/Genoa-Harvest-Festival.png
END:VEVENT
END:VCALENDAR