BEGIN:VCALENDAR
VERSION:2.0
PRODID:-//DeKalb County Convention and Visitors Bureau - ECPv6.15.17.1//NONSGML v1.0//EN
CALSCALE:GREGORIAN
METHOD:PUBLISH
X-WR-CALNAME:DeKalb County Convention and Visitors Bureau
X-ORIGINAL-URL:https://dekalbcountycvb.com
X-WR-CALDESC:Events for DeKalb County Convention and Visitors Bureau
REFRESH-INTERVAL;VALUE=DURATION:PT1H
X-Robots-Tag:noindex
X-PUBLISHED-TTL:PT1H
BEGIN:VTIMEZONE
TZID:America/Chicago
BEGIN:DAYLIGHT
TZOFFSETFROM:-0600
TZOFFSETTO:-0500
TZNAME:CDT
DTSTART:20240310T080000
END:DAYLIGHT
BEGIN:STANDARD
TZOFFSETFROM:-0500
TZOFFSETTO:-0600
TZNAME:CST
DTSTART:20241103T070000
END:STANDARD
BEGIN:DAYLIGHT
TZOFFSETFROM:-0600
TZOFFSETTO:-0500
TZNAME:CDT
DTSTART:20250309T080000
END:DAYLIGHT
BEGIN:STANDARD
TZOFFSETFROM:-0500
TZOFFSETTO:-0600
TZNAME:CST
DTSTART:20251102T070000
END:STANDARD
BEGIN:DAYLIGHT
TZOFFSETFROM:-0600
TZOFFSETTO:-0500
TZNAME:CDT
DTSTART:20260308T080000
END:DAYLIGHT
BEGIN:STANDARD
TZOFFSETFROM:-0500
TZOFFSETTO:-0600
TZNAME:CST
DTSTART:20261101T070000
END:STANDARD
END:VTIMEZONE
BEGIN:VEVENT
DTSTART;TZID=America/Chicago:20250124T200000
DTEND;TZID=America/Chicago:20250124T200000
DTSTAMP:20260420T024859
CREATED:20241127T225507Z
LAST-MODIFIED:20241127T225508Z
UID:10001223-1737748800-1737748800@dekalbcountycvb.com
SUMMARY:The Side Cars Band - "A Tribute to the Cars"
DESCRIPTION:Experience the very best tribute to The Cars\, with note for note instrumentation and superb vocal harmonies\, capturing the very best presentation of one of the greatest catalogs of pop rock music to ever exist. Introducing The Side Cars Band – A nationally recognized professional tribute honoring the legendary sound of The Cars! Led by the exceptionally talented Joe Leo on lead vocals and guitar\, this group of seasoned musicians brings the iconic music of The Cars to life with precision and passion. The Side Cars Band stays true to the original magic of The Cars’ music while fuel injecting their own energy and flair into every performance. From the infectious hooks of “Just What I Needed” to the retro vibes of “Drive\,” The Side Cars Band delivers a thrilling live experience that transports audiences back to the heyday of new wave rock. With impeccable musicianship and a genuine love for the music they play\, The Side Cars Band capture the essence of The Cars like no other tribute band. So buckle up and get ready for a ride down memory lane with The Side Cars Band – the band that keeps The Cars’ legacy alive and rockin’ for fans old and new. Whether you’re a die-hard enthusiast or a casual listener\, The Side Cars Band promise a night of music that will have you singing along and dancing in the aisles. Get ready to let the good times roll with The Side Cars Band! \n\n\n\nWith special guest: Joyride – 80’s Mixtape Live \n\n\n\nJoyride – 80’s Mixtape Live is a dynamic concept band dedicated to bringing the electrifying energy of the 1980s to audiences near and far. With a passion for the biggest pop/rock and new wave dance hits of the era\, Joyride captivates fans with their high-octane performances and infectious enthusiasm. From iconic classics to hidden gems\, this band delivers a nostalgic musical experience that transports listeners back to the heyday of 80s music. Get ready to dance\, sing along\, and relive the magic of the 1980s with Joyride – 80’s Mixtape Live.
URL:https://dekalbcountycvb.com/dccvb-event/the-side-cars-band-a-tribute-to-the-cars/
LOCATION:Egyptian Theatre\, 135 North 2nd Street\, DeKalb\, IL\, 60115\, United States
CATEGORIES:Live Music
ATTACH;FMTTYPE=image/png:https://dekalbcountycvb.com/wp-content/uploads/2024/11/SideCars_600x300-min.png
END:VEVENT
BEGIN:VEVENT
DTSTART;TZID=America/Chicago:20250125T133000
DTEND;TZID=America/Chicago:20250125T160000
DTSTAMP:20260420T024900
CREATED:20241230T172323Z
LAST-MODIFIED:20241230T172517Z
UID:10001285-1737811800-1737820800@dekalbcountycvb.com
SUMMARY:Live Music at Prairie State Winery
DESCRIPTION:Enjoy live music in the Prairie State Winery dining room on select weekends! View the schedule below. \n\n\n\nJanuary 11- Ethan Larson \n\n\n\nJanuary 12 – Cole Bandt \n\n\n\nJanuary 25 – BB and the Billies \n\n\n\nJanuary 26 – Steve Sharp
URL:https://dekalbcountycvb.com/dccvb-event/live-music-at-prairie-state-winery/2025-01-25/
LOCATION:Prairie State Winery\, 222 West Main St.\, Genoa\, IL\, 60135\, United States
CATEGORIES:Live Music
ATTACH;FMTTYPE=image/jpeg:https://dekalbcountycvb.com/wp-content/uploads/2024/12/Live-Music-Events-Prairie-State-Winery.jpg
END:VEVENT
BEGIN:VEVENT
DTSTART;TZID=America/Chicago:20250125T193000
DTEND;TZID=America/Chicago:20250125T203000
DTSTAMP:20260420T024900
CREATED:20241216T192323Z
LAST-MODIFIED:20241216T192442Z
UID:10001276-1737833400-1737837000@dekalbcountycvb.com
SUMMARY:Tom Sharpe Ensemble
DESCRIPTION:Tom Sharpe is an internationally recognized\, award-winning composer\, performer\, and recording artist. He is a sought-out clinician and performer of his own works\, and the artistic director and principal performer of the Sharpe World Music Ensemble. Along with his own music\, Tom is the drummer for the widely popular\, Grammy award winning group\, Mannheim Steamroller. Come see his impressive performance at the Sandwich Opera House.
URL:https://dekalbcountycvb.com/dccvb-event/tom-sharpe-ensemble/
LOCATION:Sandwich Opera House\, 140 E Railroad St\, Sandwich\, IL\, 60548
CATEGORIES:Live Music
ATTACH;FMTTYPE=image/jpeg:https://dekalbcountycvb.com/wp-content/uploads/2024/12/Tom-Sharpe-Ensemble.jpg
END:VEVENT
END:VCALENDAR