BEGIN:VCALENDAR
VERSION:2.0
PRODID:-//DeKalb County Convention and Visitors Bureau - ECPv6.15.17.1//NONSGML v1.0//EN
CALSCALE:GREGORIAN
METHOD:PUBLISH
X-WR-CALNAME:DeKalb County Convention and Visitors Bureau
X-ORIGINAL-URL:https://dekalbcountycvb.com
X-WR-CALDESC:Events for DeKalb County Convention and Visitors Bureau
REFRESH-INTERVAL;VALUE=DURATION:PT1H
X-Robots-Tag:noindex
X-PUBLISHED-TTL:PT1H
BEGIN:VTIMEZONE
TZID:America/Chicago
BEGIN:DAYLIGHT
TZOFFSETFROM:-0600
TZOFFSETTO:-0500
TZNAME:CDT
DTSTART:20240310T080000
END:DAYLIGHT
BEGIN:STANDARD
TZOFFSETFROM:-0500
TZOFFSETTO:-0600
TZNAME:CST
DTSTART:20241103T070000
END:STANDARD
BEGIN:DAYLIGHT
TZOFFSETFROM:-0600
TZOFFSETTO:-0500
TZNAME:CDT
DTSTART:20250309T080000
END:DAYLIGHT
BEGIN:STANDARD
TZOFFSETFROM:-0500
TZOFFSETTO:-0600
TZNAME:CST
DTSTART:20251102T070000
END:STANDARD
BEGIN:DAYLIGHT
TZOFFSETFROM:-0600
TZOFFSETTO:-0500
TZNAME:CDT
DTSTART:20260308T080000
END:DAYLIGHT
BEGIN:STANDARD
TZOFFSETFROM:-0500
TZOFFSETTO:-0600
TZNAME:CST
DTSTART:20261101T070000
END:STANDARD
END:VTIMEZONE
BEGIN:VEVENT
DTSTART;TZID=America/Chicago:20250112T133000
DTEND;TZID=America/Chicago:20250112T160000
DTSTAMP:20260420T030636
CREATED:20241230T172323Z
LAST-MODIFIED:20241230T172517Z
UID:10001284-1736688600-1736697600@dekalbcountycvb.com
SUMMARY:Live Music at Prairie State Winery
DESCRIPTION:Enjoy live music in the Prairie State Winery dining room on select weekends! View the schedule below. \n\n\n\nJanuary 11- Ethan Larson \n\n\n\nJanuary 12 – Cole Bandt \n\n\n\nJanuary 25 – BB and the Billies \n\n\n\nJanuary 26 – Steve Sharp
URL:https://dekalbcountycvb.com/dccvb-event/live-music-at-prairie-state-winery/2025-01-12/
LOCATION:Prairie State Winery\, 222 West Main St.\, Genoa\, IL\, 60135\, United States
CATEGORIES:Live Music
ATTACH;FMTTYPE=image/jpeg:https://dekalbcountycvb.com/wp-content/uploads/2024/12/Live-Music-Events-Prairie-State-Winery.jpg
END:VEVENT
BEGIN:VEVENT
DTSTART;TZID=America/Chicago:20250118T140000
DTEND;TZID=America/Chicago:20250118T170000
DTSTAMP:20260420T030636
CREATED:20241216T173033Z
LAST-MODIFIED:20250106T175310Z
UID:10001273-1737208800-1737219600@dekalbcountycvb.com
SUMMARY:Winterfest Warmup with Cole Brandt
DESCRIPTION:The Warehouse on Park is excited to welcome\, for the first time\, Chicago-based solo artist\, Cole Brandt! Cole specializes in jazz\, rock and electronic dance music. \n\n\n\nWarmup after WinterFest and enjoy a special cocktail for this Saturday afternoon event. \n\n\n\nBar opens at 1:30 Cole will be preforming from 2-5 \n\n\n\nNo outside food or drinks allowedNo pets21 & over event
URL:https://dekalbcountycvb.com/dccvb-event/cole-brandt-live-at-the-warehouse-on-park/
LOCATION:Warehouse on Park\, 662 Park Ave\, Genoa\, IL\, 60135\, United States
CATEGORIES:Adult,Live Music
ATTACH;FMTTYPE=image/jpeg:https://dekalbcountycvb.com/wp-content/uploads/2024/12/Cole-Brand-at-WOP.jpg
END:VEVENT
END:VCALENDAR