BEGIN:VCALENDAR
VERSION:2.0
PRODID:-//DeKalb County Convention and Visitors Bureau - ECPv6.15.17.1//NONSGML v1.0//EN
CALSCALE:GREGORIAN
METHOD:PUBLISH
X-WR-CALNAME:DeKalb County Convention and Visitors Bureau
X-ORIGINAL-URL:https://dekalbcountycvb.com
X-WR-CALDESC:Events for DeKalb County Convention and Visitors Bureau
REFRESH-INTERVAL;VALUE=DURATION:PT1H
X-Robots-Tag:noindex
X-PUBLISHED-TTL:PT1H
BEGIN:VTIMEZONE
TZID:America/Chicago
BEGIN:DAYLIGHT
TZOFFSETFROM:-0600
TZOFFSETTO:-0500
TZNAME:CDT
DTSTART:20230312T080000
END:DAYLIGHT
BEGIN:STANDARD
TZOFFSETFROM:-0500
TZOFFSETTO:-0600
TZNAME:CST
DTSTART:20231105T070000
END:STANDARD
BEGIN:DAYLIGHT
TZOFFSETFROM:-0600
TZOFFSETTO:-0500
TZNAME:CDT
DTSTART:20240310T080000
END:DAYLIGHT
BEGIN:STANDARD
TZOFFSETFROM:-0500
TZOFFSETTO:-0600
TZNAME:CST
DTSTART:20241103T070000
END:STANDARD
BEGIN:DAYLIGHT
TZOFFSETFROM:-0600
TZOFFSETTO:-0500
TZNAME:CDT
DTSTART:20250309T080000
END:DAYLIGHT
BEGIN:STANDARD
TZOFFSETFROM:-0500
TZOFFSETTO:-0600
TZNAME:CST
DTSTART:20251102T070000
END:STANDARD
END:VTIMEZONE
BEGIN:VEVENT
DTSTART;TZID=America/Chicago:20241215T140000
DTEND;TZID=America/Chicago:20241215T150000
DTSTAMP:20260419T143510
CREATED:20241120T202543Z
LAST-MODIFIED:20241120T202702Z
UID:10001203-1734271200-1734274800@dekalbcountycvb.com
SUMMARY:KSO's Holiday Pops Concert
DESCRIPTION:A hallmark of the holiday season\, Holiday Pops is a joyous tradition that brings together the community through music. Enjoy timeless holiday classics performed by the Kishwaukee Symphony Orchestra\, alongside special guests\, The Celebration Chorale\, who will add their rich vocal harmonies to this seasonal celebration. Local music ensembles will be featured in the lobby before the concerts\, during intermission\, and following the concerts.
URL:https://dekalbcountycvb.com/dccvb-event/ksos-holiday-pops-concert/2024-12-15/
LOCATION:Boutell Memorial Concert Hall at Northern Illinois University\, 400 Lucinda Ave\, DeKalb\, IL
CATEGORIES:Family Friendly,Live Music
END:VEVENT
END:VCALENDAR