BEGIN:VCALENDAR
VERSION:2.0
PRODID:-//DeKalb County Convention and Visitors Bureau - ECPv6.15.17.1//NONSGML v1.0//EN
CALSCALE:GREGORIAN
METHOD:PUBLISH
X-ORIGINAL-URL:https://dekalbcountycvb.com
X-WR-CALDESC:Events for DeKalb County Convention and Visitors Bureau
REFRESH-INTERVAL;VALUE=DURATION:PT1H
X-Robots-Tag:noindex
X-PUBLISHED-TTL:PT1H
BEGIN:VTIMEZONE
TZID:America/Chicago
BEGIN:DAYLIGHT
TZOFFSETFROM:-0600
TZOFFSETTO:-0500
TZNAME:CDT
DTSTART:20230312T080000
END:DAYLIGHT
BEGIN:STANDARD
TZOFFSETFROM:-0500
TZOFFSETTO:-0600
TZNAME:CST
DTSTART:20231105T070000
END:STANDARD
BEGIN:DAYLIGHT
TZOFFSETFROM:-0600
TZOFFSETTO:-0500
TZNAME:CDT
DTSTART:20240310T080000
END:DAYLIGHT
BEGIN:STANDARD
TZOFFSETFROM:-0500
TZOFFSETTO:-0600
TZNAME:CST
DTSTART:20241103T070000
END:STANDARD
BEGIN:DAYLIGHT
TZOFFSETFROM:-0600
TZOFFSETTO:-0500
TZNAME:CDT
DTSTART:20250309T080000
END:DAYLIGHT
BEGIN:STANDARD
TZOFFSETFROM:-0500
TZOFFSETTO:-0600
TZNAME:CST
DTSTART:20251102T070000
END:STANDARD
END:VTIMEZONE
BEGIN:VEVENT
DTSTART;TZID=America/Chicago:20241024T190000
DTEND;TZID=America/Chicago:20241024T190000
DTSTAMP:20260419T173438
CREATED:20240821T191851Z
LAST-MODIFIED:20240821T191854Z
UID:10001055-1729796400-1729796400@dekalbcountycvb.com
SUMMARY:NewsBoys - World Wide Revival Nights
DESCRIPTION:With a decades-spanning career and a vastly impressive catalog blending different styles\, genres\, and even band members at times\, Newsboys is a name within the Christian music space that can’t be ignored. Since the beginning of their careers\, Newsboys have propelled countless hits up the charts\, explored the universe of books and film\, and traveled millions of miles to bring their live show to as many corners of the world as possible; all while in constant pursuit of reinvention and inspiration in the midst of following their calling.
URL:https://dekalbcountycvb.com/dccvb-event/newsboys-world-wide-revival-nights/
LOCATION:Egyptian Theatre\, 135 North 2nd Street\, DeKalb\, IL\, 60115\, United States
CATEGORIES:Live Music
ATTACH;FMTTYPE=image/png:https://dekalbcountycvb.com/wp-content/uploads/2024/08/Newsboys_600x300-min.png
END:VEVENT
BEGIN:VEVENT
DTSTART;TZID=America/Chicago:20241025T170000
DTEND;TZID=America/Chicago:20241025T200000
DTSTAMP:20260419T173438
CREATED:20241007T185123Z
LAST-MODIFIED:20241007T185128Z
UID:10001116-1729875600-1729886400@dekalbcountycvb.com
SUMMARY:Let the Ghoul Times Stroll
DESCRIPTION:Get your Spooky on! Enter the costume contest for Scariest Costume\, Funniest Costume\, or Most Original Costume at Hidden Treasures & More. Win prizes donated by local businesses and enjoy specially created drinks to-go by our local restaurants & bars while perusing the spooky offerings in Downtown shops!
URL:https://dekalbcountycvb.com/dccvb-event/let-the-ghoul-times-stroll/
LOCATION:Downtown DeKalb\, DeKalb\, IL\, 60115\, United States
CATEGORIES:Family Friendly,Free Event,Live Music
ATTACH;FMTTYPE=image/jpeg:https://dekalbcountycvb.com/wp-content/uploads/2024/10/Let-the-Ghoul-Times-Stroll.jpg
END:VEVENT
BEGIN:VEVENT
DTSTART;TZID=America/Chicago:20241026T183000
DTEND;TZID=America/Chicago:20241026T193000
DTSTAMP:20260419T173438
CREATED:20240909T152220Z
LAST-MODIFIED:20240909T173855Z
UID:10001078-1729967400-1729971000@dekalbcountycvb.com
SUMMARY:After-hours Concert: Wild Blue Ukulele Orchestra
DESCRIPTION:Get spooky with the Wild Blue Ukulele Orchestra! Boogey to an after-hours Halloween concert that will delight all ages. Wild Blue Ukulele Orchestra performs orchestrated arrangements on a full range of ukuleles\, from the soprano to the UBass. Don’t miss this hauntingly fun evening of music. \nNo registration is required. This concert is free and open to all. Doors will open at 6:00 p.m. and music will begin at 6:30 p.m. Refreshments will be served! \nFor additional information\, please contact Samantha at samanthah@dkpl.org or at (815) 756-9568 ext. 1701.
URL:https://dekalbcountycvb.com/dccvb-event/after-hours-concert-wild-blue-ukulele-orchestra/
LOCATION:DeKalb Public Library\, 309 Oak St\, DeKalb\, IL\, 60115\, United States
CATEGORIES:Family Friendly,Free Event,Live Music
ATTACH;FMTTYPE=image/jpeg:https://dekalbcountycvb.com/wp-content/uploads/2024/09/Wild-Blue.jpg
ORGANIZER;CN="DeKalb Public Library":MAILTO:theresaw@dkpl.org
END:VEVENT
BEGIN:VEVENT
DTSTART;TZID=America/Chicago:20241026T200000
DTEND;TZID=America/Chicago:20241026T230000
DTSTAMP:20260419T173438
CREATED:20241007T192814Z
LAST-MODIFIED:20241007T192816Z
UID:10001119-1729972800-1729983600@dekalbcountycvb.com
SUMMARY:Halloween Party with Riplock
DESCRIPTION:Come celebrate Halloween at Olde Tyme Inn with Riplock! Don’t forget to wear your BEST Halloween costume! \n\n\n\nRIPLOCK\, consisting of Matthew Ripsch and Eli Somlock\, will be at Olde Tyme Inn in Sandwich playing the BEST of Country and Classic Rock Hits with additional surprises in the mix! 
URL:https://dekalbcountycvb.com/dccvb-event/halloween-party-with-riplock/
LOCATION:Olde Tyme Inn\, 109 S Main St.\, Sandwich\, Illinois\, 60548\, United States
CATEGORIES:Live Music
ATTACH;FMTTYPE=image/jpeg:https://dekalbcountycvb.com/wp-content/uploads/2024/10/Riplock-at-olde-tyme-inn.jpg
END:VEVENT
END:VCALENDAR