BEGIN:VCALENDAR
VERSION:2.0
PRODID:-//DeKalb County Convention and Visitors Bureau - ECPv6.15.17.1//NONSGML v1.0//EN
CALSCALE:GREGORIAN
METHOD:PUBLISH
X-ORIGINAL-URL:https://dekalbcountycvb.com
X-WR-CALDESC:Events for DeKalb County Convention and Visitors Bureau
REFRESH-INTERVAL;VALUE=DURATION:PT1H
X-Robots-Tag:noindex
X-PUBLISHED-TTL:PT1H
BEGIN:VTIMEZONE
TZID:America/Chicago
BEGIN:DAYLIGHT
TZOFFSETFROM:-0600
TZOFFSETTO:-0500
TZNAME:CDT
DTSTART:20230312T080000
END:DAYLIGHT
BEGIN:STANDARD
TZOFFSETFROM:-0500
TZOFFSETTO:-0600
TZNAME:CST
DTSTART:20231105T070000
END:STANDARD
BEGIN:DAYLIGHT
TZOFFSETFROM:-0600
TZOFFSETTO:-0500
TZNAME:CDT
DTSTART:20240310T080000
END:DAYLIGHT
BEGIN:STANDARD
TZOFFSETFROM:-0500
TZOFFSETTO:-0600
TZNAME:CST
DTSTART:20241103T070000
END:STANDARD
BEGIN:DAYLIGHT
TZOFFSETFROM:-0600
TZOFFSETTO:-0500
TZNAME:CDT
DTSTART:20250309T080000
END:DAYLIGHT
BEGIN:STANDARD
TZOFFSETFROM:-0500
TZOFFSETTO:-0600
TZNAME:CST
DTSTART:20251102T070000
END:STANDARD
END:VTIMEZONE
BEGIN:VEVENT
DTSTART;TZID=America/Chicago:20240827T193000
DTEND;TZID=America/Chicago:20240827T210000
DTSTAMP:20260419T185258
CREATED:20240806T005905Z
LAST-MODIFIED:20240807T164346Z
UID:10001027-1724787000-1724792400@dekalbcountycvb.com
SUMMARY:Jazz in Progress – Swingin’ the Bandshell 2024
DESCRIPTION:Jazz in Progress will perform their annual free summer Swingin’ the Bandshell concert at 7:30 p.m. Tuesday\, August 27th at the Dee Palmer Bandshell in Hopkins Park\, 1403 Sycamore Rd.\, DeKalb\, IL. \nMaking music together in the area for over 11 years\, the 18-piece community jazz band will play a variety of music including classic jazz standards\, Swing-era\, funk from the 1960s and ‘70s\, as well as other favorites. The band will also feature a number of vocal and instrumental soloists from within the members of the ensemble. \nJazz in Progress was formed for musical\, charitable\, and educational purposes to support its mission to advance the appreciation\, performance\, and history of jazz music and its related genres. An official 501(c)(3) nonprofit organization\, they put funds raised back into local community music programs\, including the DeKalb\, Sycamore\, Genoa-Kingston\, Hinckley-Big Rock\, Indian Creek\, Sandwich\, Somonauk\, Earlville\, Leland\, St. Mary’s-DeKalb school districts as well as the DeKalb County Community Foundation. \nFor information on Jazz in Progress\, call 815-751-0006\, like the band on Facebook\, or find their website at jazzinprogress.org.
URL:https://dekalbcountycvb.com/dccvb-event/jazz-in-progress-swingin-the-bandshell-2024/
LOCATION:Hopkins Park Band Shell\, 1403 Sycamore Road\, DeKalb\, IL\, 60115\, United States
CATEGORIES:Free Event,Live Music
ATTACH;FMTTYPE=image/jpeg:https://dekalbcountycvb.com/wp-content/uploads/2024/08/Jazz-in-Progress.jpg
END:VEVENT
BEGIN:VEVENT
DTSTART;TZID=America/Chicago:20240829T100000
DTEND;TZID=America/Chicago:20240829T140000
DTSTAMP:20260419T185258
CREATED:20240625T163008Z
LAST-MODIFIED:20240627T164917Z
UID:10000645-1724925600-1724940000@dekalbcountycvb.com
SUMMARY:DeKalb Farmers' Market
DESCRIPTION:The DeKalb Farmers’ Market is in the heart of Downtown DeKalb\, Illinois\, and features vendors that provide the community with locally grown produce\, bread\, baked goods\, olive oil\, honey\, coffee\, flowers\, food trucks\, and live music. Enjoy and support over 25 local vendors. Cash\, credit\, and Link are accepted. They Link Match so Link card holders can purchase up to $50 worth of produce for $25! Visit the Information Booth on market days for Link tokens and Link Match to use at qualifying vendors. \n\n\n\nLearn more at dekalb.org/dekalb-farmers-market/.
URL:https://dekalbcountycvb.com/dccvb-event/dekalb-farmers-market/2024-08-29/
LOCATION:Van Buer Plaza\, 148-198 N 2nd St\, DeKalb\, IL\, 60115\, United States
CATEGORIES:Farmers' Markets,Live Music
ATTACH;FMTTYPE=image/png:https://dekalbcountycvb.com/wp-content/uploads/2024/06/dekalb-farmers1-300x300-1.png
ORGANIZER;CN="DeKalb Chamber of Commerce":MAILTO:chamber@dekalb.org
END:VEVENT
BEGIN:VEVENT
DTSTART;TZID=America/Chicago:20240830T183000
DTEND;TZID=America/Chicago:20240830T193000
DTSTAMP:20260419T185258
CREATED:20240710T160716Z
LAST-MODIFIED:20240730T203725Z
UID:10001016-1725042600-1725046200@dekalbcountycvb.com
SUMMARY:After-hours Concert: The Twangtown Paramours
DESCRIPTION:The Twangtown Paramours are a national touring\, award-winning husband and wife duo and band from Nashville. Their music is a blend of Nashville\, New York\, and Austin influences and has been called “Soulful Americana”. Join the DeKalb Public Library in the main lobby as they welcome this band for the first time to perform an after-hours concert! \nSome of the Twangtown Paramours’ tunes are poetic\, but many are just a whole lot of fun. Recently\, other artists have begun recording their songs. They are 3-time Kerrville New Folk finalists and winners of the Wildflower Contest in Richardson\, TX. Their newest full band album\, “Double Down on a Bad Thing” was #11 on the U.K Indie Blues chart last year and #18 on the U.S. RMR Contemporary Blues chart. \nMaryBeth sang background vocals for the late Eva Cassidy. Mike is a session musician\, songwriter\, and producer\, and is the author of a #1 platinum selling pop ballad in Korea. He also sometimes plays upright bass for Jimmie Dale Gilmore. \nThis concert is free and open to all. It is sponsored by the Friends of the Library. Doors will open at 6:00 p.m. and music will begin at 6:30 p.m. Refreshments will be served. \nFor additional information\, please contact Samantha at samanthah@dkpl.org or at (815) 756-9568 ext. 1701. \n\n\n\nLearn More
URL:https://dekalbcountycvb.com/dccvb-event/after-hours-concert-the-twangtown-paramours/
LOCATION:DeKalb Public Library\, 309 Oak St\, DeKalb\, IL\, 60115\, United States
CATEGORIES:Family Friendly,Free Event,LGBTQ Friendly,Live Music
ATTACH;FMTTYPE=image/jpeg:https://dekalbcountycvb.com/wp-content/uploads/2024/07/twangtown.jpg
ORGANIZER;CN="DeKalb Public Library":MAILTO:theresaw@dkpl.org
END:VEVENT
BEGIN:VEVENT
DTSTART;TZID=America/Chicago:20240831T190000
DTEND;TZID=America/Chicago:20240831T220000
DTSTAMP:20260419T185258
CREATED:20240625T182303Z
LAST-MODIFIED:20240807T153626Z
UID:10000715-1725130800-1725141600@dekalbcountycvb.com
SUMMARY:Whiskey Romance at Warehouse on Park
DESCRIPTION:Whiskey Romance will be performing at Warehouse on Park on August 31st from 7:00pm-10:00pm. More information is available on the Warehouse on Park website.
URL:https://dekalbcountycvb.com/dccvb-event/whiskey-romance-at-warehouse-on-park/
LOCATION:Warehouse on Park\, 662 Park Ave\, Genoa\, IL\, 60135\, United States
CATEGORIES:Live Music
ATTACH;FMTTYPE=image/jpeg:https://dekalbcountycvb.com/wp-content/uploads/2024/06/EVENT2024.jpg
END:VEVENT
END:VCALENDAR