BEGIN:VCALENDAR
VERSION:2.0
PRODID:-//DeKalb County Convention and Visitors Bureau - ECPv6.15.17.1//NONSGML v1.0//EN
CALSCALE:GREGORIAN
METHOD:PUBLISH
X-ORIGINAL-URL:https://dekalbcountycvb.com
X-WR-CALDESC:Events for DeKalb County Convention and Visitors Bureau
REFRESH-INTERVAL;VALUE=DURATION:PT1H
X-Robots-Tag:noindex
X-PUBLISHED-TTL:PT1H
BEGIN:VTIMEZONE
TZID:America/Chicago
BEGIN:DAYLIGHT
TZOFFSETFROM:-0600
TZOFFSETTO:-0500
TZNAME:CDT
DTSTART:20230312T080000
END:DAYLIGHT
BEGIN:STANDARD
TZOFFSETFROM:-0500
TZOFFSETTO:-0600
TZNAME:CST
DTSTART:20231105T070000
END:STANDARD
BEGIN:DAYLIGHT
TZOFFSETFROM:-0600
TZOFFSETTO:-0500
TZNAME:CDT
DTSTART:20240310T080000
END:DAYLIGHT
BEGIN:STANDARD
TZOFFSETFROM:-0500
TZOFFSETTO:-0600
TZNAME:CST
DTSTART:20241103T070000
END:STANDARD
BEGIN:DAYLIGHT
TZOFFSETFROM:-0600
TZOFFSETTO:-0500
TZNAME:CDT
DTSTART:20250309T080000
END:DAYLIGHT
BEGIN:STANDARD
TZOFFSETFROM:-0500
TZOFFSETTO:-0600
TZNAME:CST
DTSTART:20251102T070000
END:STANDARD
END:VTIMEZONE
BEGIN:VEVENT
DTSTART;TZID=America/Chicago:20240811T120000
DTEND;TZID=America/Chicago:20240811T150000
DTSTAMP:20260419T185252
CREATED:20240625T191547Z
LAST-MODIFIED:20240625T191548Z
UID:10000792-1723377600-1723388400@dekalbcountycvb.com
SUMMARY:The Cave Dwellers at Warehouse on Park
DESCRIPTION:The Cave Dwellers will be performing at Warehouse on Park on August 11th from 12:00pm-3:00pm. More information is available on the Warehouse on Park website.
URL:https://dekalbcountycvb.com/dccvb-event/the-cave-dwellers-at-warehouse-on-park/
LOCATION:Warehouse on Park\, 662 Park Ave\, Genoa\, IL\, 60135\, United States
CATEGORIES:Live Music
ATTACH;FMTTYPE=image/jpeg:https://dekalbcountycvb.com/wp-content/uploads/2024/06/warehouse-on-park-300x300-1.jpg
END:VEVENT
BEGIN:VEVENT
DTSTART;TZID=America/Chicago:20240811T120000
DTEND;TZID=America/Chicago:20240811T160000
DTSTAMP:20260419T185252
CREATED:20240731T162739Z
LAST-MODIFIED:20240731T162854Z
UID:10001022-1723377600-1723392000@dekalbcountycvb.com
SUMMARY:Downtown DeKalb Birthday Bash
DESCRIPTION:Downtown DeKalb Businesses Birthday Bash! Stop by from 12-4pm to enjoy live music\, specials\, and tasty treats!  \n\n\n\nFood vendors featured: Keep it Poppin’\, Main Squeeze Lemonade\, Sweet Butts\, Big D’s Hotdogs
URL:https://dekalbcountycvb.com/dccvb-event/downtown-dekalb-birthday-bash/
LOCATION:Downtown DeKalb\, DeKalb\, IL\, 60115\, United States
CATEGORIES:Family Friendly,Live Music
ATTACH;FMTTYPE=image/jpeg:https://dekalbcountycvb.com/wp-content/uploads/2024/07/Downtown-DeKalb-Birthday-Bash.jpg
END:VEVENT
BEGIN:VEVENT
DTSTART;TZID=America/Chicago:20240813T193000
DTEND;TZID=America/Chicago:20240813T213000
DTSTAMP:20260419T185252
CREATED:20240625T183624Z
LAST-MODIFIED:20240627T164812Z
UID:10000727-1723577400-1723584600@dekalbcountycvb.com
SUMMARY:DeKalb Municipal Band Concert
DESCRIPTION:Concerts begin at 7:30 pm at the Dee Palmer Bandshell in Hopkins Park • FREE! \n\n\n\nJoin the DeKalb Park District for the 170th season of DeKalb Municipal Band Concerts on select Tuesday nights this summer!Visit dekalbparkdistrict.com/calendar for featured vocalists and more concert details. No concert on Tuesday\, July 2\, but join them for the Star-Spangled Spectacular on July 4 in Hopkins Park as part of the annual Fourth of July Celebration! \n\n\n\nJune 11 – Opening Night! Vocalist: Gavin Wilson \n\n\n\nJune 18 – Vocalist: Jill McCormick \n\n\n\nJune 25 – A Trip to the Theater – Vocalist: Maureen Christine \n\n\n\nJuly 4 – The Star Spangled Spectacular – Vocalist: Christine Monteiro \n\n\n\nJuly 9 – Vocalist: Mark Robinson \n\n\n\nJuly 16 – Vocalist: Jordan Pedigo \n\n\n\nJuly 23 – Cinemagic – Vocalist: Terri Goodman \n\n\n\nJuly 30 – Vocalist: Bethany Brewer \n\n\n\nAugust 6 – A Musical Journey – Vocalist: Gregor King \n\n\n\nAugust 13 – Vocalist: Deanna Tausch \n\n\n\nAugust 20 – Closing night – Vocalist: Zachary Harris
URL:https://dekalbcountycvb.com/dccvb-event/dekalb-municipal-band-concert/2024-08-13/
LOCATION:Hopkins Park Band Shell\, 1403 Sycamore Road\, DeKalb\, IL\, 60115\, United States
CATEGORIES:Family Friendly,Free Event,LGBTQ Friendly,Live Music
ATTACH;FMTTYPE=image/jpeg:https://dekalbcountycvb.com/wp-content/uploads/2024/06/2024-Dekalb-Municipal-Band-Poster-8-5x11-1-300x300-1.jpg
END:VEVENT
BEGIN:VEVENT
DTSTART;TZID=America/Chicago:20240815T100000
DTEND;TZID=America/Chicago:20240815T140000
DTSTAMP:20260419T185252
CREATED:20240625T163008Z
LAST-MODIFIED:20240627T164917Z
UID:10000643-1723716000-1723730400@dekalbcountycvb.com
SUMMARY:DeKalb Farmers' Market
DESCRIPTION:The DeKalb Farmers’ Market is in the heart of Downtown DeKalb\, Illinois\, and features vendors that provide the community with locally grown produce\, bread\, baked goods\, olive oil\, honey\, coffee\, flowers\, food trucks\, and live music. Enjoy and support over 25 local vendors. Cash\, credit\, and Link are accepted. They Link Match so Link card holders can purchase up to $50 worth of produce for $25! Visit the Information Booth on market days for Link tokens and Link Match to use at qualifying vendors. \n\n\n\nLearn more at dekalb.org/dekalb-farmers-market/.
URL:https://dekalbcountycvb.com/dccvb-event/dekalb-farmers-market/2024-08-15/
LOCATION:Van Buer Plaza\, 148-198 N 2nd St\, DeKalb\, IL\, 60115\, United States
CATEGORIES:Farmers' Markets,Live Music
ATTACH;FMTTYPE=image/png:https://dekalbcountycvb.com/wp-content/uploads/2024/06/dekalb-farmers1-300x300-1.png
ORGANIZER;CN="DeKalb Chamber of Commerce":MAILTO:chamber@dekalb.org
END:VEVENT
BEGIN:VEVENT
DTSTART;TZID=America/Chicago:20240815T180000
DTEND;TZID=America/Chicago:20240815T200000
DTSTAMP:20260419T185252
CREATED:20240625T190845Z
LAST-MODIFIED:20240625T190846Z
UID:10000790-1723744800-1723752000@dekalbcountycvb.com
SUMMARY:Hinckley Concert Series
DESCRIPTION:The Hinckley Historical Society invites the public to its summer band concert series at the Hinckley Community Building Park. The free concerts from 6 to 8 p.m. feature a variety of music in a Ravinia Style setting at 100 N Maple Street\, Hinckley. Bring your lawn chair\, snacks\, and enjoy the small town atmosphere. \n\n\n\nOn Wednesday June 12\, the NIU Steelband will provide a variety of music styles featuring the steelpan\, the national instrument of Trinidad and Tobago. The concert will present music from the Caribbean that will relax and soothe the sole. \n\n\n\nOn Thursday June 27\, Shade Tree Music Company will perform country\, pop\, rock and patriotic music. The popular local group plays favorite tunes from various decades and will put you in the mood to celebrate our country’s birthday. The Hinckley Festival and Fireworks is planned for Saturday June 29. \n\n\n\nOn Tuesday July 16\, Ed Wagner’s German Brass Band will entertain with polkas and waltzes from their repertoire of over 600 German\, Austrian\, and Czech music. The 8-piece group is the only authentic German Polka band in the Chicagoland area. \n\n\n\nThe series ends on Thursday August 15\, when Gavin Coyle’s Irish Band entertains with traditional songs from Ireland and American Irish favorites. Gavin\, a native of Derry\, Northern Ireland\, will captivate with his stories\, songs\, and instruments. \n\n\n\nThe Hinckley Historical Society concerts are meant to recall a time in our history when the community gathered to relax\, enjoy free musical entertainment\, and celebrate their successes. The concerts are made possible by grants from the Farny R. Wurlitzer Foundation and Resource Bank. \n\n\n\nFor further information\, contact Bob Pritchard (815-761-4058) or hinckleyhistoricalsociety@gmail.com
URL:https://dekalbcountycvb.com/dccvb-event/hinckley-concert-series/2024-08-15/
LOCATION:Hinckley Public Library\, 100 N Maple Street\, Hinckley\, Illinois\, 60520\, United States
CATEGORIES:Family Friendly,Free Event,Live Music
ATTACH;FMTTYPE=image/jpeg:https://dekalbcountycvb.com/wp-content/uploads/2024/06/thumbnail_Fox-Valley-Music-Consortium-300x300-1.jpg
END:VEVENT
BEGIN:VEVENT
DTSTART;TZID=America/Chicago:20240817T140000
DTEND;TZID=America/Chicago:20240817T150000
DTSTAMP:20260419T185252
CREATED:20240710T155944Z
LAST-MODIFIED:20240730T203328Z
UID:10001014-1723903200-1723906800@dekalbcountycvb.com
SUMMARY:Jersey Brothers
DESCRIPTION:The Jersey Brothers perform music from Frankie Valli and The Four Seasons\, and their contemporaries\, with historical notes from the groups popular and on-going career. \nSeasoned performers\, Norm and Randy Murray have appeared on the same bill as The Four Seasons\, Johnny Rivers\, Jerry Lee Lewis\, The Diamonds\, and Bill Haleys Comets. \nThis event is free and open to all. No registration is required. \nFor additional information\, please contact Samantha at samanthah@dkpl.org or at (815) 756-9568 ext. 1701. \n\n\n\nLearn More
URL:https://dekalbcountycvb.com/dccvb-event/jersey-brothers/
LOCATION:DeKalb Public Library\, 309 Oak St\, DeKalb\, IL\, 60115\, United States
CATEGORIES:Family Friendly,Free Event,LGBTQ Friendly,Live Music
ATTACH;FMTTYPE=image/jpeg:https://dekalbcountycvb.com/wp-content/uploads/2024/07/jersey.jpg
ORGANIZER;CN="DeKalb Public Library":MAILTO:theresaw@dkpl.org
END:VEVENT
BEGIN:VEVENT
DTSTART;TZID=America/Chicago:20240817T190000
DTEND;TZID=America/Chicago:20240817T220000
DTSTAMP:20260419T185252
CREATED:20240625T184755Z
LAST-MODIFIED:20240625T184756Z
UID:10000783-1723921200-1723932000@dekalbcountycvb.com
SUMMARY:Mr Myers at Warehouse on Park
DESCRIPTION:Mr Myers will be performing at Warehouse on Park on August 17th from 7:00pm-10:00pm. More information is available on the Warehouse on Park website.
URL:https://dekalbcountycvb.com/dccvb-event/mr-myers-at-warehouse-on-park/
LOCATION:Warehouse on Park\, 662 Park Ave\, Genoa\, IL\, 60135\, United States
CATEGORIES:Live Music
ATTACH;FMTTYPE=image/jpeg:https://dekalbcountycvb.com/wp-content/uploads/2024/06/warehouse-on-park-300x300-1.jpg
END:VEVENT
END:VCALENDAR