BEGIN:VCALENDAR
VERSION:2.0
PRODID:-//DeKalb County Convention and Visitors Bureau - ECPv6.15.17.1//NONSGML v1.0//EN
CALSCALE:GREGORIAN
METHOD:PUBLISH
X-WR-CALNAME:DeKalb County Convention and Visitors Bureau
X-ORIGINAL-URL:https://dekalbcountycvb.com
X-WR-CALDESC:Events for DeKalb County Convention and Visitors Bureau
REFRESH-INTERVAL;VALUE=DURATION:PT1H
X-Robots-Tag:noindex
X-PUBLISHED-TTL:PT1H
BEGIN:VTIMEZONE
TZID:America/Chicago
BEGIN:DAYLIGHT
TZOFFSETFROM:-0600
TZOFFSETTO:-0500
TZNAME:CDT
DTSTART:20230312T080000
END:DAYLIGHT
BEGIN:STANDARD
TZOFFSETFROM:-0500
TZOFFSETTO:-0600
TZNAME:CST
DTSTART:20231105T070000
END:STANDARD
BEGIN:DAYLIGHT
TZOFFSETFROM:-0600
TZOFFSETTO:-0500
TZNAME:CDT
DTSTART:20240310T080000
END:DAYLIGHT
BEGIN:STANDARD
TZOFFSETFROM:-0500
TZOFFSETTO:-0600
TZNAME:CST
DTSTART:20241103T070000
END:STANDARD
BEGIN:DAYLIGHT
TZOFFSETFROM:-0600
TZOFFSETTO:-0500
TZNAME:CDT
DTSTART:20250309T080000
END:DAYLIGHT
BEGIN:STANDARD
TZOFFSETFROM:-0500
TZOFFSETTO:-0600
TZNAME:CST
DTSTART:20251102T070000
END:STANDARD
END:VTIMEZONE
BEGIN:VEVENT
DTSTART;TZID=America/Chicago:20240728T120000
DTEND;TZID=America/Chicago:20240728T150000
DTSTAMP:20260419T201127
CREATED:20240625T201354Z
LAST-MODIFIED:20240625T201355Z
UID:10000813-1722168000-1722178800@dekalbcountycvb.com
SUMMARY:Beggars Banquet at Warehouse on Park
DESCRIPTION:Beggars Banquet\, a Rolling Stones tribute band\, will be performing at Warehouse on Park on July 28th from 12:00pm-3:00pm. More information is available on the Warehouse on Park website.
URL:https://dekalbcountycvb.com/dccvb-event/beggars-banquet-at-warehouse-on-park/
LOCATION:Warehouse on Park\, 662 Park Ave\, Genoa\, IL\, 60135\, United States
CATEGORIES:Live Music
ATTACH;FMTTYPE=image/jpeg:https://dekalbcountycvb.com/wp-content/uploads/2024/06/warehouse-on-park-300x300-1.jpg
END:VEVENT
BEGIN:VEVENT
DTSTART;TZID=America/Chicago:20240730T193000
DTEND;TZID=America/Chicago:20240730T213000
DTSTAMP:20260419T201127
CREATED:20240625T183624Z
LAST-MODIFIED:20240627T164812Z
UID:10000725-1722367800-1722375000@dekalbcountycvb.com
SUMMARY:DeKalb Municipal Band Concert
DESCRIPTION:Concerts begin at 7:30 pm at the Dee Palmer Bandshell in Hopkins Park • FREE! \n\n\n\nJoin the DeKalb Park District for the 170th season of DeKalb Municipal Band Concerts on select Tuesday nights this summer!Visit dekalbparkdistrict.com/calendar for featured vocalists and more concert details. No concert on Tuesday\, July 2\, but join them for the Star-Spangled Spectacular on July 4 in Hopkins Park as part of the annual Fourth of July Celebration! \n\n\n\nJune 11 – Opening Night! Vocalist: Gavin Wilson \n\n\n\nJune 18 – Vocalist: Jill McCormick \n\n\n\nJune 25 – A Trip to the Theater – Vocalist: Maureen Christine \n\n\n\nJuly 4 – The Star Spangled Spectacular – Vocalist: Christine Monteiro \n\n\n\nJuly 9 – Vocalist: Mark Robinson \n\n\n\nJuly 16 – Vocalist: Jordan Pedigo \n\n\n\nJuly 23 – Cinemagic – Vocalist: Terri Goodman \n\n\n\nJuly 30 – Vocalist: Bethany Brewer \n\n\n\nAugust 6 – A Musical Journey – Vocalist: Gregor King \n\n\n\nAugust 13 – Vocalist: Deanna Tausch \n\n\n\nAugust 20 – Closing night – Vocalist: Zachary Harris
URL:https://dekalbcountycvb.com/dccvb-event/dekalb-municipal-band-concert/2024-07-30/
LOCATION:Hopkins Park Band Shell\, 1403 Sycamore Road\, DeKalb\, IL\, 60115\, United States
CATEGORIES:Family Friendly,Free Event,LGBTQ Friendly,Live Music
ATTACH;FMTTYPE=image/jpeg:https://dekalbcountycvb.com/wp-content/uploads/2024/06/2024-Dekalb-Municipal-Band-Poster-8-5x11-1-300x300-1.jpg
END:VEVENT
BEGIN:VEVENT
DTSTART;TZID=America/Chicago:20240801T100000
DTEND;TZID=America/Chicago:20240801T140000
DTSTAMP:20260419T201127
CREATED:20240625T163008Z
LAST-MODIFIED:20240627T164917Z
UID:10000641-1722506400-1722520800@dekalbcountycvb.com
SUMMARY:DeKalb Farmers' Market
DESCRIPTION:The DeKalb Farmers’ Market is in the heart of Downtown DeKalb\, Illinois\, and features vendors that provide the community with locally grown produce\, bread\, baked goods\, olive oil\, honey\, coffee\, flowers\, food trucks\, and live music. Enjoy and support over 25 local vendors. Cash\, credit\, and Link are accepted. They Link Match so Link card holders can purchase up to $50 worth of produce for $25! Visit the Information Booth on market days for Link tokens and Link Match to use at qualifying vendors. \n\n\n\nLearn more at dekalb.org/dekalb-farmers-market/.
URL:https://dekalbcountycvb.com/dccvb-event/dekalb-farmers-market/2024-08-01/
LOCATION:Van Buer Plaza\, 148-198 N 2nd St\, DeKalb\, IL\, 60115\, United States
CATEGORIES:Farmers' Markets,Live Music
ATTACH;FMTTYPE=image/png:https://dekalbcountycvb.com/wp-content/uploads/2024/06/dekalb-farmers1-300x300-1.png
ORGANIZER;CN="DeKalb Chamber of Commerce":MAILTO:chamber@dekalb.org
END:VEVENT
BEGIN:VEVENT
DTSTART;TZID=America/Chicago:20240801T190000
DTEND;TZID=America/Chicago:20240801T203000
DTSTAMP:20260419T201127
CREATED:20240625T201124Z
LAST-MODIFIED:20240627T171318Z
UID:10000812-1722538800-1722544200@dekalbcountycvb.com
SUMMARY:Summer Concert Series
DESCRIPTION:Immerse yourself in the magic of live music surrounded by the beauty of nature for an evening of great tunes and togetherness! FREE. Bring seating or a blanket. Food from the grill including burgers\, hot dogs\, and brats as well as snacks\, beer\, and wine are available for purchase (cash or credit).
URL:https://dekalbcountycvb.com/dccvb-event/summer-concert-series-2/
LOCATION:Citizens Memorial Sports Complex\, 435 Airport Road\, Sycamore\, IL\, 60178\, United States
CATEGORIES:Live Music
ATTACH;FMTTYPE=image/jpeg:https://dekalbcountycvb.com/wp-content/uploads/2024/06/Summer-Concert-Series-Calendar-01-01-011-300x300-1.jpg
ORGANIZER;CN="Sycamore Park District":MAILTO:info@sycparks.org
END:VEVENT
BEGIN:VEVENT
DTSTART;TZID=America/Chicago:20240802T183000
DTEND;TZID=America/Chicago:20240802T193000
DTSTAMP:20260419T201127
CREATED:20240710T153704Z
LAST-MODIFIED:20240710T195640Z
UID:10000994-1722623400-1722627000@dekalbcountycvb.com
SUMMARY:After-hours Concert: Jazz in Progress
DESCRIPTION:Jazz in Progress joins the DeKalb Public Library for an after-hours concert that will feature different styles of big band and modern jazz music in the library’s main lobby! \nJazz in Progress (JIP) organized in 2012 to encourage local musicians to play jazz in support of its mission of musical\, charitable\, and educational purposes to advance the appreciation\, performance\, and history of jazz music and its related genres. Its membership includes a variety of talented musicians from the DeKalb County area. The ensemble also honors the practice of inviting local high school and college jazz musicians to sit in with the band\, giving young musicians an opportunity to gain more experience in playing jazz music. \nJIP is an official 501(c)(3) nonprofit organization that puts funds raised back into local community music programs. Past recipients of JIP donations include the DeKalb\, Genoa-Kingston\, Hinckley-Big Rock\, Indian Creek and Sycamore music booster organizations\, as well as St. Mary’s-DeKalb and the DeKalb County Community Foundation. \nJIP has performed at benefit and fund raising events and venues around the area including the St. Mary’s Lancer Legacy Ball\, Sycamore Natural History Museum’s Rockin’ for the Reptiles\, Stage Coach Theatre\, Sycamore Farmers Market\, Northwestern Medicine Kishwaukee Hospital\, Artigras\, The House Café\, and Oak Crest Senior Proms. The band also has performed with the Celebration Chorale and at many other community and charity events. \nThis concert is free and open to all. No registration is required. Doors will open at 6:00 p.m. and music will begin at 6:30 p.m. \nFor additional information\, please contact Samantha at samanthah@dkpl.org or at (815) 756-9568 ext. 1701. \n\n\n\nLearn more
URL:https://dekalbcountycvb.com/dccvb-event/after-hours-concert-jazz-in-progress/
LOCATION:DeKalb Public Library\, 309 Oak St\, DeKalb\, IL\, 60115\, United States
CATEGORIES:Family Friendly,Free Event,LGBTQ Friendly,Live Music
ATTACH;FMTTYPE=image/jpeg:https://dekalbcountycvb.com/wp-content/uploads/2024/07/jazz.jpg
ORGANIZER;CN="DeKalb Public Library":MAILTO:theresaw@dkpl.org
END:VEVENT
BEGIN:VEVENT
DTSTART;TZID=America/Chicago:20240803T190000
DTEND;TZID=America/Chicago:20240803T220000
DTSTAMP:20260419T201127
CREATED:20240625T200411Z
LAST-MODIFIED:20240625T200412Z
UID:10000809-1722711600-1722722400@dekalbcountycvb.com
SUMMARY:Lynskynyrd at Warehouse on Park
DESCRIPTION:Lynskynyrd\, a Lynyrd tribute band\, will be performing at Warehouse on Park on August 3rd from 7:00pm-10:00pm. More information is available on the Warehouse on Park website. 
URL:https://dekalbcountycvb.com/dccvb-event/lynskynyrd-at-warehouse-on-park/
LOCATION:Warehouse on Park\, 662 Park Ave\, Genoa\, IL\, 60135\, United States
CATEGORIES:Live Music
ATTACH;FMTTYPE=image/jpeg:https://dekalbcountycvb.com/wp-content/uploads/2024/06/warehouse-on-park-300x300-1.jpg
END:VEVENT
END:VCALENDAR