BEGIN:VCALENDAR
VERSION:2.0
PRODID:-//DeKalb County Convention and Visitors Bureau - ECPv6.15.17.1//NONSGML v1.0//EN
CALSCALE:GREGORIAN
METHOD:PUBLISH
X-ORIGINAL-URL:https://dekalbcountycvb.com
X-WR-CALDESC:Events for DeKalb County Convention and Visitors Bureau
REFRESH-INTERVAL;VALUE=DURATION:PT1H
X-Robots-Tag:noindex
X-PUBLISHED-TTL:PT1H
BEGIN:VTIMEZONE
TZID:America/Chicago
BEGIN:DAYLIGHT
TZOFFSETFROM:-0600
TZOFFSETTO:-0500
TZNAME:CDT
DTSTART:20230312T080000
END:DAYLIGHT
BEGIN:STANDARD
TZOFFSETFROM:-0500
TZOFFSETTO:-0600
TZNAME:CST
DTSTART:20231105T070000
END:STANDARD
BEGIN:DAYLIGHT
TZOFFSETFROM:-0600
TZOFFSETTO:-0500
TZNAME:CDT
DTSTART:20240310T080000
END:DAYLIGHT
BEGIN:STANDARD
TZOFFSETFROM:-0500
TZOFFSETTO:-0600
TZNAME:CST
DTSTART:20241103T070000
END:STANDARD
BEGIN:DAYLIGHT
TZOFFSETFROM:-0600
TZOFFSETTO:-0500
TZNAME:CDT
DTSTART:20250309T080000
END:DAYLIGHT
BEGIN:STANDARD
TZOFFSETFROM:-0500
TZOFFSETTO:-0600
TZNAME:CST
DTSTART:20251102T070000
END:STANDARD
END:VTIMEZONE
BEGIN:VEVENT
DTSTART;TZID=America/Chicago:20241208T130000
DTEND;TZID=America/Chicago:20241208T160000
DTSTAMP:20260419T094335
CREATED:20241126T173902Z
LAST-MODIFIED:20241127T231356Z
UID:10001218-1733662800-1733673600@dekalbcountycvb.com
SUMMARY:Ellwood House Museum Holiday Traditions
DESCRIPTION:With a long history of hosting holiday magic\, the Ellwood House museum is pleased to announce the 57th annual Holiday Traditions celebration. The Ellwood House will be open for self-guided tours of the beautifully decorated rooms. This year\, they are also thrilled to offer tours of the fully decorated 1st floor of Ellcourt\, the second historic home on the property. During the event\, Santa will be available for photos in the Patience Ellwood Towle Visitor Center\, alongside a desserts table. Musicians will play throughout the evening in both houses. \nRooms are decorated with the help of organizations\, groups\, individuals\, and Ellwood House Staff.
URL:https://dekalbcountycvb.com/dccvb-event/ellwood-house-museum-holiday-traditions/2024-12-08/
LOCATION:Ellwood House\, 420 Linden Place\, DeKalb\, IL\, 60115\, United States
CATEGORIES:Adult,Family Friendly,Live Music
ATTACH;FMTTYPE=image/jpeg:https://dekalbcountycvb.com/wp-content/uploads/2024/11/DSC_1435-scaled.jpg
ORGANIZER;CN="Ellwood House":MAILTO:king@ellwoodhouse.org
END:VEVENT
BEGIN:VEVENT
DTSTART;TZID=America/Chicago:20241208T140000
DTEND;TZID=America/Chicago:20241208T150000
DTSTAMP:20260419T094335
CREATED:20241121T000830Z
LAST-MODIFIED:20241122T214907Z
UID:10001214-1733666400-1733670000@dekalbcountycvb.com
SUMMARY:Celebration Chorale Christmas Cantata
DESCRIPTION:The Celebration Chorale announces its upcoming annual Christmas cantata\, “The Song of Bethlehem” which will be presented at 7:00 p.m. Saturday\, December 7th and Sunday\, December 8th at 2:00 p.m. The production will be held at First United Methodist Church\, 2501 North Annie Glidden Road in DeKalb. \n“The Song of Bethlehem” is a celebratory collection of new songs and familiar carols that culminate with the adoration of the newborn baby.  Also included in the cantata is a collection of three seasonal favorites from the “Home Alone” movie series.  The Celebration Chorale is under the direction of Christine Monteiro. \nAlthough the Celebration Chorale practices and performs at FUMC in DeKalb\, the musicians come from all over the area and include professionals and amateurs\, longtime Chorale members\, and those who are new to the group. The Chorale has singers representing over nine different church denominations and 10 local communities. \nThere is no charge for the performances at the church\, but a free-will offering will be taken. The church is an accessible facility. Parking is available adjacent to the church building. \nFor information about the concerts\, or for information on joining the Celebration Chorale\, email thecelebrationchorale@gmail.com; call Sally Mullis\, Celebration Chorale Leadership Team President at (815) 739-6087 or visit their Facebook page at The Celebration Chorale.
URL:https://dekalbcountycvb.com/dccvb-event/celebration-chorale-christmas-cantata/2024-12-08/
LOCATION:First United Methodist Church of DeKalb\, 317 N 4th Street\, DeKalb\, IL\, 60115\, United States
CATEGORIES:Live Music
ATTACH;FMTTYPE=image/jpeg:https://dekalbcountycvb.com/wp-content/uploads/2024/11/The-Celebration-Chorale-2024.jpg
END:VEVENT
END:VCALENDAR