BEGIN:VCALENDAR
VERSION:2.0
PRODID:-//DeKalb County Convention and Visitors Bureau - ECPv6.15.17.1//NONSGML v1.0//EN
CALSCALE:GREGORIAN
METHOD:PUBLISH
X-WR-CALNAME:DeKalb County Convention and Visitors Bureau
X-ORIGINAL-URL:https://dekalbcountycvb.com
X-WR-CALDESC:Events for DeKalb County Convention and Visitors Bureau
REFRESH-INTERVAL;VALUE=DURATION:PT1H
X-Robots-Tag:noindex
X-PUBLISHED-TTL:PT1H
BEGIN:VTIMEZONE
TZID:America/Chicago
BEGIN:DAYLIGHT
TZOFFSETFROM:-0600
TZOFFSETTO:-0500
TZNAME:CDT
DTSTART:20230312T080000
END:DAYLIGHT
BEGIN:STANDARD
TZOFFSETFROM:-0500
TZOFFSETTO:-0600
TZNAME:CST
DTSTART:20231105T070000
END:STANDARD
BEGIN:DAYLIGHT
TZOFFSETFROM:-0600
TZOFFSETTO:-0500
TZNAME:CDT
DTSTART:20240310T080000
END:DAYLIGHT
BEGIN:STANDARD
TZOFFSETFROM:-0500
TZOFFSETTO:-0600
TZNAME:CST
DTSTART:20241103T070000
END:STANDARD
BEGIN:DAYLIGHT
TZOFFSETFROM:-0600
TZOFFSETTO:-0500
TZNAME:CDT
DTSTART:20250309T080000
END:DAYLIGHT
BEGIN:STANDARD
TZOFFSETFROM:-0500
TZOFFSETTO:-0600
TZNAME:CST
DTSTART:20251102T070000
END:STANDARD
END:VTIMEZONE
BEGIN:VEVENT
DTSTART;TZID=America/Chicago:20241109T180000
DTEND;TZID=America/Chicago:20241109T230000
DTSTAMP:20260419T080842
CREATED:20241104T224522Z
LAST-MODIFIED:20241104T224523Z
UID:10001172-1731175200-1731193200@dekalbcountycvb.com
SUMMARY:Fatty's Country Night with DJ Dustin
DESCRIPTION:The night kicks off with Line Dancing with Gabby starting at 6pm \n\n\n\nDJ Dustin 7pm-11pm \n\n\n\nWin Concert Tickets from The Coyote! \n\n\n\nBrett Eldredge Tickets! \n\n\n\nPlus qualify for Windy City Smokeout 4 Day Passes! \n\n\n\nSpecials on Nutrl\, Bud Light and Jim Beam!
URL:https://dekalbcountycvb.com/dccvb-event/fattys-country-night-with-dj-dustin/
LOCATION:Fatty’s Pub and Grille\, 1312 W Lincoln Hwy\,\, DeKalb\, IL\, 60115
CATEGORIES:Live Music
END:VEVENT
BEGIN:VEVENT
DTSTART;TZID=America/Chicago:20241109T190000
DTEND;TZID=America/Chicago:20241109T190000
DTSTAMP:20260419T080842
CREATED:20240930T195629Z
LAST-MODIFIED:20240930T195631Z
UID:10001111-1731178800-1731178800@dekalbcountycvb.com
SUMMARY:Foreigner 4 Ever & Rok Brigade
DESCRIPTION:One night with two extraordinary tribute rock bands! \n\n\n\nForeigner 4 Ever is an American 7-piece rock band formed in 2017 as a tribute to the music of British/American rock band Foreigner and is based out of Milwaukee\, WI. The band is made up of veteran musicians with decades of experience entertaining rock music fans at premier venues\, festivals and concert events. The members of Foreigner 4 Ever\, having grown up with the music of Foreigner\, are proud to perform for you\, as they pay tribute to the music of Foreigner! \n\n\n\nRok Brigade is a Def Leppard tribute band formed in the summer of 2018 when six friends\, all in well-established working cover bands in the Chicago area came together to pay tribute to one of the most dominant party rock bands of the 1980s. They wanted to cover their favorite songs from the band’s extensive catalog\, focusing primarily on the first six albums. Def Leppard’s infectious melodies\, heavy guitars\, pounding drums and layered harmonies combine perfectly to give us some of the greatest rock anthems of all time! Reproducing the Def Leppard experience live with great sound\, look and energy is what makes Rok Brigade one of the best Def Leppard tribute bands today. Rock with Rok Brigade!
URL:https://dekalbcountycvb.com/dccvb-event/foreigner-4-ever-rok-brigade/
LOCATION:Egyptian Theatre\, 135 North 2nd Street\, DeKalb\, IL\, 60115\, United States
CATEGORIES:Live Music
ATTACH;FMTTYPE=image/png:https://dekalbcountycvb.com/wp-content/uploads/2024/09/ForeignerDefLeopardTribute600x300-min.png
END:VEVENT
END:VCALENDAR