BEGIN:VCALENDAR
VERSION:2.0
PRODID:-//DeKalb County Convention and Visitors Bureau - ECPv6.15.17.1//NONSGML v1.0//EN
CALSCALE:GREGORIAN
METHOD:PUBLISH
X-WR-CALNAME:DeKalb County Convention and Visitors Bureau
X-ORIGINAL-URL:https://dekalbcountycvb.com
X-WR-CALDESC:Events for DeKalb County Convention and Visitors Bureau
REFRESH-INTERVAL;VALUE=DURATION:PT1H
X-Robots-Tag:noindex
X-PUBLISHED-TTL:PT1H
BEGIN:VTIMEZONE
TZID:America/Chicago
BEGIN:DAYLIGHT
TZOFFSETFROM:-0600
TZOFFSETTO:-0500
TZNAME:CDT
DTSTART:20230312T080000
END:DAYLIGHT
BEGIN:STANDARD
TZOFFSETFROM:-0500
TZOFFSETTO:-0600
TZNAME:CST
DTSTART:20231105T070000
END:STANDARD
BEGIN:DAYLIGHT
TZOFFSETFROM:-0600
TZOFFSETTO:-0500
TZNAME:CDT
DTSTART:20240310T080000
END:DAYLIGHT
BEGIN:STANDARD
TZOFFSETFROM:-0500
TZOFFSETTO:-0600
TZNAME:CST
DTSTART:20241103T070000
END:STANDARD
BEGIN:DAYLIGHT
TZOFFSETFROM:-0600
TZOFFSETTO:-0500
TZNAME:CDT
DTSTART:20250309T080000
END:DAYLIGHT
BEGIN:STANDARD
TZOFFSETFROM:-0500
TZOFFSETTO:-0600
TZNAME:CST
DTSTART:20251102T070000
END:STANDARD
END:VTIMEZONE
BEGIN:VEVENT
DTSTART;TZID=America/Chicago:20241016T193000
DTEND;TZID=America/Chicago:20241016T193000
DTSTAMP:20260419T143507
CREATED:20240625T153252Z
LAST-MODIFIED:20240930T183840Z
UID:10000556-1729107000-1729107000@dekalbcountycvb.com
SUMMARY:Amy Grant at the Egyptian Theatre
DESCRIPTION:Conventional wisdom has it that Amy Grant put Contemporary Christian Music on the map\, becoming the first CCM artist to have a platinum record\, the first to hit No. 1 on the Pop charts\, and the first to perform at the GRAMMY Awards. Since then\, Grant has been strumming her way through a thirty-plus year adventure as a singer-songwriter\, author\, television host\, and speaker. Early on\, Grant’s iconic voice became instantly recognizable in both the Christian and pop worlds. Over the years\, she has sold more than 30 million albums world-wide\, including three multi-platinum\, six platinum\, and four gold. Her chart performance has also been consistent throughout her career\, boasting six No. 1 hits\, 10 “Top 40” Pop singles\, 17 “Top 40” Adult Contemporary tracks and multiple Contemporary Christian chart-toppers. In recognition of such success\, Grant has received 6 GRAMMY Awards and 26 Dove Awards\, a star on the Hollywood Walk of Fame\, and a star on the Music City Walk of Fame. Additionally\, she was most recently inducted into the Gospel Music Hall of Fame in Nashville. \n\n\n\nRESERVED TICKET PRICES $56 / $72
URL:https://dekalbcountycvb.com/dccvb-event/amy-grant-at-the-egyptian-theatre/
CATEGORIES:Live Music
ATTACH;FMTTYPE=image/webp:https://dekalbcountycvb.com/wp-content/uploads/2024/06/AmyGrant600x600.webp
END:VEVENT
END:VCALENDAR