BEGIN:VCALENDAR
VERSION:2.0
PRODID:-//DeKalb County Convention and Visitors Bureau - ECPv6.15.17.1//NONSGML v1.0//EN
CALSCALE:GREGORIAN
METHOD:PUBLISH
X-WR-CALNAME:DeKalb County Convention and Visitors Bureau
X-ORIGINAL-URL:https://dekalbcountycvb.com
X-WR-CALDESC:Events for DeKalb County Convention and Visitors Bureau
REFRESH-INTERVAL;VALUE=DURATION:PT1H
X-Robots-Tag:noindex
X-PUBLISHED-TTL:PT1H
BEGIN:VTIMEZONE
TZID:America/Chicago
BEGIN:DAYLIGHT
TZOFFSETFROM:-0600
TZOFFSETTO:-0500
TZNAME:CDT
DTSTART:20230312T080000
END:DAYLIGHT
BEGIN:STANDARD
TZOFFSETFROM:-0500
TZOFFSETTO:-0600
TZNAME:CST
DTSTART:20231105T070000
END:STANDARD
BEGIN:DAYLIGHT
TZOFFSETFROM:-0600
TZOFFSETTO:-0500
TZNAME:CDT
DTSTART:20240310T080000
END:DAYLIGHT
BEGIN:STANDARD
TZOFFSETFROM:-0500
TZOFFSETTO:-0600
TZNAME:CST
DTSTART:20241103T070000
END:STANDARD
BEGIN:DAYLIGHT
TZOFFSETFROM:-0600
TZOFFSETTO:-0500
TZNAME:CDT
DTSTART:20250309T080000
END:DAYLIGHT
BEGIN:STANDARD
TZOFFSETFROM:-0500
TZOFFSETTO:-0600
TZNAME:CST
DTSTART:20251102T070000
END:STANDARD
END:VTIMEZONE
BEGIN:VEVENT
DTSTART;TZID=America/Chicago:20241008T190000
DTEND;TZID=America/Chicago:20241008T190000
DTSTAMP:20260419T143508
CREATED:20241007T181114Z
LAST-MODIFIED:20241007T182439Z
UID:10001114-1728414000-1728414000@dekalbcountycvb.com
SUMMARY:NIU Wind Ensemble concert
DESCRIPTION:Don’t miss NIU Wind Ensemble’s exciting program\, that includes one of the classics of the band world\, the Second Suite in F by Holst\, paired with music from 5 contemporary black composers. They are also performing the monumental “Concerto for Trombone” by David Maslanka\, featuring our department chair\, Andrew Glendening\, on trombone. Tickets are available at Northern Illinois University | Performing Arts Ticketing – Ticket Office Home (universitytickets.com).
URL:https://dekalbcountycvb.com/dccvb-event/niu-wind-ensemble-concert/
LOCATION:Boutell Memorial Concert Hall at Northern Illinois University\, 400 Lucinda Ave\, DeKalb\, IL
CATEGORIES:Live Music
ATTACH;FMTTYPE=image/jpeg:https://dekalbcountycvb.com/wp-content/uploads/2024/10/NIU_Music_Wind_Fall-2024_Glendening.jpg
ORGANIZER;CN="NIU School of Music":MAILTO:music@niu.edu
END:VEVENT
END:VCALENDAR