BEGIN:VCALENDAR
VERSION:2.0
PRODID:-//DeKalb County Convention and Visitors Bureau - ECPv6.15.17.1//NONSGML v1.0//EN
CALSCALE:GREGORIAN
METHOD:PUBLISH
X-WR-CALNAME:DeKalb County Convention and Visitors Bureau
X-ORIGINAL-URL:https://dekalbcountycvb.com
X-WR-CALDESC:Events for DeKalb County Convention and Visitors Bureau
REFRESH-INTERVAL;VALUE=DURATION:PT1H
X-Robots-Tag:noindex
X-PUBLISHED-TTL:PT1H
BEGIN:VTIMEZONE
TZID:America/Chicago
BEGIN:DAYLIGHT
TZOFFSETFROM:-0600
TZOFFSETTO:-0500
TZNAME:CDT
DTSTART:20230312T080000
END:DAYLIGHT
BEGIN:STANDARD
TZOFFSETFROM:-0500
TZOFFSETTO:-0600
TZNAME:CST
DTSTART:20231105T070000
END:STANDARD
BEGIN:DAYLIGHT
TZOFFSETFROM:-0600
TZOFFSETTO:-0500
TZNAME:CDT
DTSTART:20240310T080000
END:DAYLIGHT
BEGIN:STANDARD
TZOFFSETFROM:-0500
TZOFFSETTO:-0600
TZNAME:CST
DTSTART:20241103T070000
END:STANDARD
BEGIN:DAYLIGHT
TZOFFSETFROM:-0600
TZOFFSETTO:-0500
TZNAME:CDT
DTSTART:20250309T080000
END:DAYLIGHT
BEGIN:STANDARD
TZOFFSETFROM:-0500
TZOFFSETTO:-0600
TZNAME:CST
DTSTART:20251102T070000
END:STANDARD
END:VTIMEZONE
BEGIN:VEVENT
DTSTART;TZID=America/Chicago:20241005T190000
DTEND;TZID=America/Chicago:20241005T210000
DTSTAMP:20260419T143506
CREATED:20240812T161227Z
LAST-MODIFIED:20240812T161232Z
UID:10001030-1728154800-1728162000@dekalbcountycvb.com
SUMMARY:Pitch Perfect Acapella Night
DESCRIPTION:A night of acapella at Whiskey Acres Distilling Co. \n\n\n\nYou’ll be blown away by incredible vocal harmonies performed by the combined talents of Indiana Univeristy’s Another Round men’s group and Ladies First women’s group. Nearly 24 vocalists will be performing your favorite songs from the Pitch Perfect trilogy as well as songs from various pop artists. \n\n\n\nThis will be an outdoor\, shine-only event performed on our Whiskey Garden. Please bring your own chair (and a blanket). \n\n\n\nRefunds will only be issued due to weather cancellation.
URL:https://dekalbcountycvb.com/dccvb-event/pitch-perfect-acapella-night/
LOCATION:Whiskey Acres\, 11504 Keslinger Rd\, DeKalb\, IL\, 60115\, United States
CATEGORIES:Adult,LGBTQ Friendly,Live Music
ATTACH;FMTTYPE=image/jpeg:https://dekalbcountycvb.com/wp-content/uploads/2024/08/Screen-Shot-2024-08-12-at-11.12.00-AM.jpg
ORGANIZER;CN="Whiskey Acres":MAILTO:info@whiskeyacres.com
END:VEVENT
BEGIN:VEVENT
DTSTART;TZID=America/Chicago:20241005T193000
DTEND;TZID=America/Chicago:20241005T220000
DTSTAMP:20260419T143506
CREATED:20240708T173420Z
LAST-MODIFIED:20240708T220946Z
UID:10000989-1728156600-1728165600@dekalbcountycvb.com
SUMMARY:Mariachi Estrellas de Chicago
DESCRIPTION:Mariachi Estrellas de Chicago is a group of young\, classically trained musicians based in the South Side of Chicago. They provide the best of the traditional mariachi repertoire as well as popular songs you can hear on the radio today. \nMariachi Estrellas de Chicago es un grupo de músicos jóvenes de formación clásica con sede en el lado sur de Chicago. Ofrecen lo mejor del repertorio tradicional de mariachi\, así como canciones populares que puedes escuchar hoy en la radio. \n\n\n\nLearn more
URL:https://dekalbcountycvb.com/dccvb-event/mariachi-estrellas-de-chicago/
LOCATION:Sandwich Opera House\, 140 E Railroad St\, Sandwich\, IL\, 60548
CATEGORIES:Live Music
ATTACH;FMTTYPE=image/jpeg:https://dekalbcountycvb.com/wp-content/uploads/2024/07/Maricachi-Band.jpeg
END:VEVENT
END:VCALENDAR