BEGIN:VCALENDAR
VERSION:2.0
PRODID:-//DeKalb County Convention and Visitors Bureau - ECPv6.15.17.1//NONSGML v1.0//EN
CALSCALE:GREGORIAN
METHOD:PUBLISH
X-WR-CALNAME:DeKalb County Convention and Visitors Bureau
X-ORIGINAL-URL:https://dekalbcountycvb.com
X-WR-CALDESC:Events for DeKalb County Convention and Visitors Bureau
REFRESH-INTERVAL;VALUE=DURATION:PT1H
X-Robots-Tag:noindex
X-PUBLISHED-TTL:PT1H
BEGIN:VTIMEZONE
TZID:America/Chicago
BEGIN:DAYLIGHT
TZOFFSETFROM:-0600
TZOFFSETTO:-0500
TZNAME:CDT
DTSTART:20230312T080000
END:DAYLIGHT
BEGIN:STANDARD
TZOFFSETFROM:-0500
TZOFFSETTO:-0600
TZNAME:CST
DTSTART:20231105T070000
END:STANDARD
BEGIN:DAYLIGHT
TZOFFSETFROM:-0600
TZOFFSETTO:-0500
TZNAME:CDT
DTSTART:20240310T080000
END:DAYLIGHT
BEGIN:STANDARD
TZOFFSETFROM:-0500
TZOFFSETTO:-0600
TZNAME:CST
DTSTART:20241103T070000
END:STANDARD
BEGIN:DAYLIGHT
TZOFFSETFROM:-0600
TZOFFSETTO:-0500
TZNAME:CDT
DTSTART:20250309T080000
END:DAYLIGHT
BEGIN:STANDARD
TZOFFSETFROM:-0500
TZOFFSETTO:-0600
TZNAME:CST
DTSTART:20251102T070000
END:STANDARD
END:VTIMEZONE
BEGIN:VEVENT
DTSTART;TZID=America/Chicago:20240810T120000
DTEND;TZID=America/Chicago:20240810T230000
DTSTAMP:20260419T173316
CREATED:20240712T200253Z
LAST-MODIFIED:20240712T200255Z
UID:10001002-1723291200-1723330800@dekalbcountycvb.com
SUMMARY:Cortland Summerfest
DESCRIPTION:$5.00 Entry for Adults 21 and over20 and under Free \n\n\n\nFriday 5:00 PM to 11:00 PM with FIREWORKS AT DUSK5:15 PM National Anthem and PrayerFeaturing Ryan Craig Band and The Party Doctors \n\n\n\nSaturday Noon to 11:00 PM12:15 PM National Anthem and PrayerFeaturing Mr. Myers Band\, Gretta Sweets\, and Wildwood12:30 PM – 4:30 PM Family Fun Time with a combination of free and low cost games thanks to the Cortland Lions Club\, Cortland Library\, and the Town of CortlandPerformances by Dimensions Dance Academy and Sycamore Performing ArtsBags Tournament \n\n\n\nFood Vendors Both Days \n\n\n\nRemember to check out the Drawings Table while you’re there!
URL:https://dekalbcountycvb.com/dccvb-event/cortland-summerfest/2024-08-10/
LOCATION:Cortland Community Park\, 70 S Llanos St\, Cortland\, IL
CATEGORIES:Family Friendly,Live Music
ATTACH;FMTTYPE=image/jpeg:https://dekalbcountycvb.com/wp-content/uploads/2024/07/Cortland-Summerfest-2024.jpg
END:VEVENT
BEGIN:VEVENT
DTSTART;TZID=America/Chicago:20240810T140000
DTEND;TZID=America/Chicago:20240810T200000
DTSTAMP:20260419T173316
CREATED:20240729T185207Z
LAST-MODIFIED:20240729T185209Z
UID:10001011-1723298400-1723320000@dekalbcountycvb.com
SUMMARY:Rock The Acres
DESCRIPTION:Join Whiskey Acres Distilling Company for Rock the ACRES for an afternoon of live music\, great drinks\, and incredible food on their outdoor Whiskey Garden. \n\n\n\n$10 admission is required for all guests at their Visitors Center that day and includes an optional tour at 2\, 4 or 6 PM and the following musical lineup: \n\n\n\n2-4 PM – Ryan Craig Band – The Ryan Craig band is a Country Rock Band with a touch of Nashville and is most known for their variety in music. You’ll enjoy your favorite covers from Joe Diffie to Metallica! Come out and join as part of their “rowdy crowd family.” \n\n\n\n4-6 PM – The Awfully Good – The Awfully Good started with a simple idea: take slow\, sappy and soft rock covers (and some downright awful tunes) and give them a kick in the pants with an upbeat rock edge to make them good! The Awfully Good doesn’t hold back – no genre or decade is sacred. The female fronted band reimagines songs from The Beatles to Lady Gaga and Bryan Adams to Bruno Mars. Their unique sound gives new life to these sleepy covers with a high-energy hard rock tone complemented by melodic vocals. \n\n\n\n6-8 PM – Buford T Judd and the Dump Trucks – With their roots in southern Illinois\, BTJ beginnings and their journey of musicianship dates back to adolescence. The band mates have played together in various ensembles throughout their careers and have assembled together to form a fiery quartet worthy of your approval. The BTJ breadbasket of music is classic rock\, blues\, country\, southern rock\, and alternative. \n\n\n\nFay’s Finest Food will be grilling all day\, and The Press Box will be slinging gourmet sandwiches and wraps. \n\n\n\nThis is an outdoor\, SHINE only event. Refunds will be issued if event is cancelled due to weather. \n\n\n\nGeneral Admission. Lawn Seating (bring lawn chair or blanket). All ages welcome. \n\n\n\nNo outside food or beverages allowed.
URL:https://dekalbcountycvb.com/dccvb-event/rock-the-acres/
LOCATION:Whiskey Acres\, 11504 Keslinger Rd\, DeKalb\, IL\, 60115\, United States
CATEGORIES:Family Friendly,Live Music
ATTACH;FMTTYPE=image/jpeg:https://dekalbcountycvb.com/wp-content/uploads/2024/07/Rock-the-Acres-1.jpg
ORGANIZER;CN="Whiskey Acres":MAILTO:info@whiskeyacres.com
END:VEVENT
BEGIN:VEVENT
DTSTART;TZID=America/Chicago:20240810T173000
DTEND;TZID=America/Chicago:20240810T220000
DTSTAMP:20260419T173316
CREATED:20240625T192043Z
LAST-MODIFIED:20240625T192044Z
UID:10000794-1723311000-1723327200@dekalbcountycvb.com
SUMMARY:Anthem and Chris Minardi at Warehouse on Park
DESCRIPTION:Anthem and Chris Minardi will be performing at Warehouse on Park on August 10th from 5:30pm-10:00pm. More information is available on the Warehouse on Park website. 
URL:https://dekalbcountycvb.com/dccvb-event/anthem-and-chris-minardi-at-warehouse-on-park/
LOCATION:Warehouse on Park\, 662 Park Ave\, Genoa\, IL\, 60135\, United States
CATEGORIES:Live Music
ATTACH;FMTTYPE=image/jpeg:https://dekalbcountycvb.com/wp-content/uploads/2024/06/warehouse-on-park-300x300-1.jpg
END:VEVENT
BEGIN:VEVENT
DTSTART;TZID=America/Chicago:20240810T200000
DTEND;TZID=America/Chicago:20240810T200000
DTSTAMP:20260419T173316
CREATED:20240731T144818Z
LAST-MODIFIED:20240731T145043Z
UID:10001021-1723320000-1723320000@dekalbcountycvb.com
SUMMARY:One Night Of Queen
DESCRIPTION:Experience One Night of Queen performed by Gary Mullen & The Works at the NIU Convocation Center on Saturday\, August 10th at 8pm!
URL:https://dekalbcountycvb.com/dccvb-event/one-night-of-queen/
LOCATION:NIU Convocation Center\, 1525 W. Lincoln Highway\, DeKalb\, IL\, 60115\, United States
CATEGORIES:Live Music
ATTACH;FMTTYPE=image/jpeg:https://dekalbcountycvb.com/wp-content/uploads/2024/07/one-night-of-queen.jpg
ORGANIZER;CN="NIU Convocation Center":MAILTO:convocenter@niu.edu
END:VEVENT
END:VCALENDAR