BEGIN:VCALENDAR
VERSION:2.0
PRODID:-//DeKalb County Convention and Visitors Bureau - ECPv6.15.17.1//NONSGML v1.0//EN
CALSCALE:GREGORIAN
METHOD:PUBLISH
X-ORIGINAL-URL:https://dekalbcountycvb.com
X-WR-CALDESC:Events for DeKalb County Convention and Visitors Bureau
REFRESH-INTERVAL;VALUE=DURATION:PT1H
X-Robots-Tag:noindex
X-PUBLISHED-TTL:PT1H
BEGIN:VTIMEZONE
TZID:America/Chicago
BEGIN:DAYLIGHT
TZOFFSETFROM:-0600
TZOFFSETTO:-0500
TZNAME:CDT
DTSTART:20230312T080000
END:DAYLIGHT
BEGIN:STANDARD
TZOFFSETFROM:-0500
TZOFFSETTO:-0600
TZNAME:CST
DTSTART:20231105T070000
END:STANDARD
BEGIN:DAYLIGHT
TZOFFSETFROM:-0600
TZOFFSETTO:-0500
TZNAME:CDT
DTSTART:20240310T080000
END:DAYLIGHT
BEGIN:STANDARD
TZOFFSETFROM:-0500
TZOFFSETTO:-0600
TZNAME:CST
DTSTART:20241103T070000
END:STANDARD
BEGIN:DAYLIGHT
TZOFFSETFROM:-0600
TZOFFSETTO:-0500
TZNAME:CDT
DTSTART:20250309T080000
END:DAYLIGHT
BEGIN:STANDARD
TZOFFSETFROM:-0500
TZOFFSETTO:-0600
TZNAME:CST
DTSTART:20251102T070000
END:STANDARD
END:VTIMEZONE
BEGIN:VEVENT
DTSTART;TZID=America/Chicago:20240727T120000
DTEND;TZID=America/Chicago:20240727T233000
DTSTAMP:20260419T185403
CREATED:20240625T204019Z
LAST-MODIFIED:20240702T213321Z
UID:10000820-1722081600-1722123000@dekalbcountycvb.com
SUMMARY:Mid Summer Showdown
DESCRIPTION:Join Mid Summer Showdown at Sandwich Fairgrounds for an evening filled with excitement\, tractor pulls\, kid-friendly events\, music and food!
URL:https://dekalbcountycvb.com/dccvb-event/mid-summer-showdown/
LOCATION:Sandwich Fair Grounds\, 15730 Pratt Road\, Sandwich\, IL
CATEGORIES:Family Friendly,Live Music
ATTACH;FMTTYPE=image/png:https://dekalbcountycvb.com/wp-content/uploads/2024/06/Mid-Summer-Show-Down-300x300-1.png
END:VEVENT
BEGIN:VEVENT
DTSTART;TZID=America/Chicago:20240727T130000
DTEND;TZID=America/Chicago:20240727T140000
DTSTAMP:20260419T185403
CREATED:20240625T203648Z
LAST-MODIFIED:20240625T203649Z
UID:10000819-1722085200-1722088800@dekalbcountycvb.com
SUMMARY:Good Clean Fun: Music Duo
DESCRIPTION:Playing music from every decade and virtually every style\, Good Clean Fun delivers an exciting show that’s guaranteed to put a smile on anyone’s face and bring everyone out to the dance floor! Led by husband-and-wife team\, Good Clean Fun is the perfect party band for any occasion. Mike & Traci put love\, personalization\, and energy into every performance. Good Clean Fun has been entertaining the New York Tri-State area since 1997. and the Midwest since 2006. They currently hold the “Couple’s Choice Award” for the last 6 consecutive years. This performance is free and open to all. No registration is required. It is sponsored by the Friends of the Library.
URL:https://dekalbcountycvb.com/dccvb-event/good-clean-fun-music-duo/
LOCATION:DeKalb Public Library\, 309 Oak St\, DeKalb\, IL\, 60115\, United States
CATEGORIES:Family Friendly,LGBTQ Friendly,Live Music
ATTACH;FMTTYPE=image/jpeg:https://dekalbcountycvb.com/wp-content/uploads/2024/06/07-27-Good-Clean-Fun-300x300-1.jpg
ORGANIZER;CN="DeKalb Public Library":MAILTO:theresaw@dkpl.org
END:VEVENT
BEGIN:VEVENT
DTSTART;TZID=America/Chicago:20240727T150000
DTEND;TZID=America/Chicago:20240727T230000
DTSTAMP:20260419T185403
CREATED:20240625T203316Z
LAST-MODIFIED:20240625T212106Z
UID:10000818-1722092400-1722121200@dekalbcountycvb.com
SUMMARY:2nd Annual Dirty Bird Cruise Night & Block Party
DESCRIPTION:SAVE THE DATE!! July 27\, 2024\, is the 2nd Annual Dirty Bird Cruise Night & Block Party. Join the Dirty Bird the evening before the Turning Back Time Car Show to cruise through beautiful Sycamore\, enjoy some delicious Dirty Bird food\, cold drinks\, live music and unique awards!
URL:https://dekalbcountycvb.com/dccvb-event/2nd-annual-dirty-bird-cruise-night-block-party/
LOCATION:Downtown Sycamore\, Sycamore\, Illlinois\, 60178
CATEGORIES:Family Friendly,Live Music
ATTACH;FMTTYPE=image/jpeg:https://dekalbcountycvb.com/wp-content/uploads/2024/06/Dirty-Bird-Cruise-Night-300x300-1.jpg
END:VEVENT
BEGIN:VEVENT
DTSTART;TZID=America/Chicago:20240727T190000
DTEND;TZID=America/Chicago:20240727T220000
DTSTAMP:20260419T185403
CREATED:20240625T202845Z
LAST-MODIFIED:20240625T202846Z
UID:10000817-1722106800-1722117600@dekalbcountycvb.com
SUMMARY:Electric Cars at Warehouse on Park
DESCRIPTION:Electric Cars\, a Cars tribute band\, will be performing at Warehouse on Park on July 27th from 7:00pm-10:00pm. More information is available on the Warehouse on Park website.
URL:https://dekalbcountycvb.com/dccvb-event/electric-cars-at-warehouse-on-park/
LOCATION:Warehouse on Park\, 662 Park Ave\, Genoa\, IL\, 60135\, United States
CATEGORIES:Live Music
ATTACH;FMTTYPE=image/jpeg:https://dekalbcountycvb.com/wp-content/uploads/2024/06/warehouse-on-park-300x300-1.jpg
END:VEVENT
END:VCALENDAR