BEGIN:VCALENDAR
VERSION:2.0
PRODID:-//DeKalb County Convention and Visitors Bureau - ECPv6.15.17.1//NONSGML v1.0//EN
CALSCALE:GREGORIAN
METHOD:PUBLISH
X-WR-CALNAME:DeKalb County Convention and Visitors Bureau
X-ORIGINAL-URL:https://dekalbcountycvb.com
X-WR-CALDESC:Events for DeKalb County Convention and Visitors Bureau
REFRESH-INTERVAL;VALUE=DURATION:PT1H
X-Robots-Tag:noindex
X-PUBLISHED-TTL:PT1H
BEGIN:VTIMEZONE
TZID:America/Chicago
BEGIN:DAYLIGHT
TZOFFSETFROM:-0600
TZOFFSETTO:-0500
TZNAME:CDT
DTSTART:20240310T080000
END:DAYLIGHT
BEGIN:STANDARD
TZOFFSETFROM:-0500
TZOFFSETTO:-0600
TZNAME:CST
DTSTART:20241103T070000
END:STANDARD
BEGIN:DAYLIGHT
TZOFFSETFROM:-0600
TZOFFSETTO:-0500
TZNAME:CDT
DTSTART:20250309T080000
END:DAYLIGHT
BEGIN:STANDARD
TZOFFSETFROM:-0500
TZOFFSETTO:-0600
TZNAME:CST
DTSTART:20251102T070000
END:STANDARD
BEGIN:DAYLIGHT
TZOFFSETFROM:-0600
TZOFFSETTO:-0500
TZNAME:CDT
DTSTART:20260308T080000
END:DAYLIGHT
BEGIN:STANDARD
TZOFFSETFROM:-0500
TZOFFSETTO:-0600
TZNAME:CST
DTSTART:20261101T070000
END:STANDARD
END:VTIMEZONE
BEGIN:VEVENT
DTSTART;TZID=America/Chicago:20250131T180000
DTEND;TZID=America/Chicago:20250202T223000
DTSTAMP:20260419T225101
CREATED:20241227T200005Z
LAST-MODIFIED:20241227T200006Z
UID:10001282-1738346400-1738535400@dekalbcountycvb.com
SUMMARY:Flannel Fest V
DESCRIPTION:Get your tickets today for PJ’s Live Music Flannel Fest V – 2025 taking place January 31st-February 2nd! Over these 3 days you’ll have front stage access to local favorite music artists\, including: \n\n\n\nFRIDAY 1.31.25Bores & Rucker \n\n\n\nSATURDAY 2.1.25InFunktiousRed DeliciousRockin MoxiePegasusNew Groove Revolution \n\n\n\nSUNDAY 2.2.252 of UsRon Porter BandMathey & Friends \n\n\n\n$30 donation* packages are available for purchase and include a Flannel Fest T-shirt\, glass\, and access to prizes. \n\n\n\n*PJ’s Flannel Fest will be donating a portion of the proceeds of this event to The Sycamore Education Foundation (SEF)\, no cover charge\, all donations appreciated.
URL:https://dekalbcountycvb.com/dccvb-event/flannel-fest-v/
LOCATION:PJ’s Courthouse Tavern\, 202 West State Street\, Sycamore\, IL\, 60178\, United States
CATEGORIES:Free Event,Live Music
ATTACH;FMTTYPE=image/jpeg:https://dekalbcountycvb.com/wp-content/uploads/2024/12/PJs-Flannel-Fest.jpg
ORGANIZER;CN="PJ's Courthouse Tavern":MAILTO:INFO@PJSCOURTHOUSE.COM
END:VEVENT
BEGIN:VEVENT
DTSTART;TZID=America/Chicago:20250213T193000
DTEND;TZID=America/Chicago:20250213T210000
DTSTAMP:20260419T225101
CREATED:20250115T160205Z
LAST-MODIFIED:20250120T181017Z
UID:10001324-1739475000-1739480400@dekalbcountycvb.com
SUMMARY:Chris Ruggiero
DESCRIPTION:Chris Ruggiero always wanted to be a singer and now finds himself\, in his mid-twenties\, an in-demand showman and social media superstar.   He’s appeared on national PBS specials\, shared the stage with music icons\, performed live on Good Morning America\, and is succeeding at wowing audiences in his solo show across the nation. This rising young entertainer has created a live stage show that shares his remarkable story\, while breathing new life into timeless hit songs of the last six decades. One moment he and his spectacular band will be weaving a song by Adele into a Lionel Richie classic\, and the next\, marrying Bruno Mars “Just the Way You Are” with the iconic “This Magic Moment”. This perfect show for Valentine’s Day celebrates the greatest love songs of the 50s\, 60s\, & 70s through today. Chris Ruggiero delivers a musically uplifting experience that engages and inspires audiences and lives on in their hearts long after he leaves the stage.  If there’s any doubt that what he’s doing is resonating with people everywhere\, his Facebook page reached a staggering 63 million people last year. And he’s just getting started. \n\n\n\n“A singing sensation!” – Robin Roberts\, Good Morning America“Chris is what I call ‘the ultimate entertainer\,’ I love his voice!” – Darlene Love\, Rock & Roll Hall of Fame Singer“Chris is so good at making the classics his own. I went to his show and loved every minute.” – Bill Medley\, The Righteous Brothers
URL:https://dekalbcountycvb.com/dccvb-event/chris-ruggiero/
LOCATION:Egyptian Theatre\, 135 North 2nd Street\, DeKalb\, IL\, 60115\, United States
CATEGORIES:LGBTQ Friendly,Live Music
ATTACH;FMTTYPE=image/png:https://dekalbcountycvb.com/wp-content/uploads/2025/01/Chris_Ruggiero_600x300-min.png
END:VEVENT
BEGIN:VEVENT
DTSTART;TZID=America/Chicago:20250213T193000
DTEND;TZID=America/Chicago:20250215T213000
DTSTAMP:20260419T225101
CREATED:20250117T043820Z
LAST-MODIFIED:20250122T035601Z
UID:10001342-1739475000-1739655000@dekalbcountycvb.com
SUMMARY:Valentine's Weekend at Egyptian
DESCRIPTION:🎶❤️‍🔥LOVE IS IN THE AIR … AND SO IS THE MUSIC! ❤️‍🔥🎶 \n\n\n\nTreat your valentine and head out to one or all three great shows that the Egyptian Theatre has lined up! \n\n\n\nChris Ruggiero: FEBRUARY 13 @ 7:30 PM – 9:00 PM\n\n\n\nChris Ruggiero always wanted to be a singer and now finds himself\, in his mid-twenties\, an in-demand showman and social media superstar.   He’s appeared on national PBS specials\, shared the stage with music icons\, performed live on Good Morning America\, and is succeeding at wowing audiences in his solo show across the nation. This rising young entertainer has created a live stage show that shares his remarkable story\, while breathing new life into timeless hit songs of the last six decades. One moment he and his spectacular band will be weaving a song by Adele into a Lionel Richie classic\, and the next\, marrying Bruno Mars “Just the Way You Are” with the iconic “This Magic Moment”. This perfect show for Valentine’s Day celebrates the greatest love songs of the 50s\, 60s\, & 70s through today. Chris Ruggiero delivers a musically uplifting experience that engages and inspires audiences and lives on in their hearts long after he leaves the stage.  If there’s any doubt that what he’s doing is resonating with people everywhere\, his Facebook page reached a staggering 63 million people last year. And he’s just getting started. \n\n\n\n“A singing sensation!” – Robin Roberts\, Good Morning America“Chris is what I call ‘the ultimate entertainer\,’ I love his voice!” – Darlene Love\, Rock & Roll Hall of Fame Singer“Chris is so good at making the classics his own. I went to his show and loved every minute.” – Bill Medley\, The Righteous Brothers \n\n\n\n\n\n\n\n \n\n\n\nEagleMania: FEBRUARY 14 @ 8:00 PM – 9:30 PM\n\n\n\nEagleMania has been dazzling audiences for over a decade by spectacularly reproducing the music of The Eagles. EagleMania thrills internationally sold-out audiences with their stunning five part harmony\, virtuoso guitar work and uncanny ability to emulate the distinct sound of The Eagles. The EagleMania show consists of the Eagles’ greatest hits\, as well as select Don Henley\, Glenn Frey\, and Joe Walsh solo efforts. If you like The Eagles you simply must experience the world’s greatest Eagles Tribute\, EagleMania! \n\n\n\n\n\n\n\nShadows of the 60s: FEBRUARY 15 @ 7:30 PM – 9:00 PM\n\n\n\nShadows of the 60s: A Celebration of the Stars of Motown pays tribute to the tremendous legacy to the Motown greats. In this highly interactive and visually stunning production\, Shadows of the 60s perform the hits that span several decades. Featuring top industry musicians and singers dressed in exquisitely designed costumes and dazzling choreography\, Shadows of the 60s presents the music of Motown with the intensity of the original recorded performances. Each singer and musician were chosen because they embody the spirit\, style and excitement of the original artists in concert. Close your eyes and you will hear the magic of Motown\, open them and you will see and feel the raw “front row” experience of attending a live Motown concert\, circa 1964. The evening is capped off with a jaw dropping grand finale featuring the music of Motown’s Smokey Robinson\, Marvin Gaye\, The Marvelettes\, Junior Walker & The Allstars\, Stevie Wonder\, Gladys Knight & The Pips\, The Contours and more! Shadows Of The 60s is truly a concert for everyone!
URL:https://dekalbcountycvb.com/dccvb-event/valentines-weekend-at-egyptian/
LOCATION:Egyptian Theatre\, 135 North 2nd Street\, DeKalb\, IL\, 60115\, United States
CATEGORIES:Live Music
END:VEVENT
BEGIN:VEVENT
DTSTART;TZID=America/Chicago:20250214T200000
DTEND;TZID=America/Chicago:20250214T213000
DTSTAMP:20260419T225101
CREATED:20250115T163309Z
LAST-MODIFIED:20250115T163429Z
UID:10001325-1739563200-1739568600@dekalbcountycvb.com
SUMMARY:EagleMania
DESCRIPTION:EagleMania has been dazzling audiences for over a decade by spectacularly reproducing the music of The Eagles. EagleMania thrills internationally sold-out audiences with their stunning five part harmony\, virtuoso guitar work and uncanny ability to emulate the distinct sound of The Eagles. The EagleMania show consists of the Eagles’ greatest hits\, as well as select Don Henley\, Glenn Frey\, and Joe Walsh solo efforts. If you like The Eagles you simply must experience the world’s greatest Eagles Tribute\, EagleMania!
URL:https://dekalbcountycvb.com/dccvb-event/eaglemania-2/
LOCATION:Egyptian Theatre\, 135 North 2nd Street\, DeKalb\, IL\, 60115\, United States
CATEGORIES:Live Music
ATTACH;FMTTYPE=image/png:https://dekalbcountycvb.com/wp-content/uploads/2025/01/Eaglemania_Web_600x300-min.png
END:VEVENT
BEGIN:VEVENT
DTSTART;TZID=America/Chicago:20250215T192000
DTEND;TZID=America/Chicago:20250215T192000
DTSTAMP:20260419T225101
CREATED:20250115T215001Z
LAST-MODIFIED:20250115T215003Z
UID:10001336-1739647200-1739647200@dekalbcountycvb.com
SUMMARY:American English - Beatles Tribute Band
DESCRIPTION:The show begins with the early years of Ed Sullivan and includes classic Beatles favorites such as She Loves You\, Twist and Shout\, I Want To Hold Your Hand\, and many others. American English captures the very essence of John\, Paul\, George and Ringo! Next\, you’ll take a trip with American English as they recreate the psychedelic era of The Beatles. Every musical and visual detail is magically shaped in a colorful journey back in time. You’ll witness incredible versions of selections from Sgt. Pepper and Magical Mystery Tour. All the songs are performed completely live without any tapes or backing tracks. \n\n\n\nAnd in the end\, you’ll be transformed to a spectacular musical excursion of the final years of The Beatles partnership. Relive the years of The White Album\, Let It Be\, and Abbey Road. Moving renditions of songs such as Hey Jude\, Something\, and Let It Be\, are sure to complete the tribute to The Beatles!
URL:https://dekalbcountycvb.com/dccvb-event/american-english-beatles-tribute-band/
LOCATION:Sandwich Opera House\, 140 E Railroad St\, Sandwich\, IL\, 60548
CATEGORIES:Live Music
ATTACH;FMTTYPE=image/jpeg:https://dekalbcountycvb.com/wp-content/uploads/2025/01/American-English-Beatles-Tribute-Band.jpeg
END:VEVENT
BEGIN:VEVENT
DTSTART;TZID=America/Chicago:20250215T193000
DTEND;TZID=America/Chicago:20250215T210000
DTSTAMP:20260419T225101
CREATED:20250115T165028Z
LAST-MODIFIED:20250115T165029Z
UID:10001326-1739647800-1739653200@dekalbcountycvb.com
SUMMARY:Shadows of the 60s: A Celebration of the Stars of Motown
DESCRIPTION:Shadows of the 60s: A Celebration of the Stars of Motown pays tribute to the tremendous legacy to the Motown greats. In this highly interactive and visually stunning production\, Shadows of the 60s perform the hits that span several decades. Featuring top industry musicians and singers dressed in exquisitely designed costumes and dazzling choreography\, Shadows of the 60s presents the music of Motown with the intensity of the original recorded performances. Each singer and musician were chosen because they embody the spirit\, style and excitement of the original artists in concert. Close your eyes and you will hear the magic of Motown\, open them and you will see and feel the raw “front row” experience of attending a live Motown concert\, circa 1964. The evening is capped off with a jaw dropping grand finale featuring the music of Motown’s Smokey Robinson\, Marvin Gaye\, The Marvelettes\, Junior Walker & The Allstars\, Stevie Wonder\, Gladys Knight & The Pips\, The Contours and more! Shadows Of The 60s is truly a concert for everyone!
URL:https://dekalbcountycvb.com/dccvb-event/shadows-of-the-60s-a-celebration-of-the-stars-of-motown/
LOCATION:Egyptian Theatre\, 135 North 2nd Street\, DeKalb\, IL\, 60115\, United States
CATEGORIES:Live Music
ATTACH;FMTTYPE=image/png:https://dekalbcountycvb.com/wp-content/uploads/2025/01/Shadows_of_the_60s_600x300-min.png
END:VEVENT
BEGIN:VEVENT
DTSTART;TZID=America/Chicago:20250222T190000
DTEND;TZID=America/Chicago:20250222T190000
DTSTAMP:20260419T225101
CREATED:20241127T230118Z
LAST-MODIFIED:20250115T170531Z
UID:10001224-1740250800-1740250800@dekalbcountycvb.com
SUMMARY:Toby
DESCRIPTION:Get ready for a wild ride through the heart and soul of country music with TOBY\, the ultimate tribute to the bad boy of country music\, Toby Keith! This electrifying show is guaranteed to leave audiences on their feet\, singing along to hit after hit of great country music\, all brought to life by the one and only Hollywood Yates! The air pulsates with anticipation as Hollywood Yates takes center stage\, belting out country music anthems that have become the soundtrack to countless lives. Sing your heart out to timeless classics like “How Do You Like Me Now\,” “Should’ve Been a Cowboy\,” and “I Love This Bar.” With every strum of the guitar and every beat of the drum\, TOBY pays homage to Toby Keith’s extraordinary career\, capturing the essence of his rebellious charm and his unwavering dedication to his craft. Hollywood Yates embodies the spirit of this country music legend\, delivering a powerhouse performance that will leave you craving more. So grab your cowboy hat\, put on your boots\, and get ready to experience the energy\, the passion\, and the undeniable talent of Toby Keith like never before. TOBY is a must-see show for country music lovers\, a journey that will transport you to the heart of Nashville and leave you yearning for more. Get ready to sing\, dance\, and raise a glass to the unforgettable legacy of Toby Keith!
URL:https://dekalbcountycvb.com/dccvb-event/toby/
LOCATION:Egyptian Theatre\, 135 North 2nd Street\, DeKalb\, IL\, 60115\, United States
CATEGORIES:Live Music
ATTACH;FMTTYPE=image/png:https://dekalbcountycvb.com/wp-content/uploads/2024/11/Toby_600x300-min.png
END:VEVENT
BEGIN:VEVENT
DTSTART;TZID=America/Chicago:20250223T150000
DTEND;TZID=America/Chicago:20250223T164500
DTSTAMP:20260419T225101
CREATED:20250130T184125Z
LAST-MODIFIED:20250130T184125Z
UID:10001394-1740322800-1740329100@dekalbcountycvb.com
SUMMARY:Transformation Through Rhythm!
DESCRIPTION:As a proud DeKalb County Nonprofit Partnership Community Partner\, Arcomusical cordially invites the DeKalb community to attend Transformation Through Rhythm\, the annual event that is drumming up a good cause! Hosted at the DeKalb High School Auditorium on Sunday afternoon February 23rd at 3PM. The performance will feature local percussion groups including the Harambee Ensemble\, the DeKalb High School Percussion Ensemble\, the Northern Illinois University Percussion Ensemble\, and Arcomusical. All donations received will benefit the more than 150 non-profit organizations based in and/or serving DeKalb County. Admission is free\, and donations will be collected both digitally and in-person at the event. \n\n\n\n“​​The Transformation Through Rhythm concerts bring together the perfect blend of music and community spirit. I’m thrilled the concerts are supporting Give DeKalb County\, thus benefiting nonprofits in our county. The concert itself is amazing – a joyful tapestry of rhythm\, energy\, people\, color and inspiration!”-Jen Conley (Transformation Through Rhythm Founder\, music therapist\, and licensed counselor)
URL:https://dekalbcountycvb.com/dccvb-event/transformation-through-rhythm-4/
LOCATION:DeKalb High School\, 501 W Dresser Rd\, DeKalb\, IL\, 60115\, United States
CATEGORIES:Live Music
ORGANIZER;CN="Arcomusical NFP":MAILTO:gregory@arcomusical.com
END:VEVENT
BEGIN:VEVENT
DTSTART;TZID=America/Chicago:20250228T200000
DTEND;TZID=America/Chicago:20250228T200000
DTSTAMP:20260419T225101
CREATED:20240918T164048Z
LAST-MODIFIED:20241211T154622Z
UID:10001097-1740772800-1740772800@dekalbcountycvb.com
SUMMARY:Gaelic Storm with Reverend Peyton's Big Damn Band
DESCRIPTION:It’s hard to imagine a band just coming into their own after 20 years of success\, but that’s exactly what makes a true anomaly. Gaelic Storm\, a multi-national\, Celtic juggernaut grows stronger with each live performance\, and after two decades and over 2000 shows\, they are a true force to be reckoned with. The band attributes their continued success to their fanatic audience\, and it’s a well-diversified crowd for sure – attracting fans of every genre with their rich storytelling\, energetic instrumentals\, devotion to Celtic traditions and passion for their stagecraft. They are as loyal to their fans as the fans are to them. Recent years have seen the addition of Natalya Kay on fiddle and Parker Hastings on guitar\, who both bring their own energy\, musicianship and spirit to Gaelic Storm.
URL:https://dekalbcountycvb.com/dccvb-event/gaelic-storm-with-reverend-peytons-big-damn-band/
LOCATION:Egyptian Theatre\, 135 North 2nd Street\, DeKalb\, IL\, 60115\, United States
CATEGORIES:Live Music
ATTACH;FMTTYPE=image/png:https://dekalbcountycvb.com/wp-content/uploads/2024/09/Gaelic_Storm_2025_400x320-min.png
END:VEVENT
END:VCALENDAR