BEGIN:VCALENDAR
VERSION:2.0
PRODID:-//DeKalb County Convention and Visitors Bureau - ECPv6.15.17.1//NONSGML v1.0//EN
CALSCALE:GREGORIAN
METHOD:PUBLISH
X-WR-CALNAME:DeKalb County Convention and Visitors Bureau
X-ORIGINAL-URL:https://dekalbcountycvb.com
X-WR-CALDESC:Events for DeKalb County Convention and Visitors Bureau
REFRESH-INTERVAL;VALUE=DURATION:PT1H
X-Robots-Tag:noindex
X-PUBLISHED-TTL:PT1H
BEGIN:VTIMEZONE
TZID:America/Chicago
BEGIN:DAYLIGHT
TZOFFSETFROM:-0600
TZOFFSETTO:-0500
TZNAME:CDT
DTSTART:20230312T080000
END:DAYLIGHT
BEGIN:STANDARD
TZOFFSETFROM:-0500
TZOFFSETTO:-0600
TZNAME:CST
DTSTART:20231105T070000
END:STANDARD
BEGIN:DAYLIGHT
TZOFFSETFROM:-0600
TZOFFSETTO:-0500
TZNAME:CDT
DTSTART:20240310T080000
END:DAYLIGHT
BEGIN:STANDARD
TZOFFSETFROM:-0500
TZOFFSETTO:-0600
TZNAME:CST
DTSTART:20241103T070000
END:STANDARD
BEGIN:DAYLIGHT
TZOFFSETFROM:-0600
TZOFFSETTO:-0500
TZNAME:CDT
DTSTART:20250309T080000
END:DAYLIGHT
BEGIN:STANDARD
TZOFFSETFROM:-0500
TZOFFSETTO:-0600
TZNAME:CST
DTSTART:20251102T070000
END:STANDARD
END:VTIMEZONE
BEGIN:VEVENT
DTSTART;TZID=America/Chicago:20240905T100000
DTEND;TZID=America/Chicago:20240905T140000
DTSTAMP:20260419T143435
CREATED:20240625T163008Z
LAST-MODIFIED:20240627T164917Z
UID:10000646-1725530400-1725544800@dekalbcountycvb.com
SUMMARY:DeKalb Farmers' Market
DESCRIPTION:The DeKalb Farmers’ Market is in the heart of Downtown DeKalb\, Illinois\, and features vendors that provide the community with locally grown produce\, bread\, baked goods\, olive oil\, honey\, coffee\, flowers\, food trucks\, and live music. Enjoy and support over 25 local vendors. Cash\, credit\, and Link are accepted. They Link Match so Link card holders can purchase up to $50 worth of produce for $25! Visit the Information Booth on market days for Link tokens and Link Match to use at qualifying vendors. \n\n\n\nLearn more at dekalb.org/dekalb-farmers-market/.
URL:https://dekalbcountycvb.com/dccvb-event/dekalb-farmers-market/2024-09-05/
LOCATION:Van Buer Plaza\, 148-198 N 2nd St\, DeKalb\, IL\, 60115\, United States
CATEGORIES:Farmers' Markets,Live Music
ATTACH;FMTTYPE=image/png:https://dekalbcountycvb.com/wp-content/uploads/2024/06/dekalb-farmers1-300x300-1.png
ORGANIZER;CN="DeKalb Chamber of Commerce":MAILTO:chamber@dekalb.org
END:VEVENT
BEGIN:VEVENT
DTSTART;TZID=America/Chicago:20240907T173000
DTEND;TZID=America/Chicago:20240907T220000
DTSTAMP:20260419T143435
CREATED:20240625T181234Z
LAST-MODIFIED:20240807T153731Z
UID:10000713-1725730200-1725746400@dekalbcountycvb.com
SUMMARY:Off Broadway USA and Dbl. Brewed at Warehouse on Park
DESCRIPTION:Off Broadway USA and Dbl. Brewed will be performing at Warehouse on Park on September 7th from 5:30pm-10:00pm. More information is available on the Warehouse on Park website. 
URL:https://dekalbcountycvb.com/dccvb-event/off-broadway-usa-and-dbl-brewed-at-warehouse-on-park/
LOCATION:Warehouse on Park\, 662 Park Ave\, Genoa\, IL\, 60135\, United States
CATEGORIES:Live Music
ATTACH;FMTTYPE=image/jpeg:https://dekalbcountycvb.com/wp-content/uploads/2024/06/EVENT2024.jpg
END:VEVENT
BEGIN:VEVENT
DTSTART;TZID=America/Chicago:20240912T100000
DTEND;TZID=America/Chicago:20240912T140000
DTSTAMP:20260419T143435
CREATED:20240625T163008Z
LAST-MODIFIED:20240627T164917Z
UID:10000647-1726135200-1726149600@dekalbcountycvb.com
SUMMARY:DeKalb Farmers' Market
DESCRIPTION:The DeKalb Farmers’ Market is in the heart of Downtown DeKalb\, Illinois\, and features vendors that provide the community with locally grown produce\, bread\, baked goods\, olive oil\, honey\, coffee\, flowers\, food trucks\, and live music. Enjoy and support over 25 local vendors. Cash\, credit\, and Link are accepted. They Link Match so Link card holders can purchase up to $50 worth of produce for $25! Visit the Information Booth on market days for Link tokens and Link Match to use at qualifying vendors. \n\n\n\nLearn more at dekalb.org/dekalb-farmers-market/.
URL:https://dekalbcountycvb.com/dccvb-event/dekalb-farmers-market/2024-09-12/
LOCATION:Van Buer Plaza\, 148-198 N 2nd St\, DeKalb\, IL\, 60115\, United States
CATEGORIES:Farmers' Markets,Live Music
ATTACH;FMTTYPE=image/png:https://dekalbcountycvb.com/wp-content/uploads/2024/06/dekalb-farmers1-300x300-1.png
ORGANIZER;CN="DeKalb Chamber of Commerce":MAILTO:chamber@dekalb.org
END:VEVENT
BEGIN:VEVENT
DTSTART;TZID=America/Chicago:20240913T190000
DTEND;TZID=America/Chicago:20240913T210000
DTSTAMP:20260419T143435
CREATED:20240817T230112Z
LAST-MODIFIED:20240819T172037Z
UID:10001048-1726254000-1726261200@dekalbcountycvb.com
SUMMARY:Joe Jencks in Concert
DESCRIPTION:The Unitarian Universalist Congregation of DeKalb (formerly known as the Unitarian Universalist Fellowship of DeKalb) is proud to announce a special performance by Joe Jencks for a benefit concert at its church at 158 N 4th Street in downtown DeKalb on Friday\, September 13\, 2024. Tickets can be purchased via PayPal at uufdekalb.org/joejenksconcert or you can reserve tickets by emailing the church office at office@uudekalb.org and pay for your tickets at the door. Ticket Price: $20.00 for adults; children under 13 are free. \nJoe Jencks sings with a lyric baritone voice that has the edgy richness of a good sea-salt caramel. A 25-year veteran of the international Folk circuit\, an award-winning songwriter and a celebrated vocalist based in the Chicago area\, Joe delivers engaging musical narratives filled with heart\, soul\, groove\, and grit. Blending well-crafted instrumentals and vivid songwriting\, he is known for his performances of musical beauty\, social consciousness\, and spiritual exploration. Jencks has penned several #1 Folksongs including the ever-relevant Lady of The Harbor. From Carnegie Hall to Lincoln Center to Festivals across the U.S. and Canada\, Jencks has become a fan favorite throughout North America and beyond. \nJoe’s 2017 CD Poets\, Philosophers\, Workers\, and Wanderers earned #1 Artist\, #1 Album\, and #1 Song on the North American Folk DJ Chart as well as spending several weeks at #1 on the SIRIUS XM Americana Chart. In August 2022 Joe released The Coming of the Years – a new album more deeply exploring matters of social justice and his Irish heritage. Blending modern and traditional Celtic instrumentation\, this recording is already receiving critical acclaim in advanced reviews. In addition to his work as a touring performer\, songwriter\, and producer\, Joe also leads songwriting workshops with diverse communities from Military Veterans to School Children. Joe is a dual US-Irish citizen and has served as a Cultural Ambassador with the US State Department. He also received a grant in 2020 from the Archives of American Folk Music at The Library of Congress. \nArtist website: \nhttps://www.joejencks.com
URL:https://dekalbcountycvb.com/dccvb-event/joe-jencks-in-concert/
LOCATION:Unitarian Universalist Congregation of DeKalb\, 158 North Fourth St\, DeKalb\, IL\, 60115
CATEGORIES:Live Music
END:VEVENT
BEGIN:VEVENT
DTSTART;TZID=America/Chicago:20240914T120000
DTEND;TZID=America/Chicago:20240914T124500
DTSTAMP:20260419T143435
CREATED:20240811T192828Z
LAST-MODIFIED:20240812T201528Z
UID:10001039-1726315200-1726317900@dekalbcountycvb.com
SUMMARY:Highland Dance with the Thistle & Heather Dance Ensemble
DESCRIPTION:We welcome the Thistle & Heather Highland Dancers of Chicagoland for a traditional Scottish dance performance in our Main Lobby\, accompanied by bagpiper Scott McCawley. \nThe Thistle & Heather Highland Dancers of Chicagoland\, founded in 1981\, perform the colorful\, expressive and physically demanding traditional Scottish Highland and National Dances. \nThis performance is for all ages. No registration is required. Sponsored by the Friends of the Library. \nFor more information\, please contact Chelsea at chelsear@dkpl.org or (815) 756-9568 ext. 1700.
URL:https://dekalbcountycvb.com/dccvb-event/highland-dance-with-the-thistle-heather-dance-ensemble/
LOCATION:DeKalb Public Library\, 309 Oak St\, DeKalb\, IL\, 60115\, United States
CATEGORIES:Family Friendly,Free Event,LGBTQ Friendly,Live Music
ATTACH;FMTTYPE=image/jpeg:https://dekalbcountycvb.com/wp-content/uploads/2024/08/Highland-Dance.jpg
ORGANIZER;CN="DeKalb Public Library":MAILTO:theresaw@dkpl.org
END:VEVENT
BEGIN:VEVENT
DTSTART;TZID=America/Chicago:20240914T170000
DTEND;TZID=America/Chicago:20240914T230000
DTSTAMP:20260419T143435
CREATED:20240910T154855Z
LAST-MODIFIED:20240910T154858Z
UID:10001088-1726333200-1726354800@dekalbcountycvb.com
SUMMARY:MVP Block Party
DESCRIPTION:Join MVP Sports Bar as they take over S. California Street in Sycamore! Live music by the Party Doctors\, drink specials\, face painting for kids\, and more!  \n\n\n\nAll ages are welcome.
URL:https://dekalbcountycvb.com/dccvb-event/mvp-block-party/
CATEGORIES:Family Friendly,Live Music
END:VEVENT
BEGIN:VEVENT
DTSTART;TZID=America/Chicago:20240914T190000
DTEND;TZID=America/Chicago:20240914T220000
DTSTAMP:20260419T143435
CREATED:20240625T165948Z
LAST-MODIFIED:20240807T153928Z
UID:10000709-1726340400-1726351200@dekalbcountycvb.com
SUMMARY:Eclipse at Warehouse on Park
DESCRIPTION:Eclipse\, a Pink Floyd tribute band\, will be performing at Warehouse on Park on September 14th from 7:00pm-10:00pm. More information is available on the Warehouse on Park website.
URL:https://dekalbcountycvb.com/dccvb-event/eclipse-at-warehouse-on-park/
LOCATION:Warehouse on Park\, 662 Park Ave\, Genoa\, IL\, 60135\, United States
CATEGORIES:Live Music
ATTACH;FMTTYPE=image/jpeg:https://dekalbcountycvb.com/wp-content/uploads/2024/06/EVENT2024.jpg
END:VEVENT
BEGIN:VEVENT
DTSTART;TZID=America/Chicago:20240921T090000
DTEND;TZID=America/Chicago:20240921T160000
DTSTAMP:20260419T143435
CREATED:20240625T161315Z
LAST-MODIFIED:20240913T215253Z
UID:10000632-1726909200-1726934400@dekalbcountycvb.com
SUMMARY:Fall Fest
DESCRIPTION:Make your way to Blumen Gardens to celebrate the fall. Join in the festivities\, create wonderful memories\, and experience the joy of the season at its finest. \n\n\n\nCocktails | Food Trucks Live Music | Artist + Maker Market Saturday\, September 21st 9-4PM Wild Carrot 11-2PM \n\n\n\nSunday September 22nd 9-4PM Artist + Maker Market 11-2PM  Pressbox Food Trailer 11-2PM Keep it Poppin Popcorn \n\n\n\nMuch More To Come!!
URL:https://dekalbcountycvb.com/dccvb-event/fall-fest/2024-09-21/
LOCATION:Blumen Gardens\, 403 Edward St\, Sycamore\, IL\, 60178\, United States
CATEGORIES:Family Friendly,Live Music
ATTACH;FMTTYPE=image/jpeg:https://dekalbcountycvb.com/wp-content/uploads/2024/06/Fall-Fest-300x300-1.jpg
END:VEVENT
BEGIN:VEVENT
DTSTART;TZID=America/Chicago:20240921T150000
DTEND;TZID=America/Chicago:20240921T220000
DTSTAMP:20260419T143435
CREATED:20240828T170211Z
LAST-MODIFIED:20240828T170232Z
UID:10001072-1726930800-1726956000@dekalbcountycvb.com
SUMMARY:Malta's Fall Festival
DESCRIPTION:Come celebrate the start of fall at Malta’s Fall Festival! Enjoy live music\, food & drinks\, kids activities\, a parade\, and more!
URL:https://dekalbcountycvb.com/dccvb-event/maltas-fall-festival/
LOCATION:Malta Lions Park\, 409 N 4th Street\, Malta\, IL\, 60150\, United States
CATEGORIES:Family Friendly,Live Music
ATTACH;FMTTYPE=image/jpeg:https://dekalbcountycvb.com/wp-content/uploads/2024/08/Maltas-Fall-Festival-2024.jpg
ORGANIZER;CN="Malta Seedling Project":MAILTO:malta.seedlings@gmail.com
END:VEVENT
BEGIN:VEVENT
DTSTART;TZID=America/Chicago:20240921T193000
DTEND;TZID=America/Chicago:20240921T220000
DTSTAMP:20260419T143435
CREATED:20240708T171952Z
LAST-MODIFIED:20240708T215551Z
UID:10000988-1726947000-1726956000@dekalbcountycvb.com
SUMMARY:Doug Church - The True Voice of Elvis
DESCRIPTION:Doug Church is an international\, multi-award-winning Elvis Tribute artist bringing his successful show to the Sandwich Opera House. \n\n\n\nLearn more
URL:https://dekalbcountycvb.com/dccvb-event/doug-church-the-true-voice-of-elvis/
LOCATION:Sandwich Opera House\, 140 E Railroad St\, Sandwich\, IL\, 60548
CATEGORIES:Live Music
ATTACH;FMTTYPE=image/png:https://dekalbcountycvb.com/wp-content/uploads/2024/07/3.png
END:VEVENT
BEGIN:VEVENT
DTSTART;TZID=America/Chicago:20240922T090000
DTEND;TZID=America/Chicago:20240922T160000
DTSTAMP:20260419T143435
CREATED:20240625T161315Z
LAST-MODIFIED:20240913T215253Z
UID:10001095-1726995600-1727020800@dekalbcountycvb.com
SUMMARY:Fall Fest
DESCRIPTION:Make your way to Blumen Gardens to celebrate the fall. Join in the festivities\, create wonderful memories\, and experience the joy of the season at its finest. \n\n\n\nCocktails | Food Trucks Live Music | Artist + Maker Market Saturday\, September 21st 9-4PM Wild Carrot 11-2PM \n\n\n\nSunday September 22nd 9-4PM Artist + Maker Market 11-2PM  Pressbox Food Trailer 11-2PM Keep it Poppin Popcorn \n\n\n\nMuch More To Come!!
URL:https://dekalbcountycvb.com/dccvb-event/fall-fest/2024-09-22/
LOCATION:Blumen Gardens\, 403 Edward St\, Sycamore\, IL\, 60178\, United States
CATEGORIES:Family Friendly,Live Music
ATTACH;FMTTYPE=image/jpeg:https://dekalbcountycvb.com/wp-content/uploads/2024/06/Fall-Fest-300x300-1.jpg
END:VEVENT
BEGIN:VEVENT
DTSTART;TZID=America/Chicago:20240928T090000
DTEND;TZID=America/Chicago:20240928T150000
DTSTAMP:20260419T143435
CREATED:20240812T171352Z
LAST-MODIFIED:20240812T171356Z
UID:10001031-1727514000-1727535600@dekalbcountycvb.com
SUMMARY:DeKalb Back Alley Market
DESCRIPTION:Check out Downtown DeKalb’s vintage\, retro\, hand-crafted\, repurposed artisan market on Saturday\, September 28th from 9am-3pm! It features various vendors\, live music\, and food trucks.
URL:https://dekalbcountycvb.com/dccvb-event/dekalb-back-alley-market-2/
LOCATION:Downtown DeKalb\, DeKalb\, IL\, 60115\, United States
CATEGORIES:Family Friendly,Free Event,Live Music
ATTACH;FMTTYPE=image/jpeg:https://dekalbcountycvb.com/wp-content/uploads/2024/08/Back-Alley-Market-2.jpg
ORGANIZER;CN="Back Alley Market":MAILTO:dekalbbackalleymarket@gmail.com
END:VEVENT
BEGIN:VEVENT
DTSTART;TZID=America/Chicago:20240929T090000
DTEND;TZID=America/Chicago:20240929T150000
DTSTAMP:20260419T143435
CREATED:20240828T001726Z
LAST-MODIFIED:20240828T164457Z
UID:10001070-1727600400-1727622000@dekalbcountycvb.com
SUMMARY:Taste of DeKalb
DESCRIPTION:The Taste of DeKalb is a fundraising event hosted by the Kishwaukee Sunrise Rotary and includes a variety of food truck options\, family friendly activities and live entertainment. Proceeds raised through sponsorships go towards an annual Community Grant for Children\, Youth and Families of DeKalb County. There is no admission fee to attend the event but patrons will purchase their own food and drink items directly from the food trucks/vendors. This year’s bands include InFunktious and the Prissillas.
URL:https://dekalbcountycvb.com/dccvb-event/taste-of-dekalb/
LOCATION:Van Buer Plaza\, 148-198 N 2nd St\, DeKalb\, IL\, 60115\, United States
CATEGORIES:Family Friendly,Free Event,Live Music
ATTACH;FMTTYPE=image/png:https://dekalbcountycvb.com/wp-content/uploads/2024/08/ToD-Transparent.png
ORGANIZER;CN="Kishwaukee Sunrise Rotary Club":MAILTO:kishwaukeesunriserotary@gmail.com
END:VEVENT
END:VCALENDAR