BEGIN:VCALENDAR
VERSION:2.0
PRODID:-//DeKalb County Convention and Visitors Bureau - ECPv6.15.17.1//NONSGML v1.0//EN
CALSCALE:GREGORIAN
METHOD:PUBLISH
X-WR-CALNAME:DeKalb County Convention and Visitors Bureau
X-ORIGINAL-URL:https://dekalbcountycvb.com
X-WR-CALDESC:Events for DeKalb County Convention and Visitors Bureau
REFRESH-INTERVAL;VALUE=DURATION:PT1H
X-Robots-Tag:noindex
X-PUBLISHED-TTL:PT1H
BEGIN:VTIMEZONE
TZID:America/Chicago
BEGIN:DAYLIGHT
TZOFFSETFROM:-0600
TZOFFSETTO:-0500
TZNAME:CDT
DTSTART:20240310T080000
END:DAYLIGHT
BEGIN:STANDARD
TZOFFSETFROM:-0500
TZOFFSETTO:-0600
TZNAME:CST
DTSTART:20241103T070000
END:STANDARD
BEGIN:DAYLIGHT
TZOFFSETFROM:-0600
TZOFFSETTO:-0500
TZNAME:CDT
DTSTART:20250309T080000
END:DAYLIGHT
BEGIN:STANDARD
TZOFFSETFROM:-0500
TZOFFSETTO:-0600
TZNAME:CST
DTSTART:20251102T070000
END:STANDARD
BEGIN:DAYLIGHT
TZOFFSETFROM:-0600
TZOFFSETTO:-0500
TZNAME:CDT
DTSTART:20260308T080000
END:DAYLIGHT
BEGIN:STANDARD
TZOFFSETFROM:-0500
TZOFFSETTO:-0600
TZNAME:CST
DTSTART:20261101T070000
END:STANDARD
END:VTIMEZONE
BEGIN:VEVENT
DTSTART;TZID=America/Chicago:20250706T130000
DTEND;TZID=America/Chicago:20250706T140000
DTSTAMP:20260419T171623
CREATED:20250423T194208Z
LAST-MODIFIED:20250627T214306Z
UID:10001631-1751806800-1751810400@dekalbcountycvb.com
SUMMARY:Annie's Story Time
DESCRIPTION:Story time will be held on the lawn of the Glidden Homestead\, 921 W. Lincoln Highway (next to Glidden Florist)\, and will be moved indoors if inclement weather. These programs are held monthly at 1 pm on the first Sunday of each month\, starting on May 4. \n\n\n\nThese interactive story times for children may feature songs\, movement and more. This event is free. No registration is required. \n\n\n\nAnnie’s Story Time is named for Joseph F. Glidden’s niece\, Annie Glidden\, who was a major promoter of DeKalb’s cultural and social causes during her lifetime. In 1898\, seeing the need to supply the recently formed DeKalb Public Library with good books\, Annie formed the Library Whist Club. On Monday afternoons\, this group of women came together to play the card game whist. Monies from their membership dues were used for library book purchases. To date\, the library has received over 10\,000 volumes from their activities.
URL:https://dekalbcountycvb.com/dccvb-event/annies-story-time/2025-07-06/
LOCATION:Glidden Historical Center\, 921 W Lincoln Hwy\, DeKalb\, IL\, 60115\, United States
CATEGORIES:Family Friendly,Free Event,LGBTQ Friendly
ATTACH;FMTTYPE=image/jpeg:https://dekalbcountycvb.com/wp-content/uploads/2025/04/Annies-Story-Time.jpg
ORGANIZER;CN="Glidden Historical Center":MAILTO:jessi@gliddenhomestead.org
END:VEVENT
BEGIN:VEVENT
DTSTART;TZID=America/Chicago:20250709T183000
DTEND;TZID=America/Chicago:20250709T203000
DTSTAMP:20260419T171623
CREATED:20250425T204120Z
LAST-MODIFIED:20250804T163402Z
UID:10001802-1752085800-1752093000@dekalbcountycvb.com
SUMMARY:2025 Music at the Mansion
DESCRIPTION:Grab your friends and family\, bring your blankets and chairs\, and don’t forget your dancing shoes for an amazing FREE music experience set against the backdrop of the Ellwood Mansion. Select Wednesday evenings this summer\, the pre-show starts at 6:30 pm and the headline show is from 7:00-8:30 pm. A select menu of beer\, wine\, beverages\, food\, and snacks will be available for purchase on-site each week. \n\n\n\nJune 11 – The Flat Cats \n\n\n\nVintage swing meets modern flair! This Chicago-based band blends hot jazz\, blues\, and timeless standards with a high-energy performance guaranteed to get the crowd moving. \n\n\n\nJune 18 – The PriSSillas \n\n\n\nKnown for their “Classy Rock” style\, this all-female powerhouse band bridges the gap between classic rock legends and modern alt-rock hits with dynamic medleys and tons of charisma. \n\n\n\nJune 25 – Latin Swing Factor \n\n\n\nDance the night away to sizzling salsa beats and reimagined Top 40 hits. Latin Swing Factor infuses every performance with Chicago soul and Puerto Rican swing for a truly unique experience. \n\n\n\nJuly 9 – Prairie Station \n\n\n\nA country music experience for the whole family! This band delivers everything from Johnny Cash classics to today’s hottest chart-toppers in a fun\, interactive show. \n\n\n\nJuly 16 – The Messengers – Rescheduled \n\n\n\nExpect the unexpected with mashups and medleys that span decades. The Messengers keep audiences singing and dancing with a mix of old-school favorites and current hits. \n\n\n\nJuly 23 – The Beaux Band \n\n\n\nA Rock & Roll tribute to the greats! From Tom Petty to ZZ Top\, this six-member band delivers classic rock hits with powerful vocals and unmatched energy. \n\n\n\nAugust 6 – The Messengers \n\n\n\nThe band’s extensive set list features sing-along favorites and unexpected medleys that blend classic hits with today’s current chart-toppers. This mix of old and new ensures that every performance is fresh and exciting\, offering something for everyone.  \n\n\n\nAugust 13 – The PriSSillas \n\n\n\nKnown for their Classy Rock style\, they connect beloved classic artists like Led Zeppelin\, CCR\, and The Doobie Brothers with modern rock and alternative legends such as Green Day\, Pearl Jam\, and The White Stripes. Their setlist features a blend of these influences\, showcasing their versatility and skill in creating unforgettable medleys.
URL:https://dekalbcountycvb.com/dccvb-event/2025-music-at-the-mansion/2025-07-09/
LOCATION:Ellwood House\, 420 Linden Place\, DeKalb\, IL\, 60115\, United States
CATEGORIES:Family Friendly,Free Event,LGBTQ Friendly,Live Music
ATTACH;FMTTYPE=image/jpeg:https://dekalbcountycvb.com/wp-content/uploads/2024/08/ellwood-e1725645756303.jpeg
ORGANIZER;CN="Ellwood House":MAILTO:king@ellwoodhouse.org
END:VEVENT
BEGIN:VEVENT
DTSTART;TZID=America/Chicago:20250712T100000
DTEND;TZID=America/Chicago:20250712T153000
DTSTAMP:20260419T171623
CREATED:20250528T154247Z
LAST-MODIFIED:20250627T201958Z
UID:10001787-1752314400-1752334200@dekalbcountycvb.com
SUMMARY:Familia Fest
DESCRIPTION:DeKalb Kiwanis Park (NEW LOCATION!) \nGet ready for Familia Fest featuring the Hola Cup—a vibrant celebration of soccer\, family\, and community! Our goal is to provide a memorable experience for players and their families. \nDon’t play soccer? Don’t worry! The day will include free activities for families. Come out\, bring a lawn chair or picnic blanket and have fun! \nAssemble your team and bring the whole family for a day of on-field action\, food\, and free entertainment. Featuring a 14+ soccer tournament and kid’s skills clinic as well as stage performances and community connections throughout the day. \n\nAdult Tournament\n\nTeams are guaranteed a minimum of three 25 minute games (6v6) Teams must have a minimum of six (6) and a maximum of ten (10) players. All team members must be 14 years or older. Tournament entry fee is $50 per teamMatching shirts required for each team\, pinnies provided in the event of conflict.Teams must register by July 1\, 2025 either online (below) or in-person until slots fill. \n\nKid’s Soccer Clinic\n\nAges 5-13\, free registration and t-shirt provided. Dribbling/juggling/passing showcase and clinic by age.The Kid’s Soccer Skills Clinic is a fun and engaging way for children under 14 to learn and improve their soccer skills. Led by DeKalb County United\, these clinics are designed for all skill levels\, from beginners to experienced players. Kids will practice dribbling\, passing\, and teamwork in a supportive and energetic environment!
URL:https://dekalbcountycvb.com/dccvb-event/familia-fest-2025/
LOCATION:Kiwanis Park\, 391 Fairview Drive\, DeKalb\, IL\, 60115\, United States
CATEGORIES:Family Friendly,Free Event,LGBTQ Friendly,Physical Activities
ATTACH;FMTTYPE=image/png:https://dekalbcountycvb.com/wp-content/uploads/2025/05/Familia-Fest-Logo-PNG.png
END:VEVENT
END:VCALENDAR