BEGIN:VCALENDAR
VERSION:2.0
PRODID:-//DeKalb County Convention and Visitors Bureau - ECPv6.15.17.1//NONSGML v1.0//EN
CALSCALE:GREGORIAN
METHOD:PUBLISH
X-ORIGINAL-URL:https://dekalbcountycvb.com
X-WR-CALDESC:Events for DeKalb County Convention and Visitors Bureau
REFRESH-INTERVAL;VALUE=DURATION:PT1H
X-Robots-Tag:noindex
X-PUBLISHED-TTL:PT1H
BEGIN:VTIMEZONE
TZID:America/Chicago
BEGIN:DAYLIGHT
TZOFFSETFROM:-0600
TZOFFSETTO:-0500
TZNAME:CDT
DTSTART:20240310T080000
END:DAYLIGHT
BEGIN:STANDARD
TZOFFSETFROM:-0500
TZOFFSETTO:-0600
TZNAME:CST
DTSTART:20241103T070000
END:STANDARD
BEGIN:DAYLIGHT
TZOFFSETFROM:-0600
TZOFFSETTO:-0500
TZNAME:CDT
DTSTART:20250309T080000
END:DAYLIGHT
BEGIN:STANDARD
TZOFFSETFROM:-0500
TZOFFSETTO:-0600
TZNAME:CST
DTSTART:20251102T070000
END:STANDARD
BEGIN:DAYLIGHT
TZOFFSETFROM:-0600
TZOFFSETTO:-0500
TZNAME:CDT
DTSTART:20260308T080000
END:DAYLIGHT
BEGIN:STANDARD
TZOFFSETFROM:-0500
TZOFFSETTO:-0600
TZNAME:CST
DTSTART:20261101T070000
END:STANDARD
END:VTIMEZONE
BEGIN:VEVENT
DTSTART;TZID=America/Chicago:20250617T110000
DTEND;TZID=America/Chicago:20250617T140000
DTSTAMP:20260419T201244
CREATED:20250610T201043Z
LAST-MODIFIED:20250610T201044Z
UID:10001818-1750158000-1750168800@dekalbcountycvb.com
SUMMARY:NIU Celebrates Pride
DESCRIPTION:NIU Celebrates June LGBTQ+ Pride Month!  Join in at the Founders Memorial Library for the fourth annual celebration. Meet up with your NIU colleagues and friends in person at an event to celebrate Pride Month\, NIU LGBTQ+ family\, and belonging at NIU.   \n\n\n\nWear your Huskie LGBTQ+ Pride merch and drop in as your schedule allows: \n\n\n\n11 a.m. to 1 p.m.: Sandwiches\, treats and snacks available (while supplies last\, feel free to bring your own lunch). \n\n\n\n11:30 a.m. to 12:30 p.m.: Pictures with special guest\, Mission Huskie. Wear your Huskie LGBTQ+ Pride merch with your favorite live mascot. \n\n\n\n1  to 2 p.m.: NIU Celebrates Pride Trivia! \n\n\n\nInteractive activities\, music and more with colleagues\, friends and allies will take place throughout the event. \n\n\n\nEvent concludes at 2:00 p.m.
URL:https://dekalbcountycvb.com/dccvb-event/niu-celebrates-pride/
LOCATION:Founder’s Memorial Library\, 217 Normal Rd.\, DeKalb\, Illinois\, 60115\, United States
CATEGORIES:LGBTQ Friendly
END:VEVENT
BEGIN:VEVENT
DTSTART;TZID=America/Chicago:20250617T180000
DTEND;TZID=America/Chicago:20250617T193000
DTSTAMP:20260419T201244
CREATED:20250610T201340Z
LAST-MODIFIED:20250610T201407Z
UID:10001819-1750183200-1750188600@dekalbcountycvb.com
SUMMARY:Free Movie: Will & Harper
DESCRIPTION:Join the Egyptian Theatre for a free screening of Will & Harper as part of DeKalb County Pride! This powerful documentary follows actor Will Ferrell and his close friend Harper Steele\, a transgender woman\, as they embark on a cross-country road trip filled with laughter\, heartfelt conversations\, and deep reflections on identity and friendship. And be sure to stay after for a post-film panel discussion! \n\n\n\nDate & Time: Tuesday\, June 17th at 6:00 PMDoors Open: 5:30 PMFree & Open to the Public – No RSVP or ticket required \n\n\n\nContent Warning: This film is rated R and contains mature themes and language that may not be suitable for all audiences. Viewer discretion is advised. \n\n\n\nCelebrate Pride with this honest and emotional journey that highlights the power of allyship and authentic connection.
URL:https://dekalbcountycvb.com/dccvb-event/free-movie-will-harper/
LOCATION:Egyptian Theatre\, 135 North 2nd Street\, DeKalb\, IL\, 60115\, United States
CATEGORIES:Adult,Free Event,LGBTQ Friendly
END:VEVENT
BEGIN:VEVENT
DTSTART;TZID=America/Chicago:20250618T183000
DTEND;TZID=America/Chicago:20250618T203000
DTSTAMP:20260419T201244
CREATED:20250425T204120Z
LAST-MODIFIED:20250804T163402Z
UID:10001800-1750271400-1750278600@dekalbcountycvb.com
SUMMARY:2025 Music at the Mansion
DESCRIPTION:Grab your friends and family\, bring your blankets and chairs\, and don’t forget your dancing shoes for an amazing FREE music experience set against the backdrop of the Ellwood Mansion. Select Wednesday evenings this summer\, the pre-show starts at 6:30 pm and the headline show is from 7:00-8:30 pm. A select menu of beer\, wine\, beverages\, food\, and snacks will be available for purchase on-site each week. \n\n\n\nJune 11 – The Flat Cats \n\n\n\nVintage swing meets modern flair! This Chicago-based band blends hot jazz\, blues\, and timeless standards with a high-energy performance guaranteed to get the crowd moving. \n\n\n\nJune 18 – The PriSSillas \n\n\n\nKnown for their “Classy Rock” style\, this all-female powerhouse band bridges the gap between classic rock legends and modern alt-rock hits with dynamic medleys and tons of charisma. \n\n\n\nJune 25 – Latin Swing Factor \n\n\n\nDance the night away to sizzling salsa beats and reimagined Top 40 hits. Latin Swing Factor infuses every performance with Chicago soul and Puerto Rican swing for a truly unique experience. \n\n\n\nJuly 9 – Prairie Station \n\n\n\nA country music experience for the whole family! This band delivers everything from Johnny Cash classics to today’s hottest chart-toppers in a fun\, interactive show. \n\n\n\nJuly 16 – The Messengers – Rescheduled \n\n\n\nExpect the unexpected with mashups and medleys that span decades. The Messengers keep audiences singing and dancing with a mix of old-school favorites and current hits. \n\n\n\nJuly 23 – The Beaux Band \n\n\n\nA Rock & Roll tribute to the greats! From Tom Petty to ZZ Top\, this six-member band delivers classic rock hits with powerful vocals and unmatched energy. \n\n\n\nAugust 6 – The Messengers \n\n\n\nThe band’s extensive set list features sing-along favorites and unexpected medleys that blend classic hits with today’s current chart-toppers. This mix of old and new ensures that every performance is fresh and exciting\, offering something for everyone.  \n\n\n\nAugust 13 – The PriSSillas \n\n\n\nKnown for their Classy Rock style\, they connect beloved classic artists like Led Zeppelin\, CCR\, and The Doobie Brothers with modern rock and alternative legends such as Green Day\, Pearl Jam\, and The White Stripes. Their setlist features a blend of these influences\, showcasing their versatility and skill in creating unforgettable medleys.
URL:https://dekalbcountycvb.com/dccvb-event/2025-music-at-the-mansion/2025-06-18/
LOCATION:Ellwood House\, 420 Linden Place\, DeKalb\, IL\, 60115\, United States
CATEGORIES:Family Friendly,Free Event,LGBTQ Friendly,Live Music
ATTACH;FMTTYPE=image/jpeg:https://dekalbcountycvb.com/wp-content/uploads/2024/08/ellwood-e1725645756303.jpeg
ORGANIZER;CN="Ellwood House":MAILTO:king@ellwoodhouse.org
END:VEVENT
END:VCALENDAR