BEGIN:VCALENDAR
VERSION:2.0
PRODID:-//DeKalb County Convention and Visitors Bureau - ECPv6.15.17.1//NONSGML v1.0//EN
CALSCALE:GREGORIAN
METHOD:PUBLISH
X-WR-CALNAME:DeKalb County Convention and Visitors Bureau
X-ORIGINAL-URL:https://dekalbcountycvb.com
X-WR-CALDESC:Events for DeKalb County Convention and Visitors Bureau
REFRESH-INTERVAL;VALUE=DURATION:PT1H
X-Robots-Tag:noindex
X-PUBLISHED-TTL:PT1H
BEGIN:VTIMEZONE
TZID:America/Chicago
BEGIN:DAYLIGHT
TZOFFSETFROM:-0600
TZOFFSETTO:-0500
TZNAME:CDT
DTSTART:20240310T080000
END:DAYLIGHT
BEGIN:STANDARD
TZOFFSETFROM:-0500
TZOFFSETTO:-0600
TZNAME:CST
DTSTART:20241103T070000
END:STANDARD
BEGIN:DAYLIGHT
TZOFFSETFROM:-0600
TZOFFSETTO:-0500
TZNAME:CDT
DTSTART:20250309T080000
END:DAYLIGHT
BEGIN:STANDARD
TZOFFSETFROM:-0500
TZOFFSETTO:-0600
TZNAME:CST
DTSTART:20251102T070000
END:STANDARD
BEGIN:DAYLIGHT
TZOFFSETFROM:-0600
TZOFFSETTO:-0500
TZNAME:CDT
DTSTART:20260308T080000
END:DAYLIGHT
BEGIN:STANDARD
TZOFFSETFROM:-0500
TZOFFSETTO:-0600
TZNAME:CST
DTSTART:20261101T070000
END:STANDARD
END:VTIMEZONE
BEGIN:VEVENT
DTSTART;TZID=America/Chicago:20250608T120000
DTEND;TZID=America/Chicago:20250608T153000
DTSTAMP:20260419T211046
CREATED:20250522T192345Z
LAST-MODIFIED:20250522T192346Z
UID:10001784-1749384000-1749396600@dekalbcountycvb.com
SUMMARY:Parrothead Tailgate Party
DESCRIPTION:Noon to Downbeat (3pm) \n\n\n\nCheeseburger(in Paradise) and Desert Food TruckLandshark Beer-Margarguita(ville) Wine Coolers \n\n\n\nMusic and Much\, Much More \n\n\n\nKick Off Your “Jimmy Buffett Summer”
URL:https://dekalbcountycvb.com/dccvb-event/parrothead-tailgate-party/
CATEGORIES:Family Friendly,LGBTQ Friendly
END:VEVENT
BEGIN:VEVENT
DTSTART;TZID=America/Chicago:20250610T100000
DTEND;TZID=America/Chicago:20250610T120000
DTSTAMP:20260419T211046
CREATED:20250423T205735Z
LAST-MODIFIED:20250627T203640Z
UID:10001639-1749549600-1749556800@dekalbcountycvb.com
SUMMARY:Social Media Accessibility Training
DESCRIPTION:We are excited to invite you to a FREE event on Social Media Accessibility\, co-hosted by the DeKalb County Convention & Visitors Bureau and DeKalb County Economic Development Corporation. Presented by RAMP! \n\n\n\nThis is a fantastic opportunity to deepen your understanding of social media accessibility and take the lead in promoting inclusivity by making digital communication more accessible. Join industry peers as we explore best practices\, share insights\, and discuss key solutions. Don’t miss this chance to drive positive change and make a real impact! \n\n\n\n\n                \n                        \n                            Social Media Accessibility Registration Form\n                            Social Media Accessibility Training Registration Form \n                        \n                        Name(Required)\n                            \n                            \n                                                    First\n                                                    \n                                                \n                            \n                            \n                                                            Last\n                                                            \n                                                        \n                            \n                        Email(Required)\n                                \n                                    Enter Email\n                                    \n                                \n                                \n                                    Confirm Email\n                                    \n                                \n                                \n                            Company Website URL\n                    \n                Industry TypeAdvertisingAgricultureBankingConstructionCreativesEducationEntertainmentFashionFinanceHospitalityMarketingRetailServicesTechnologyOtherDo you have any questions you would like to ask our speakers?Want to keep up-to-date with our latest news and announcements? Yes please!\n          \n            \n            \n            \n            \n            \n            \n            \n            \n            \n            \n            \n            \n            \n        \n                        Δ
URL:https://dekalbcountycvb.com/dccvb-event/social-media-accessibility-training/
LOCATION:Egyptian Theatre\, 135 North 2nd Street\, DeKalb\, IL\, 60115\, United States
CATEGORIES:Free Event,LGBTQ Friendly
ATTACH;FMTTYPE=image/jpeg:https://dekalbcountycvb.com/wp-content/uploads/2025/04/717e0887697c9e3d4a69c3a050b93076ebbb05aeb6dac4b6286a026b5a9eb1e1.jpg
ORGANIZER;CN="Dekalb County Convention and Visitors Bureau":MAILTO:office@dekalbcountycvb.com
END:VEVENT
BEGIN:VEVENT
DTSTART;TZID=America/Chicago:20250611T183000
DTEND;TZID=America/Chicago:20250611T203000
DTSTAMP:20260419T211046
CREATED:20250425T204120Z
LAST-MODIFIED:20250804T163402Z
UID:10001799-1749666600-1749673800@dekalbcountycvb.com
SUMMARY:2025 Music at the Mansion
DESCRIPTION:Grab your friends and family\, bring your blankets and chairs\, and don’t forget your dancing shoes for an amazing FREE music experience set against the backdrop of the Ellwood Mansion. Select Wednesday evenings this summer\, the pre-show starts at 6:30 pm and the headline show is from 7:00-8:30 pm. A select menu of beer\, wine\, beverages\, food\, and snacks will be available for purchase on-site each week. \n\n\n\nJune 11 – The Flat Cats \n\n\n\nVintage swing meets modern flair! This Chicago-based band blends hot jazz\, blues\, and timeless standards with a high-energy performance guaranteed to get the crowd moving. \n\n\n\nJune 18 – The PriSSillas \n\n\n\nKnown for their “Classy Rock” style\, this all-female powerhouse band bridges the gap between classic rock legends and modern alt-rock hits with dynamic medleys and tons of charisma. \n\n\n\nJune 25 – Latin Swing Factor \n\n\n\nDance the night away to sizzling salsa beats and reimagined Top 40 hits. Latin Swing Factor infuses every performance with Chicago soul and Puerto Rican swing for a truly unique experience. \n\n\n\nJuly 9 – Prairie Station \n\n\n\nA country music experience for the whole family! This band delivers everything from Johnny Cash classics to today’s hottest chart-toppers in a fun\, interactive show. \n\n\n\nJuly 16 – The Messengers – Rescheduled \n\n\n\nExpect the unexpected with mashups and medleys that span decades. The Messengers keep audiences singing and dancing with a mix of old-school favorites and current hits. \n\n\n\nJuly 23 – The Beaux Band \n\n\n\nA Rock & Roll tribute to the greats! From Tom Petty to ZZ Top\, this six-member band delivers classic rock hits with powerful vocals and unmatched energy. \n\n\n\nAugust 6 – The Messengers \n\n\n\nThe band’s extensive set list features sing-along favorites and unexpected medleys that blend classic hits with today’s current chart-toppers. This mix of old and new ensures that every performance is fresh and exciting\, offering something for everyone.  \n\n\n\nAugust 13 – The PriSSillas \n\n\n\nKnown for their Classy Rock style\, they connect beloved classic artists like Led Zeppelin\, CCR\, and The Doobie Brothers with modern rock and alternative legends such as Green Day\, Pearl Jam\, and The White Stripes. Their setlist features a blend of these influences\, showcasing their versatility and skill in creating unforgettable medleys.
URL:https://dekalbcountycvb.com/dccvb-event/2025-music-at-the-mansion/2025-06-11/
LOCATION:Ellwood House\, 420 Linden Place\, DeKalb\, IL\, 60115\, United States
CATEGORIES:Family Friendly,Free Event,LGBTQ Friendly,Live Music
ATTACH;FMTTYPE=image/jpeg:https://dekalbcountycvb.com/wp-content/uploads/2024/08/ellwood-e1725645756303.jpeg
ORGANIZER;CN="Ellwood House":MAILTO:king@ellwoodhouse.org
END:VEVENT
BEGIN:VEVENT
DTSTART;TZID=America/Chicago:20250612T210000
DTEND;TZID=America/Chicago:20250612T230000
DTSTAMP:20260419T211046
CREATED:20250528T180424Z
LAST-MODIFIED:20250528T180425Z
UID:10001796-1749762000-1749769200@dekalbcountycvb.com
SUMMARY:Queens of the Midwest (Drag Show)
DESCRIPTION:The Queens of the Midwest will be bringing an energetic & entertaining event to Denim & Diamonds Saloon!Tickets can be purchased on our Eventbrite page (Link Below) Early Bird tickets are $15 for General Admission ($20 at the door the day of the event) $40 for VIP (front row seating and a photo with one of the Queens after the show)
URL:https://dekalbcountycvb.com/dccvb-event/queens-of-the-midwest-drag-show/
LOCATION:Denim & Diamonds Saloon\, 425 W State St.\, Sycamore\, IL\, 60178\, United States
CATEGORIES:Adult,LGBTQ Friendly
ATTACH;FMTTYPE=image/jpeg:https://dekalbcountycvb.com/wp-content/uploads/2025/05/1043344014311940.jpg
END:VEVENT
BEGIN:VEVENT
DTSTART;TZID=America/Chicago:20250612T210000
DTEND;TZID=America/Chicago:20250612T230000
DTSTAMP:20260419T211046
CREATED:20250610T194101Z
LAST-MODIFIED:20250610T194103Z
UID:10001817-1749762000-1749769200@dekalbcountycvb.com
SUMMARY:Queens of the Midwest Drag Show
DESCRIPTION:The Queens of Midwest is a high energy\, entertaining show featuring performances from several beautiful Queens.
URL:https://dekalbcountycvb.com/dccvb-event/queens-of-the-midwest-drag-show-2/
LOCATION:Denim & Diamonds Saloon\, 425 W State St.\, Sycamore\, IL\, 60178\, United States
CATEGORIES:LGBTQ Friendly
ATTACH;FMTTYPE=image/jpeg:https://dekalbcountycvb.com/wp-content/uploads/2025/06/Queens-of-the-Midest-Drag-2025-1.jpg
END:VEVENT
END:VCALENDAR