BEGIN:VCALENDAR
VERSION:2.0
PRODID:-//DeKalb County Convention and Visitors Bureau - ECPv6.15.17.1//NONSGML v1.0//EN
CALSCALE:GREGORIAN
METHOD:PUBLISH
X-ORIGINAL-URL:https://dekalbcountycvb.com
X-WR-CALDESC:Events for DeKalb County Convention and Visitors Bureau
REFRESH-INTERVAL;VALUE=DURATION:PT1H
X-Robots-Tag:noindex
X-PUBLISHED-TTL:PT1H
BEGIN:VTIMEZONE
TZID:America/Chicago
BEGIN:DAYLIGHT
TZOFFSETFROM:-0600
TZOFFSETTO:-0500
TZNAME:CDT
DTSTART:20240310T080000
END:DAYLIGHT
BEGIN:STANDARD
TZOFFSETFROM:-0500
TZOFFSETTO:-0600
TZNAME:CST
DTSTART:20241103T070000
END:STANDARD
BEGIN:DAYLIGHT
TZOFFSETFROM:-0600
TZOFFSETTO:-0500
TZNAME:CDT
DTSTART:20250309T080000
END:DAYLIGHT
BEGIN:STANDARD
TZOFFSETFROM:-0500
TZOFFSETTO:-0600
TZNAME:CST
DTSTART:20251102T070000
END:STANDARD
BEGIN:DAYLIGHT
TZOFFSETFROM:-0600
TZOFFSETTO:-0500
TZNAME:CDT
DTSTART:20260308T080000
END:DAYLIGHT
BEGIN:STANDARD
TZOFFSETFROM:-0500
TZOFFSETTO:-0600
TZNAME:CST
DTSTART:20261101T070000
END:STANDARD
END:VTIMEZONE
BEGIN:VEVENT
DTSTART;TZID=America/Chicago:20250504T130000
DTEND;TZID=America/Chicago:20250504T140000
DTSTAMP:20260419T201718
CREATED:20250423T194208Z
LAST-MODIFIED:20250627T214306Z
UID:10001629-1746363600-1746367200@dekalbcountycvb.com
SUMMARY:Annie's Story Time
DESCRIPTION:Story time will be held on the lawn of the Glidden Homestead\, 921 W. Lincoln Highway (next to Glidden Florist)\, and will be moved indoors if inclement weather. These programs are held monthly at 1 pm on the first Sunday of each month\, starting on May 4. \n\n\n\nThese interactive story times for children may feature songs\, movement and more. This event is free. No registration is required. \n\n\n\nAnnie’s Story Time is named for Joseph F. Glidden’s niece\, Annie Glidden\, who was a major promoter of DeKalb’s cultural and social causes during her lifetime. In 1898\, seeing the need to supply the recently formed DeKalb Public Library with good books\, Annie formed the Library Whist Club. On Monday afternoons\, this group of women came together to play the card game whist. Monies from their membership dues were used for library book purchases. To date\, the library has received over 10\,000 volumes from their activities.
URL:https://dekalbcountycvb.com/dccvb-event/annies-story-time/2025-05-04/
LOCATION:Glidden Historical Center\, 921 W Lincoln Hwy\, DeKalb\, IL\, 60115\, United States
CATEGORIES:Family Friendly,Free Event,LGBTQ Friendly
ATTACH;FMTTYPE=image/jpeg:https://dekalbcountycvb.com/wp-content/uploads/2025/04/Annies-Story-Time.jpg
ORGANIZER;CN="Glidden Historical Center":MAILTO:jessi@gliddenhomestead.org
END:VEVENT
END:VCALENDAR