BEGIN:VCALENDAR
VERSION:2.0
PRODID:-//DeKalb County Convention and Visitors Bureau - ECPv6.15.17.1//NONSGML v1.0//EN
CALSCALE:GREGORIAN
METHOD:PUBLISH
X-ORIGINAL-URL:https://dekalbcountycvb.com
X-WR-CALDESC:Events for DeKalb County Convention and Visitors Bureau
REFRESH-INTERVAL;VALUE=DURATION:PT1H
X-Robots-Tag:noindex
X-PUBLISHED-TTL:PT1H
BEGIN:VTIMEZONE
TZID:America/Chicago
BEGIN:DAYLIGHT
TZOFFSETFROM:-0600
TZOFFSETTO:-0500
TZNAME:CDT
DTSTART:20240310T080000
END:DAYLIGHT
BEGIN:STANDARD
TZOFFSETFROM:-0500
TZOFFSETTO:-0600
TZNAME:CST
DTSTART:20241103T070000
END:STANDARD
BEGIN:DAYLIGHT
TZOFFSETFROM:-0600
TZOFFSETTO:-0500
TZNAME:CDT
DTSTART:20250309T080000
END:DAYLIGHT
BEGIN:STANDARD
TZOFFSETFROM:-0500
TZOFFSETTO:-0600
TZNAME:CST
DTSTART:20251102T070000
END:STANDARD
BEGIN:DAYLIGHT
TZOFFSETFROM:-0600
TZOFFSETTO:-0500
TZNAME:CDT
DTSTART:20260308T080000
END:DAYLIGHT
BEGIN:STANDARD
TZOFFSETFROM:-0500
TZOFFSETTO:-0600
TZNAME:CST
DTSTART:20261101T070000
END:STANDARD
END:VTIMEZONE
BEGIN:VEVENT
DTSTART;TZID=America/Chicago:20250712T100000
DTEND;TZID=America/Chicago:20250712T153000
DTSTAMP:20260419T143745
CREATED:20250528T154247Z
LAST-MODIFIED:20250627T201958Z
UID:10001787-1752314400-1752334200@dekalbcountycvb.com
SUMMARY:Familia Fest
DESCRIPTION:DeKalb Kiwanis Park (NEW LOCATION!) \nGet ready for Familia Fest featuring the Hola Cup—a vibrant celebration of soccer\, family\, and community! Our goal is to provide a memorable experience for players and their families. \nDon’t play soccer? Don’t worry! The day will include free activities for families. Come out\, bring a lawn chair or picnic blanket and have fun! \nAssemble your team and bring the whole family for a day of on-field action\, food\, and free entertainment. Featuring a 14+ soccer tournament and kid’s skills clinic as well as stage performances and community connections throughout the day. \n\nAdult Tournament\n\nTeams are guaranteed a minimum of three 25 minute games (6v6) Teams must have a minimum of six (6) and a maximum of ten (10) players. All team members must be 14 years or older. Tournament entry fee is $50 per teamMatching shirts required for each team\, pinnies provided in the event of conflict.Teams must register by July 1\, 2025 either online (below) or in-person until slots fill. \n\nKid’s Soccer Clinic\n\nAges 5-13\, free registration and t-shirt provided. Dribbling/juggling/passing showcase and clinic by age.The Kid’s Soccer Skills Clinic is a fun and engaging way for children under 14 to learn and improve their soccer skills. Led by DeKalb County United\, these clinics are designed for all skill levels\, from beginners to experienced players. Kids will practice dribbling\, passing\, and teamwork in a supportive and energetic environment!
URL:https://dekalbcountycvb.com/dccvb-event/familia-fest-2025/
LOCATION:Kiwanis Park\, 391 Fairview Drive\, DeKalb\, IL\, 60115\, United States
CATEGORIES:Family Friendly,Free Event,LGBTQ Friendly,Physical Activities
ATTACH;FMTTYPE=image/png:https://dekalbcountycvb.com/wp-content/uploads/2025/05/Familia-Fest-Logo-PNG.png
END:VEVENT
END:VCALENDAR