BEGIN:VCALENDAR
VERSION:2.0
PRODID:-//DeKalb County Convention and Visitors Bureau - ECPv6.15.17.1//NONSGML v1.0//EN
CALSCALE:GREGORIAN
METHOD:PUBLISH
X-WR-CALNAME:DeKalb County Convention and Visitors Bureau
X-ORIGINAL-URL:https://dekalbcountycvb.com
X-WR-CALDESC:Events for DeKalb County Convention and Visitors Bureau
REFRESH-INTERVAL;VALUE=DURATION:PT1H
X-Robots-Tag:noindex
X-PUBLISHED-TTL:PT1H
BEGIN:VTIMEZONE
TZID:America/Chicago
BEGIN:DAYLIGHT
TZOFFSETFROM:-0600
TZOFFSETTO:-0500
TZNAME:CDT
DTSTART:20240310T080000
END:DAYLIGHT
BEGIN:STANDARD
TZOFFSETFROM:-0500
TZOFFSETTO:-0600
TZNAME:CST
DTSTART:20241103T070000
END:STANDARD
BEGIN:DAYLIGHT
TZOFFSETFROM:-0600
TZOFFSETTO:-0500
TZNAME:CDT
DTSTART:20250309T080000
END:DAYLIGHT
BEGIN:STANDARD
TZOFFSETFROM:-0500
TZOFFSETTO:-0600
TZNAME:CST
DTSTART:20251102T070000
END:STANDARD
BEGIN:DAYLIGHT
TZOFFSETFROM:-0600
TZOFFSETTO:-0500
TZNAME:CDT
DTSTART:20260308T080000
END:DAYLIGHT
BEGIN:STANDARD
TZOFFSETFROM:-0500
TZOFFSETTO:-0600
TZNAME:CST
DTSTART:20261101T070000
END:STANDARD
END:VTIMEZONE
BEGIN:VEVENT
DTSTART;TZID=America/Chicago:20250628T150000
DTEND;TZID=America/Chicago:20250628T230000
DTSTAMP:20260419T171730
CREATED:20240626T145654Z
LAST-MODIFIED:20250627T202318Z
UID:10000875-1751122800-1751151600@dekalbcountycvb.com
SUMMARY:Good Time for All Festival - Fireworks at Dark
DESCRIPTION:Enjoy a day full of music\, outdoor activities\, food\, fun\, and fireworks at the 2025 Good Time for All Festival! \n\n\n\nHinckley\, Illinois is a community with a rich history and a vibrant present. A beautiful mosaic mural was recently added to its downtown with the design and instruction of artist\, Danielle Casali. The mural showcases pieces of the farming town’s history and comes together with a quote in the middle: “… and a good time was had by all.” With the mural in mind\, the annual Hinckley Fireworks Festival has been rebranded as the Good Time for All Festival. The festival would not be possible without donations\, supporters\, and volunteers. \n\n\n\nLocated under 30 minutes from the DeKalb\, Elburn\, Aurora\, Yorkville\, and Batavia areas\, we hope you will make your way to Hinckley on June 28th for a good time!
URL:https://dekalbcountycvb.com/dccvb-event/good-time-for-all-festival-fireworks-at-dark-2025/
LOCATION:Hinckley High School\, 700 E Lincoln Ave\, Hinckley\, IL\, 60520\, United States
CATEGORIES:Family Friendly,Free Event,LGBTQ Friendly,Live Music
ATTACH;FMTTYPE=image/jpeg:https://dekalbcountycvb.com/wp-content/uploads/2024/06/Logo-Good-Time-for-All-Festival-300x300-1.jpg
END:VEVENT
END:VCALENDAR