BEGIN:VCALENDAR
VERSION:2.0
PRODID:-//DeKalb County Convention and Visitors Bureau - ECPv6.15.17.1//NONSGML v1.0//EN
CALSCALE:GREGORIAN
METHOD:PUBLISH
X-WR-CALNAME:DeKalb County Convention and Visitors Bureau
X-ORIGINAL-URL:https://dekalbcountycvb.com
X-WR-CALDESC:Events for DeKalb County Convention and Visitors Bureau
REFRESH-INTERVAL;VALUE=DURATION:PT1H
X-Robots-Tag:noindex
X-PUBLISHED-TTL:PT1H
BEGIN:VTIMEZONE
TZID:America/Chicago
BEGIN:DAYLIGHT
TZOFFSETFROM:-0600
TZOFFSETTO:-0500
TZNAME:CDT
DTSTART:20240310T080000
END:DAYLIGHT
BEGIN:STANDARD
TZOFFSETFROM:-0500
TZOFFSETTO:-0600
TZNAME:CST
DTSTART:20241103T070000
END:STANDARD
BEGIN:DAYLIGHT
TZOFFSETFROM:-0600
TZOFFSETTO:-0500
TZNAME:CDT
DTSTART:20250309T080000
END:DAYLIGHT
BEGIN:STANDARD
TZOFFSETFROM:-0500
TZOFFSETTO:-0600
TZNAME:CST
DTSTART:20251102T070000
END:STANDARD
BEGIN:DAYLIGHT
TZOFFSETFROM:-0600
TZOFFSETTO:-0500
TZNAME:CDT
DTSTART:20260308T080000
END:DAYLIGHT
BEGIN:STANDARD
TZOFFSETFROM:-0500
TZOFFSETTO:-0600
TZNAME:CST
DTSTART:20261101T070000
END:STANDARD
END:VTIMEZONE
BEGIN:VEVENT
DTSTART;TZID=America/Chicago:20250405T190000
DTEND;TZID=America/Chicago:20250405T213000
DTSTAMP:20260419T185124
CREATED:20250317T183931Z
LAST-MODIFIED:20250317T184442Z
UID:10001476-1743879600-1743888600@dekalbcountycvb.com
SUMMARY:Prom Rewind
DESCRIPTION:Why should youth be wasted on the young? It’s time to do Prom night right – the way you wish you could have in high school. Join us for Prom Rewind. All proceeds benefit Barb Food Mart\, so this is your chance to support DeKalb’s youth while recapturing your own. \n\n\n\nTICKETS$40 General Admission \n\n\n\n$50 Premium Package Ticket (can only be purchased in increments of two)Includes general admission ticket. One Prom Rewind souvenir frame and a photo ticket per pair.
URL:https://dekalbcountycvb.com/dccvb-event/prom-rewind-25/
LOCATION:Egyptian Theatre\, 135 North 2nd Street\, DeKalb\, IL\, 60115\, United States
CATEGORIES:Adult,LGBTQ Friendly
ATTACH;FMTTYPE=image/jpeg:https://dekalbcountycvb.com/wp-content/uploads/2025/03/Prom_KMP24-79.jpg
END:VEVENT
BEGIN:VEVENT
DTSTART;TZID=America/Chicago:20250412T130000
DTEND;TZID=America/Chicago:20250412T230000
DTSTAMP:20260419T185124
CREATED:20250218T220443Z
LAST-MODIFIED:20250218T220444Z
UID:10001422-1744462800-1744498800@dekalbcountycvb.com
SUMMARY:Roper Romp
DESCRIPTION:COMING APRIL 12TH\, 2025 DEKALB\, IL!HELEN & LARRY LUAU!!!🌴🧉🌴🧉🌴🧉🌴🧉🌴🧉🌴🧉🌴🧉🌴🧉 \n\n\n\nMEN:Got a Hairy Chest\, Sideburns or a slight 70 big hair to show off⁉️Wear your Hawaiian shirt to get leis! 👕 \n\n\n\nWOMEN:HAWAIIAN HELENS! Leis\, Hawaiian Caftans & don’t forget about the flowers in your red hair!🌺🌸🌺🌸🌺🌸🌺📿🌺🌸🌺🌸🌺🌸🌺 \n\n\n\nMark your calendar for April 12! Kick off the ROMP with some drinks\, snacks\, shopping\, giveaways & new friendships at the Egyptian Theatre from 1-3pm.  \n\n\n\nAt 3pm all Helens and Larrys will hit downtown DeKalb and enjoy a variety of food\, drink and shopping specials throughout downtown businesses.  \n\n\n\n📿 “In a World of Karens\, Be a Helen!”
URL:https://dekalbcountycvb.com/dccvb-event/roper-romp-3/
CATEGORIES:Adult,Free Event,LGBTQ Friendly
ATTACH;FMTTYPE=image/jpeg:https://dekalbcountycvb.com/wp-content/uploads/2025/02/inbound7429488003046956114.jpg
END:VEVENT
BEGIN:VEVENT
DTSTART;TZID=America/Chicago:20250416T110000
DTEND;TZID=America/Chicago:20250416T153000
DTSTAMP:20260419T185124
CREATED:20250321T153207Z
LAST-MODIFIED:20250326T204611Z
UID:10001546-1744801200-1744817400@dekalbcountycvb.com
SUMMARY:NIU Wellness Fair
DESCRIPTION:Save the Date – Counseling and Consultation Services and Employee Well-being proudly presents NIU’s annual Wellness Fair hosted on Wednesday\, April 16th from 11:00 am – 3:00 pm in the Holmes Student Center’s Duke Ellington Ballroom.  All are invited to attend and engage in the variety of free opportunities offered at the fair. Campus and community partners will provide attendees with interactive activities\, services\, and information focused on “Healthy Body\, Healthy Mind and Healthy Spirit.” Additional interactive wellness opportunities include free workshops featuring healthy eating\, fitness tips\, mental health support training\, and more. A release for staff will be granted and more information will be announced in the following weeks. The NIU Wellness Fair is offered in partnership with and sponsorship by the Presidential Commission on Well-being. \n \nInterested in hosting a table at the fair? Contact Employeewellbeing@niu.edu for more information.
URL:https://dekalbcountycvb.com/dccvb-event/niu-wellness-fair/
LOCATION:NIU Holmes Student Center\, 340 Carroll Avenue\, DeKalb\, IL\, 60115\, United States
CATEGORIES:Adult,Family Friendly,Free Event,LGBTQ Friendly
ATTACH;FMTTYPE=image/png:https://dekalbcountycvb.com/wp-content/uploads/2025/03/NIU_vert_3Clr.png
ORGANIZER;CN="NIU Employee Well-being":MAILTO:employeeassistance@niu.edu
END:VEVENT
END:VCALENDAR