BEGIN:VCALENDAR
VERSION:2.0
PRODID:-//DeKalb County Convention and Visitors Bureau - ECPv6.15.17.1//NONSGML v1.0//EN
CALSCALE:GREGORIAN
METHOD:PUBLISH
X-ORIGINAL-URL:https://dekalbcountycvb.com
X-WR-CALDESC:Events for DeKalb County Convention and Visitors Bureau
REFRESH-INTERVAL;VALUE=DURATION:PT1H
X-Robots-Tag:noindex
X-PUBLISHED-TTL:PT1H
BEGIN:VTIMEZONE
TZID:America/Chicago
BEGIN:DAYLIGHT
TZOFFSETFROM:-0600
TZOFFSETTO:-0500
TZNAME:CDT
DTSTART:20230312T080000
END:DAYLIGHT
BEGIN:STANDARD
TZOFFSETFROM:-0500
TZOFFSETTO:-0600
TZNAME:CST
DTSTART:20231105T070000
END:STANDARD
BEGIN:DAYLIGHT
TZOFFSETFROM:-0600
TZOFFSETTO:-0500
TZNAME:CDT
DTSTART:20240310T080000
END:DAYLIGHT
BEGIN:STANDARD
TZOFFSETFROM:-0500
TZOFFSETTO:-0600
TZNAME:CST
DTSTART:20241103T070000
END:STANDARD
BEGIN:DAYLIGHT
TZOFFSETFROM:-0600
TZOFFSETTO:-0500
TZNAME:CDT
DTSTART:20250309T080000
END:DAYLIGHT
BEGIN:STANDARD
TZOFFSETFROM:-0500
TZOFFSETTO:-0600
TZNAME:CST
DTSTART:20251102T070000
END:STANDARD
END:VTIMEZONE
BEGIN:VEVENT
DTSTART;TZID=America/Chicago:20241206T190000
DTEND;TZID=America/Chicago:20241206T210000
DTSTAMP:20260420T014410
CREATED:20241115T131507Z
LAST-MODIFIED:20241115T131508Z
UID:10001196-1733511600-1733518800@dekalbcountycvb.com
SUMMARY:Holiday Dreams
DESCRIPTION:Get ready for some holiday magic at the NIU Convocation Center! Holiday Dreams: A Spectacular Family Cirque show is gearing up to make your season bright on Friday\, Dec. 6!  \n\n\n\nHoliday Dreams \, A Spectacular Holiday Cirque! is a ground-breaking holiday show that incorporates acrobats\, aerialists\, comedians\, daredevils and award-winning specialty acts performing incredible feats using the latest in visual and technological “magic” such as holograms\, projection mapping and interactive lasers.
URL:https://dekalbcountycvb.com/dccvb-event/holiday-dreams/
CATEGORIES:Family Friendly,LGBTQ Friendly,Live Music
ATTACH;FMTTYPE=image/jpeg:https://dekalbcountycvb.com/wp-content/uploads/2024/11/Holiday_Dreams_Web_Slider_2-1-e1731676498826.jpg
ORGANIZER;CN="NIU Convocation Center":MAILTO:convocenter@niu.edu
END:VEVENT
BEGIN:VEVENT
DTSTART;TZID=America/Chicago:20241213T160000
DTEND;TZID=America/Chicago:20241213T190000
DTSTAMP:20260420T014410
CREATED:20241120T201735Z
LAST-MODIFIED:20241120T203522Z
UID:10001204-1734105600-1734116400@dekalbcountycvb.com
SUMMARY:Cookies with Santa
DESCRIPTION:Help welcome Mr. and Mrs. Claus to the Community Center! Each child will get to visit with Mr. and Mrs. Claus\, create a winter craft and enjoy cookies and hot chocolate provided by Sycamore Lions Club. Participants are encouraged to bring a donation of a non-perishable food item for the Sycamore Food Pantry or an unwrapped toy to be donated to the DeKalb Toys for Tots.
URL:https://dekalbcountycvb.com/dccvb-event/cookies-with-santa/
LOCATION:Sycamore Park District Community Center\, 480 Airport Rd\, Sycamore\, IL\, 60178
CATEGORIES:Family Friendly,Free Event,LGBTQ Friendly
ATTACH;FMTTYPE=image/jpeg:https://dekalbcountycvb.com/wp-content/uploads/2024/11/COOKIES-WITH-SANTA-CALENDAR-01.jpg
ORGANIZER;CN="Sycamore Park District":MAILTO:info@sycparks.org
END:VEVENT
BEGIN:VEVENT
DTSTART;TZID=America/Chicago:20241214T090000
DTEND;TZID=America/Chicago:20241214T120000
DTSTAMP:20260420T014410
CREATED:20241120T201858Z
LAST-MODIFIED:20241120T204053Z
UID:10001205-1734166800-1734177600@dekalbcountycvb.com
SUMMARY:Cookies with Santa
DESCRIPTION:Help welcome Mr. and Mrs. Claus to the Community Center! Each child will get to visit with Mr. and Mrs. Claus\, create a winter craft and enjoy cookies and hot chocolate provided by Sycamore Lions Club. Participants are encouraged to bring a donation of a non-perishable food item for the Sycamore Food Pantry or an unwrapped toy to be donated to the DeKalb Toys for Tots.
URL:https://dekalbcountycvb.com/dccvb-event/cookies-with-santa-2/
LOCATION:Sycamore Park District Community Center\, 480 Airport Rd\, Sycamore\, IL\, 60178
CATEGORIES:Family Friendly,Free Event,LGBTQ Friendly
ORGANIZER;CN="Sycamore Park District":MAILTO:info@sycparks.org
END:VEVENT
END:VCALENDAR