BEGIN:VCALENDAR
VERSION:2.0
PRODID:-//DeKalb County Convention and Visitors Bureau - ECPv6.15.17.1//NONSGML v1.0//EN
CALSCALE:GREGORIAN
METHOD:PUBLISH
X-WR-CALNAME:DeKalb County Convention and Visitors Bureau
X-ORIGINAL-URL:https://dekalbcountycvb.com
X-WR-CALDESC:Events for DeKalb County Convention and Visitors Bureau
REFRESH-INTERVAL;VALUE=DURATION:PT1H
X-Robots-Tag:noindex
X-PUBLISHED-TTL:PT1H
BEGIN:VTIMEZONE
TZID:America/Chicago
BEGIN:DAYLIGHT
TZOFFSETFROM:-0600
TZOFFSETTO:-0500
TZNAME:CDT
DTSTART:20240310T080000
END:DAYLIGHT
BEGIN:STANDARD
TZOFFSETFROM:-0500
TZOFFSETTO:-0600
TZNAME:CST
DTSTART:20241103T070000
END:STANDARD
BEGIN:DAYLIGHT
TZOFFSETFROM:-0600
TZOFFSETTO:-0500
TZNAME:CDT
DTSTART:20250309T080000
END:DAYLIGHT
BEGIN:STANDARD
TZOFFSETFROM:-0500
TZOFFSETTO:-0600
TZNAME:CST
DTSTART:20251102T070000
END:STANDARD
BEGIN:DAYLIGHT
TZOFFSETFROM:-0600
TZOFFSETTO:-0500
TZNAME:CDT
DTSTART:20260308T080000
END:DAYLIGHT
BEGIN:STANDARD
TZOFFSETFROM:-0500
TZOFFSETTO:-0600
TZNAME:CST
DTSTART:20261101T070000
END:STANDARD
END:VTIMEZONE
BEGIN:VEVENT
DTSTART;TZID=America/Chicago:20251109T130000
DTEND;TZID=America/Chicago:20251109T150000
DTSTAMP:20260419T153030
CREATED:20251013T185009Z
LAST-MODIFIED:20251015T190341Z
UID:10002169-1762693200-1762700400@dekalbcountycvb.com
SUMMARY:Turkey Bowling Fundraiser for Tails Humane Society
DESCRIPTION:More information to come- including prize announcements! \nGrab your friends and get ready to roll… frozen turkeys! Join Tails Humane Society for this one-of-a-kind fundraiser where you’ll bowl with turkeys instead of balls- all to help homeless pets in need. \nFatty’s Pub & Grille1312 W Lincoln Hwy\, DeKalb\, IL 60115Sunday\, November 91–3 PM \nHow It Works \n\nTeams – $80 (up to 4 players)Teams bowl 12 turkeys. Additional tosses are $5 each\, and your best 4 scores will count toward your total!\nIndividuals – $20Individuals bowl 3 turkeys. Additional tosses are $5 each\, and your best 2 scores will count toward your total!\n\nAwards and Prizes \n\nTop Team Score\nTop Individual Score\nGobble Gobble Glory (most spirited team!)\nPlus fun surprise categories!\n\nCan’t forget about a paw-some 50/50 raffle! \nAll proceeds benefit the pets of Tails Humane Society. Come for the game\, stay for the cause- and maybe a few laughs! \nDon’t worry\, no food will be wasted! After the fun\, all turkeys will be repurposed into tasty dog treats for the pets at Tails!
URL:https://dekalbcountycvb.com/dccvb-event/turkey-bowling-fundraiser-for-tails-humane-society/
LOCATION:Fatty’s Pub and Grille\, 1312 W Lincoln Hwy\,\, DeKalb\, IL\, 60115
CATEGORIES:Adult
ATTACH;FMTTYPE=image/png:https://dekalbcountycvb.com/wp-content/uploads/2025/10/turkey-bowling-sm1.png
ORGANIZER;CN="Tails Humane Society":MAILTO:info@tailshumanesociety.org
END:VEVENT
BEGIN:VEVENT
DTSTART;TZID=America/Chicago:20251110T190000
DTEND;TZID=America/Chicago:20251110T200000
DTSTAMP:20260419T153031
CREATED:20250810T175227Z
LAST-MODIFIED:20250811T152451Z
UID:10001988-1762801200-1762804800@dekalbcountycvb.com
SUMMARY:Romance Book Club
DESCRIPTION:Prepare for swoon-worthy reads and lively conversations with fellow romance lovers! We meet each month to discuss our latest romantic read– sharing thoughts\, feelings\, and favorite moments along the way. From steamy westerns and eerie sci-fi love stories to sweeping historical romances\, our carefully chosen selections span the full spectrum of the genre. Whether you’re a longtime romance reader or just starting to explore\, you’ll find your perfect match here! \nSeptember: Secretly Yours by Tessa BaileyOctober: That Time I Got Drunk and Saved a Demon by Kimberly LemmingNovember: The Truth According to Ember by Danica Nava \nBooks are available in Adult Services. No registration is required. This book club is intended for adults. \nFor additional information\, please contact Amy at amyf@dkpl.org or call (815) 756-9568 ext. 2150.
URL:https://dekalbcountycvb.com/dccvb-event/romance-book-club/2025-11-10/
LOCATION:DeKalb Public Library\, 309 Oak St\, DeKalb\, IL\, 60115\, United States
CATEGORIES:Adult,Free Event
ATTACH;FMTTYPE=image/jpeg:https://dekalbcountycvb.com/wp-content/uploads/2025/08/09-Romance.jpg
ORGANIZER;CN="DeKalb Public Library":MAILTO:theresaw@dkpl.org
END:VEVENT
BEGIN:VEVENT
DTSTART;TZID=America/Chicago:20251112T110000
DTEND;TZID=America/Chicago:20251112T114500
DTSTAMP:20260419T153031
CREATED:20251105T223709Z
LAST-MODIFIED:20251110T211621Z
UID:10002189-1762945200-1762947900@dekalbcountycvb.com
SUMMARY:Gallery Talk on Rebuilding after Wars
DESCRIPTION:In this gallery talk\, Professor Laura Heideman will share insights from her research looking at the long-term process of rebuilding communities after the end of wars\, including the role nongovernmental organizations (NGOs) play in peacebuilding. \nProfessor Heideman is an associate professor in the Department of Sociology and Criminology and the Center for Nonprofit and NGO Studies. Her interests include development\, globalization\, gender studies\, human rights\, social movements\, organizations and civil society. \nThis gallery talk is held in conjunction with the “How We Rebuild” exhibition on display through Dec. 19. This exhibit is a program of ExhibitsUSA\, a national division of Mid-America Arts Alliance and The National Endowment for the Arts.
URL:https://dekalbcountycvb.com/dccvb-event/gallery-talk-on-rebuilding-after-wars/
LOCATION:Pick Museum of Anthropology\, Cole Hall 114\, DeKalb\, Illinois\, 60115\, United States
CATEGORIES:Adult,Free Event
ATTACH;FMTTYPE=image/jpeg:https://dekalbcountycvb.com/wp-content/uploads/2025/11/Gallery-Talk_Heideman_calendar-image.jpg
END:VEVENT
END:VCALENDAR