BEGIN:VCALENDAR
VERSION:2.0
PRODID:-//DeKalb County Convention and Visitors Bureau - ECPv6.15.17.1//NONSGML v1.0//EN
CALSCALE:GREGORIAN
METHOD:PUBLISH
X-WR-CALNAME:DeKalb County Convention and Visitors Bureau
X-ORIGINAL-URL:https://dekalbcountycvb.com
X-WR-CALDESC:Events for DeKalb County Convention and Visitors Bureau
REFRESH-INTERVAL;VALUE=DURATION:PT1H
X-Robots-Tag:noindex
X-PUBLISHED-TTL:PT1H
BEGIN:VTIMEZONE
TZID:America/Chicago
BEGIN:DAYLIGHT
TZOFFSETFROM:-0600
TZOFFSETTO:-0500
TZNAME:CDT
DTSTART:20240310T080000
END:DAYLIGHT
BEGIN:STANDARD
TZOFFSETFROM:-0500
TZOFFSETTO:-0600
TZNAME:CST
DTSTART:20241103T070000
END:STANDARD
BEGIN:DAYLIGHT
TZOFFSETFROM:-0600
TZOFFSETTO:-0500
TZNAME:CDT
DTSTART:20250309T080000
END:DAYLIGHT
BEGIN:STANDARD
TZOFFSETFROM:-0500
TZOFFSETTO:-0600
TZNAME:CST
DTSTART:20251102T070000
END:STANDARD
BEGIN:DAYLIGHT
TZOFFSETFROM:-0600
TZOFFSETTO:-0500
TZNAME:CDT
DTSTART:20260308T080000
END:DAYLIGHT
BEGIN:STANDARD
TZOFFSETFROM:-0500
TZOFFSETTO:-0600
TZNAME:CST
DTSTART:20261101T070000
END:STANDARD
END:VTIMEZONE
BEGIN:VEVENT
DTSTART;TZID=America/Chicago:20250914T110000
DTEND;TZID=America/Chicago:20250914T150000
DTSTAMP:20260419T140725
CREATED:20250807T210855Z
LAST-MODIFIED:20250811T143351Z
UID:10001931-1757847600-1757862000@dekalbcountycvb.com
SUMMARY:Art in the Park
DESCRIPTION:Local artists will showcase their unique and diverse talents\, offering you the chance to discover something new\, celebrate local creativity\, and support artists by purchasing pieces at a variety of price points. Free parking and admission. Presented by Jubilee and Sycamore Park District. \nStroll through the park and explore a colorful assortment of visual art displays\, from paintings and photography to sculpture and handcrafted goods. Whether you’re an avid art collector or just looking for something special\, there’s something for everyone. Family-friendly fun! Bring the kids—there will be interactive activities and creative crafts to keep young artists inspired and entertained. Grab a yummy lunch from Cousins Maine Lobster food truck. Artists’ registration deadline: August 25. Find all the event details here.
URL:https://dekalbcountycvb.com/dccvb-event/art-in-the-park-2025/
LOCATION:Citizens Memorial Sports Complex\, 435 Airport Road\, Sycamore\, IL\, 60178\, United States
CATEGORIES:Adult,Family Friendly,Free Event,LGBTQ Friendly
ATTACH;FMTTYPE=image/jpeg:https://dekalbcountycvb.com/wp-content/uploads/2025/08/calendar-Event-Photo.jpg
ORGANIZER;CN="Sycamore Park District":MAILTO:info@sycparks.org
END:VEVENT
BEGIN:VEVENT
DTSTART;TZID=America/Chicago:20250920T160000
DTEND;TZID=America/Chicago:20250920T190000
DTSTAMP:20260419T140725
CREATED:20250722T210634Z
LAST-MODIFIED:20250723T165856Z
UID:10001919-1758384000-1758394800@dekalbcountycvb.com
SUMMARY:Wine on the Terrace 2025
DESCRIPTION:Wine on the Terrace is the Ellwood House Museum’s signature fundraising event\, an elegant and relaxed evening that directly supports the mission to preserve this historic site and connect the community to local history. \nGuests will enjoy unlimited wine and craft beer tastings\, delicious food from local favorites\, and live music\, all set against the backdrop of the mansion’s historic terraces and beautiful garden grounds. Whether you’re a longtime supporter or attending for the first time\, this is the perfect way to experience one of DeKalb’s most iconic landmarks. \nYour ticket includes drinks\, food\, and entertainment. The event is 21+ and will be held rain or shine. Come celebrate history with us! \nWine on the Terrace is sponsored in part by Resource Bank \n$50 Ellwood House Museum Members$70 General Public
URL:https://dekalbcountycvb.com/dccvb-event/wine-on-the-terrace-2025/
LOCATION:Ellwood House\, 420 Linden Place\, DeKalb\, IL\, 60115\, United States
CATEGORIES:Adult
ATTACH;FMTTYPE=image/png:https://dekalbcountycvb.com/wp-content/uploads/2025/07/WOT-Postcard-4.png
ORGANIZER;CN="Ellwood House":MAILTO:king@ellwoodhouse.org
END:VEVENT
END:VCALENDAR