BEGIN:VCALENDAR
VERSION:2.0
PRODID:-//DeKalb County Convention and Visitors Bureau - ECPv6.15.17.1//NONSGML v1.0//EN
CALSCALE:GREGORIAN
METHOD:PUBLISH
X-ORIGINAL-URL:https://dekalbcountycvb.com
X-WR-CALDESC:Events for DeKalb County Convention and Visitors Bureau
REFRESH-INTERVAL;VALUE=DURATION:PT1H
X-Robots-Tag:noindex
X-PUBLISHED-TTL:PT1H
BEGIN:VTIMEZONE
TZID:America/Chicago
BEGIN:DAYLIGHT
TZOFFSETFROM:-0600
TZOFFSETTO:-0500
TZNAME:CDT
DTSTART:20240310T080000
END:DAYLIGHT
BEGIN:STANDARD
TZOFFSETFROM:-0500
TZOFFSETTO:-0600
TZNAME:CST
DTSTART:20241103T070000
END:STANDARD
BEGIN:DAYLIGHT
TZOFFSETFROM:-0600
TZOFFSETTO:-0500
TZNAME:CDT
DTSTART:20250309T080000
END:DAYLIGHT
BEGIN:STANDARD
TZOFFSETFROM:-0500
TZOFFSETTO:-0600
TZNAME:CST
DTSTART:20251102T070000
END:STANDARD
BEGIN:DAYLIGHT
TZOFFSETFROM:-0600
TZOFFSETTO:-0500
TZNAME:CDT
DTSTART:20260308T080000
END:DAYLIGHT
BEGIN:STANDARD
TZOFFSETFROM:-0500
TZOFFSETTO:-0600
TZNAME:CST
DTSTART:20261101T070000
END:STANDARD
END:VTIMEZONE
BEGIN:VEVENT
DTSTART;TZID=America/Chicago:20250907T133000
DTEND;TZID=America/Chicago:20250907T143000
DTSTAMP:20260419T164852
CREATED:20250626T160202Z
LAST-MODIFIED:20250627T193321Z
UID:10001877-1757251800-1757255400@dekalbcountycvb.com
SUMMARY:Senior Coffee Hour
DESCRIPTION:Have you been wanting to meet new people? Drop by the Sycamore Public Library on the first Sunday of the month for free coffee\, games\, and conversation.
URL:https://dekalbcountycvb.com/dccvb-event/senior-coffee-hour/2025-09-07/
LOCATION:Sycamore Public Library\, 103 E State St\, Sycamore\, Illinois\, 60178
CATEGORIES:Adult
END:VEVENT
BEGIN:VEVENT
DTSTART;TZID=America/Chicago:20250907T140000
DTEND;TZID=America/Chicago:20250907T160000
DTSTAMP:20260419T164852
CREATED:20250810T175920Z
LAST-MODIFIED:20250811T153334Z
UID:10001989-1757253600-1757260800@dekalbcountycvb.com
SUMMARY:Hygge ‘HOO-gah’ Happiness
DESCRIPTION:“In Denmark\, winters are especially long\, yet Danish people are considered some of the happiest in the world. They embrace the dark winter months with the joyful practice of Hygge (pronounced ‘HOO-gah’) meaning coziness\, candlelight\, nature\, and meeting with friends.” – Emma Mitchell from Making Winter: a Hygge-inspired Guide to Surviving the Winter Months. \nEnjoy an immersive experience\, lit by candlelight\, focusing on intentional happiness and community with Scandinavian-inspired arts and crafts\, meditative coloring\, peaceful music\, a crackling fireplace\, and hot beverages (bring your own mug\, if desired.) You’ll gain some tips to create “hygge\,” and choose from a selection of library books to bring home which inspire joy and relaxation. \nHygge events are sponsored by the Friends of the Library. A special limited edition Hygge tea blend will be provided by downtown DeKalb’s Thyme ‘N Again Apothecary. Local honey for tea provided by Big Red’s Heavenly Honey. \nFor September\, create watercolor postcards\, gratitude magnets\, and Zentangle-inspired patterns. \nIn October\, paint papier-mâché masks\, do folk art with stickers\, and make a spooky candle decoration. \nNovember’s event will feature three craft options: a stenciled tote bag\, flannel lap warmer\, and scented warmer discs. \nThis program is intended for adults. Children must be accompanied by an adult. Registration is not required. First come\, first served while supplies last. \nFor more information\, please contact Susan at susang@dkpl.org or (815) 756-9568 ext. 2114.
URL:https://dekalbcountycvb.com/dccvb-event/hygge-hoo-gah-happiness-2/2025-09-07/
LOCATION:DeKalb Public Library\, 309 Oak St\, DeKalb\, IL\, 60115\, United States
CATEGORIES:Adult,Free Event
ATTACH;FMTTYPE=image/jpeg:https://dekalbcountycvb.com/wp-content/uploads/2025/08/09-Hygge.jpg
ORGANIZER;CN="DeKalb Public Library":MAILTO:theresaw@dkpl.org
END:VEVENT
BEGIN:VEVENT
DTSTART;TZID=America/Chicago:20250908T190000
DTEND;TZID=America/Chicago:20250908T200000
DTSTAMP:20260419T164852
CREATED:20250810T175227Z
LAST-MODIFIED:20250811T152451Z
UID:10001986-1757358000-1757361600@dekalbcountycvb.com
SUMMARY:Romance Book Club
DESCRIPTION:Prepare for swoon-worthy reads and lively conversations with fellow romance lovers! We meet each month to discuss our latest romantic read– sharing thoughts\, feelings\, and favorite moments along the way. From steamy westerns and eerie sci-fi love stories to sweeping historical romances\, our carefully chosen selections span the full spectrum of the genre. Whether you’re a longtime romance reader or just starting to explore\, you’ll find your perfect match here! \nSeptember: Secretly Yours by Tessa BaileyOctober: That Time I Got Drunk and Saved a Demon by Kimberly LemmingNovember: The Truth According to Ember by Danica Nava \nBooks are available in Adult Services. No registration is required. This book club is intended for adults. \nFor additional information\, please contact Amy at amyf@dkpl.org or call (815) 756-9568 ext. 2150.
URL:https://dekalbcountycvb.com/dccvb-event/romance-book-club/2025-09-08/
LOCATION:DeKalb Public Library\, 309 Oak St\, DeKalb\, IL\, 60115\, United States
CATEGORIES:Adult,Free Event
ATTACH;FMTTYPE=image/jpeg:https://dekalbcountycvb.com/wp-content/uploads/2025/08/09-Romance.jpg
ORGANIZER;CN="DeKalb Public Library":MAILTO:theresaw@dkpl.org
END:VEVENT
END:VCALENDAR