BEGIN:VCALENDAR
VERSION:2.0
PRODID:-//DeKalb County Convention and Visitors Bureau - ECPv6.15.17.1//NONSGML v1.0//EN
CALSCALE:GREGORIAN
METHOD:PUBLISH
X-ORIGINAL-URL:https://dekalbcountycvb.com
X-WR-CALDESC:Events for DeKalb County Convention and Visitors Bureau
REFRESH-INTERVAL;VALUE=DURATION:PT1H
X-Robots-Tag:noindex
X-PUBLISHED-TTL:PT1H
BEGIN:VTIMEZONE
TZID:America/Chicago
BEGIN:DAYLIGHT
TZOFFSETFROM:-0600
TZOFFSETTO:-0500
TZNAME:CDT
DTSTART:20240310T080000
END:DAYLIGHT
BEGIN:STANDARD
TZOFFSETFROM:-0500
TZOFFSETTO:-0600
TZNAME:CST
DTSTART:20241103T070000
END:STANDARD
BEGIN:DAYLIGHT
TZOFFSETFROM:-0600
TZOFFSETTO:-0500
TZNAME:CDT
DTSTART:20250309T080000
END:DAYLIGHT
BEGIN:STANDARD
TZOFFSETFROM:-0500
TZOFFSETTO:-0600
TZNAME:CST
DTSTART:20251102T070000
END:STANDARD
BEGIN:DAYLIGHT
TZOFFSETFROM:-0600
TZOFFSETTO:-0500
TZNAME:CDT
DTSTART:20260308T080000
END:DAYLIGHT
BEGIN:STANDARD
TZOFFSETFROM:-0500
TZOFFSETTO:-0600
TZNAME:CST
DTSTART:20261101T070000
END:STANDARD
END:VTIMEZONE
BEGIN:VEVENT
DTSTART;TZID=America/Chicago:20250803T133000
DTEND;TZID=America/Chicago:20250803T143000
DTSTAMP:20260419T164744
CREATED:20250626T160202Z
LAST-MODIFIED:20250627T193321Z
UID:10001876-1754227800-1754231400@dekalbcountycvb.com
SUMMARY:Senior Coffee Hour
DESCRIPTION:Have you been wanting to meet new people? Drop by the Sycamore Public Library on the first Sunday of the month for free coffee\, games\, and conversation.
URL:https://dekalbcountycvb.com/dccvb-event/senior-coffee-hour/2025-08-03/
LOCATION:Sycamore Public Library\, 103 E State St\, Sycamore\, Illinois\, 60178
CATEGORIES:Adult
END:VEVENT
BEGIN:VEVENT
DTSTART;TZID=America/Chicago:20250805T130000
DTEND;TZID=America/Chicago:20250805T180000
DTSTAMP:20260419T164744
CREATED:20250707T165005Z
LAST-MODIFIED:20250709T173812Z
UID:10001895-1754398800-1754416800@dekalbcountycvb.com
SUMMARY:Red Cross Blood Drive
DESCRIPTION:Give the Gift of Life! The American Red Cross will be conducting a blood drive at the DeKalb Public Library. \nAmerican Red Cross blood donors are critical to ensuring those in need receive relief and care. Right now\, we’re urging donors to continue to help strengthen the blood supply. Donors of all blood types – particularly type O blood donors – are crucial to meeting daily hospital demands. \nAn advance appointment is preferred. Visit the American Red Cross website\, type in your zip code\, and select the DeKalb Public Library to make an appointment\, or call 1-800-RED-CROSS (1-800-733-2767) to make an appointment or ask questions about giving blood. \nYou can also visit the Red Cross website for more general information about the donation process. \nFor additional information\, please contact Chelsea at chelsear@dkpl.org or at (815) 756-9568 ext. 1700.
URL:https://dekalbcountycvb.com/dccvb-event/red-cross-blood-drive-3/
LOCATION:DeKalb Public Library\, 309 Oak St\, DeKalb\, IL\, 60115\, United States
CATEGORIES:Adult
ATTACH;FMTTYPE=image/jpeg:https://dekalbcountycvb.com/wp-content/uploads/2025/07/08-05-blood-drive.jpg
ORGANIZER;CN="DeKalb Public Library":MAILTO:theresaw@dkpl.org
END:VEVENT
BEGIN:VEVENT
DTSTART;TZID=America/Chicago:20250809T180000
DTEND;TZID=America/Chicago:20250809T210000
DTSTAMP:20260419T164744
CREATED:20240625T191858Z
LAST-MODIFIED:20250328T192757Z
UID:10000793-1754762400-1754773200@dekalbcountycvb.com
SUMMARY:50 Men Who Cook
DESCRIPTION:CASA’s signature fundraising event\, 50 Men Who Cook\, features 50+ men from the community who bring their best dish for guests to taste and vote for their favorite in each category. Enjoy good food\, a cash bar\, entertainment and raffle\, all for a good cause. Tickets are $50 each or $45 each when you buy two or more by August 8. Tickets available in early June at casadekalb.org/50menwhocook/.
URL:https://dekalbcountycvb.com/dccvb-event/50-men-who-cook-2025/
LOCATION:BARSEMA ALUMNI AND VISITORS CENTER\, NIU\, 231 N Annie Glidden Rd\, DeKalb\, IL\, 60115\, United States
CATEGORIES:Adult
ATTACH;FMTTYPE=image/png:https://dekalbcountycvb.com/wp-content/uploads/2024/06/Screen-Shot-2024-04-15-at-9.44.13-AM-300x300-1.png
ORGANIZER;CN="CASA DeKalb County%2C Inc.":MAILTO:casa@casadekalb.org
END:VEVENT
END:VCALENDAR