BEGIN:VCALENDAR
VERSION:2.0
PRODID:-//DeKalb County Convention and Visitors Bureau - ECPv6.15.17.1//NONSGML v1.0//EN
CALSCALE:GREGORIAN
METHOD:PUBLISH
X-ORIGINAL-URL:https://dekalbcountycvb.com
X-WR-CALDESC:Events for DeKalb County Convention and Visitors Bureau
REFRESH-INTERVAL;VALUE=DURATION:PT1H
X-Robots-Tag:noindex
X-PUBLISHED-TTL:PT1H
BEGIN:VTIMEZONE
TZID:America/Chicago
BEGIN:DAYLIGHT
TZOFFSETFROM:-0600
TZOFFSETTO:-0500
TZNAME:CDT
DTSTART:20240310T080000
END:DAYLIGHT
BEGIN:STANDARD
TZOFFSETFROM:-0500
TZOFFSETTO:-0600
TZNAME:CST
DTSTART:20241103T070000
END:STANDARD
BEGIN:DAYLIGHT
TZOFFSETFROM:-0600
TZOFFSETTO:-0500
TZNAME:CDT
DTSTART:20250309T080000
END:DAYLIGHT
BEGIN:STANDARD
TZOFFSETFROM:-0500
TZOFFSETTO:-0600
TZNAME:CST
DTSTART:20251102T070000
END:STANDARD
BEGIN:DAYLIGHT
TZOFFSETFROM:-0600
TZOFFSETTO:-0500
TZNAME:CDT
DTSTART:20260308T080000
END:DAYLIGHT
BEGIN:STANDARD
TZOFFSETFROM:-0500
TZOFFSETTO:-0600
TZNAME:CST
DTSTART:20261101T070000
END:STANDARD
END:VTIMEZONE
BEGIN:VEVENT
DTSTART;TZID=America/Chicago:20251213T103000
DTEND;TZID=America/Chicago:20251213T123000
DTSTAMP:20260419T093932
CREATED:20251112T171220Z
LAST-MODIFIED:20251117T182249Z
UID:10002212-1765621800-1765629000@dekalbcountycvb.com
SUMMARY:Present Wrapping Party
DESCRIPTION:Do you struggle to find time and space to wrap holiday presents at home? Trying to keep the magic alive for the youngsters in your life\, but their curiosity makes it tricky to keep surprises secret? Join a child-free gift-wrapping space! \nEnjoy a hot chocolate bar and music while you prepare gifts for those you love. All wrapping supplies will be provided\, but you’re welcome to bring your own if you prefer. \nThis is a free event. Registration is not required. This program is for adults only. \nFor additional information\, please contact Amy at amyf@dkpl.org or call (815) 756-9568 ext. 6108.
URL:https://dekalbcountycvb.com/dccvb-event/present-wrapping-party/
LOCATION:DeKalb Public Library\, 309 Oak St\, DeKalb\, IL\, 60115\, United States
CATEGORIES:Adult
ATTACH;FMTTYPE=image/jpeg:https://dekalbcountycvb.com/wp-content/uploads/2025/11/wrapping.jpg
ORGANIZER;CN="DeKalb Public Library":MAILTO:theresaw@dkpl.org
END:VEVENT
BEGIN:VEVENT
DTSTART;TZID=America/Chicago:20251213T140000
DTEND;TZID=America/Chicago:20251213T150000
DTSTAMP:20260419T093932
CREATED:20251112T171812Z
LAST-MODIFIED:20251126T170935Z
UID:10002216-1765634400-1765638000@dekalbcountycvb.com
SUMMARY:Christmas Breads with Chef Cherise
DESCRIPTION:Chef Cherise Slattery will teach you how to make two delicious Christmas yeast breads with the same basic dough! Learn to make a Christmas Star Bread studded with pistachios and a strawberry jam swirl and Pull Apart Christmas Tree Buns with roasted red pepper and parmesan cheese. \nEnjoy samples of these beautiful breads and leave with the recipes and knowledge to make them at home for your own holiday celebration! \nThis program is first come\, first served\, and is limited to 40 participants. It is intended for adults. No registration is required. \nFor additional information\, please contact Chelsea at chelsear@dkpl.org or (815) 756-9568 ext. 1700.
URL:https://dekalbcountycvb.com/dccvb-event/christmas-breads-with-chef-cherise/
LOCATION:DeKalb Public Library\, 309 Oak St\, DeKalb\, IL\, 60115\, United States
CATEGORIES:Adult
ATTACH;FMTTYPE=image/jpeg:https://dekalbcountycvb.com/wp-content/uploads/2025/11/breads.jpg
ORGANIZER;CN="DeKalb Public Library":MAILTO:theresaw@dkpl.org
END:VEVENT
END:VCALENDAR