BEGIN:VCALENDAR
VERSION:2.0
PRODID:-//DeKalb County Convention and Visitors Bureau - ECPv6.15.17.1//NONSGML v1.0//EN
CALSCALE:GREGORIAN
METHOD:PUBLISH
X-WR-CALNAME:DeKalb County Convention and Visitors Bureau
X-ORIGINAL-URL:https://dekalbcountycvb.com
X-WR-CALDESC:Events for DeKalb County Convention and Visitors Bureau
REFRESH-INTERVAL;VALUE=DURATION:PT1H
X-Robots-Tag:noindex
X-PUBLISHED-TTL:PT1H
BEGIN:VTIMEZONE
TZID:America/Chicago
BEGIN:DAYLIGHT
TZOFFSETFROM:-0600
TZOFFSETTO:-0500
TZNAME:CDT
DTSTART:20240310T080000
END:DAYLIGHT
BEGIN:STANDARD
TZOFFSETFROM:-0500
TZOFFSETTO:-0600
TZNAME:CST
DTSTART:20241103T070000
END:STANDARD
BEGIN:DAYLIGHT
TZOFFSETFROM:-0600
TZOFFSETTO:-0500
TZNAME:CDT
DTSTART:20250309T080000
END:DAYLIGHT
BEGIN:STANDARD
TZOFFSETFROM:-0500
TZOFFSETTO:-0600
TZNAME:CST
DTSTART:20251102T070000
END:STANDARD
BEGIN:DAYLIGHT
TZOFFSETFROM:-0600
TZOFFSETTO:-0500
TZNAME:CDT
DTSTART:20260308T080000
END:DAYLIGHT
BEGIN:STANDARD
TZOFFSETFROM:-0500
TZOFFSETTO:-0600
TZNAME:CST
DTSTART:20261101T070000
END:STANDARD
END:VTIMEZONE
BEGIN:VEVENT
DTSTART;TZID=America/Chicago:20251001T130000
DTEND;TZID=America/Chicago:20251001T140000
DTSTAMP:20260419T151352
CREATED:20250915T231335Z
LAST-MODIFIED:20250917T205649Z
UID:10002072-1759323600-1759327200@dekalbcountycvb.com
SUMMARY:Cash Flow Hacks for Small Businesses Workshop
DESCRIPTION:A quick-start session designed to provide actionable tips you can implement today to better understand and improve your business’s cash flow. Ideal for small business owners looking for immediate financial clarity. \nYou will learn practical strategies to identify cash flow challenges\, quick tips for cash management\, and why cash flow is king for sustainable growth.
URL:https://dekalbcountycvb.com/dccvb-event/cash-flow-hacks-for-small-businesses-workshop/
LOCATION:Kishwaukee College\, 21193 Malta Rd\, Malta\, IL
CATEGORIES:Adult,Free Event
ATTACH;FMTTYPE=image/png:https://dekalbcountycvb.com/wp-content/uploads/2025/09/Screenshot-2025-09-10-at-6.33.38-PM2.png
END:VEVENT
END:VCALENDAR