BEGIN:VCALENDAR
VERSION:2.0
PRODID:-//DeKalb County Convention and Visitors Bureau - ECPv6.15.17.1//NONSGML v1.0//EN
CALSCALE:GREGORIAN
METHOD:PUBLISH
X-WR-CALNAME:DeKalb County Convention and Visitors Bureau
X-ORIGINAL-URL:https://dekalbcountycvb.com
X-WR-CALDESC:Events for DeKalb County Convention and Visitors Bureau
REFRESH-INTERVAL;VALUE=DURATION:PT1H
X-Robots-Tag:noindex
X-PUBLISHED-TTL:PT1H
BEGIN:VTIMEZONE
TZID:America/Chicago
BEGIN:DAYLIGHT
TZOFFSETFROM:-0600
TZOFFSETTO:-0500
TZNAME:CDT
DTSTART:20240310T080000
END:DAYLIGHT
BEGIN:STANDARD
TZOFFSETFROM:-0500
TZOFFSETTO:-0600
TZNAME:CST
DTSTART:20241103T070000
END:STANDARD
BEGIN:DAYLIGHT
TZOFFSETFROM:-0600
TZOFFSETTO:-0500
TZNAME:CDT
DTSTART:20250309T080000
END:DAYLIGHT
BEGIN:STANDARD
TZOFFSETFROM:-0500
TZOFFSETTO:-0600
TZNAME:CST
DTSTART:20251102T070000
END:STANDARD
BEGIN:DAYLIGHT
TZOFFSETFROM:-0600
TZOFFSETTO:-0500
TZNAME:CDT
DTSTART:20260308T080000
END:DAYLIGHT
BEGIN:STANDARD
TZOFFSETFROM:-0500
TZOFFSETTO:-0600
TZNAME:CST
DTSTART:20261101T070000
END:STANDARD
END:VTIMEZONE
BEGIN:VEVENT
DTSTART;TZID=America/Chicago:20250927T160000
DTEND;TZID=America/Chicago:20250927T190000
DTSTAMP:20260419T123704
CREATED:20250627T202110Z
LAST-MODIFIED:20250804T193011Z
UID:10001882-1758988800-1758999600@dekalbcountycvb.com
SUMMARY:Saturday Night at Glidden (SNAG)
DESCRIPTION:This unique fundraiser dinner will be held Saturday\, Sept. 27 from 4-7 pm at the historic Glidden Homestead. Parking is available onsite. \n\n\n\nThis event features a catered buffet\, tours of the historic house and barn\, music by Bend in the Road\, raffle items\, games and more — all with the unique Glidden Homestead as a beautiful and unforgettable backdrop! You don’t want to miss it! \n\n\n\nAll proceeds from this evening will support continued operations and preservation of the historic Glidden Homestead\, where Joseph F. Glidden created and initially manufactured “The Winner” barbed wire! 
URL:https://dekalbcountycvb.com/dccvb-event/saturday-night-at-glidden-snag/
LOCATION:Glidden Historical Center\, 921 W Lincoln Hwy\, DeKalb\, IL\, 60115\, United States
CATEGORIES:Adult,Live Music
ATTACH;FMTTYPE=image/jpeg:https://dekalbcountycvb.com/wp-content/uploads/2025/06/SNAG-2025.jpg
ORGANIZER;CN="Glidden Historical Center":MAILTO:jessi@gliddenhomestead.org
END:VEVENT
END:VCALENDAR