BEGIN:VCALENDAR
VERSION:2.0
PRODID:-//DeKalb County Convention and Visitors Bureau - ECPv6.15.17.1//NONSGML v1.0//EN
CALSCALE:GREGORIAN
METHOD:PUBLISH
X-ORIGINAL-URL:https://dekalbcountycvb.com
X-WR-CALDESC:Events for DeKalb County Convention and Visitors Bureau
REFRESH-INTERVAL;VALUE=DURATION:PT1H
X-Robots-Tag:noindex
X-PUBLISHED-TTL:PT1H
BEGIN:VTIMEZONE
TZID:America/Chicago
BEGIN:DAYLIGHT
TZOFFSETFROM:-0600
TZOFFSETTO:-0500
TZNAME:CDT
DTSTART:20240310T080000
END:DAYLIGHT
BEGIN:STANDARD
TZOFFSETFROM:-0500
TZOFFSETTO:-0600
TZNAME:CST
DTSTART:20241103T070000
END:STANDARD
BEGIN:DAYLIGHT
TZOFFSETFROM:-0600
TZOFFSETTO:-0500
TZNAME:CDT
DTSTART:20250309T080000
END:DAYLIGHT
BEGIN:STANDARD
TZOFFSETFROM:-0500
TZOFFSETTO:-0600
TZNAME:CST
DTSTART:20251102T070000
END:STANDARD
BEGIN:DAYLIGHT
TZOFFSETFROM:-0600
TZOFFSETTO:-0500
TZNAME:CDT
DTSTART:20260308T080000
END:DAYLIGHT
BEGIN:STANDARD
TZOFFSETFROM:-0500
TZOFFSETTO:-0600
TZNAME:CST
DTSTART:20261101T070000
END:STANDARD
END:VTIMEZONE
BEGIN:VEVENT
DTSTART;TZID=America/Chicago:20250908T190000
DTEND;TZID=America/Chicago:20250908T200000
DTSTAMP:20260419T123824
CREATED:20250810T175227Z
LAST-MODIFIED:20250811T152451Z
UID:10001986-1757358000-1757361600@dekalbcountycvb.com
SUMMARY:Romance Book Club
DESCRIPTION:Prepare for swoon-worthy reads and lively conversations with fellow romance lovers! We meet each month to discuss our latest romantic read– sharing thoughts\, feelings\, and favorite moments along the way. From steamy westerns and eerie sci-fi love stories to sweeping historical romances\, our carefully chosen selections span the full spectrum of the genre. Whether you’re a longtime romance reader or just starting to explore\, you’ll find your perfect match here! \nSeptember: Secretly Yours by Tessa BaileyOctober: That Time I Got Drunk and Saved a Demon by Kimberly LemmingNovember: The Truth According to Ember by Danica Nava \nBooks are available in Adult Services. No registration is required. This book club is intended for adults. \nFor additional information\, please contact Amy at amyf@dkpl.org or call (815) 756-9568 ext. 2150.
URL:https://dekalbcountycvb.com/dccvb-event/romance-book-club/2025-09-08/
LOCATION:DeKalb Public Library\, 309 Oak St\, DeKalb\, IL\, 60115\, United States
CATEGORIES:Adult,Free Event
ATTACH;FMTTYPE=image/jpeg:https://dekalbcountycvb.com/wp-content/uploads/2025/08/09-Romance.jpg
ORGANIZER;CN="DeKalb Public Library":MAILTO:theresaw@dkpl.org
END:VEVENT
END:VCALENDAR