BEGIN:VCALENDAR
VERSION:2.0
PRODID:-//DeKalb County Convention and Visitors Bureau - ECPv6.15.17.1//NONSGML v1.0//EN
CALSCALE:GREGORIAN
METHOD:PUBLISH
X-ORIGINAL-URL:https://dekalbcountycvb.com
X-WR-CALDESC:Events for DeKalb County Convention and Visitors Bureau
REFRESH-INTERVAL;VALUE=DURATION:PT1H
X-Robots-Tag:noindex
X-PUBLISHED-TTL:PT1H
BEGIN:VTIMEZONE
TZID:America/Chicago
BEGIN:DAYLIGHT
TZOFFSETFROM:-0600
TZOFFSETTO:-0500
TZNAME:CDT
DTSTART:20250309T080000
END:DAYLIGHT
BEGIN:STANDARD
TZOFFSETFROM:-0500
TZOFFSETTO:-0600
TZNAME:CST
DTSTART:20251102T070000
END:STANDARD
BEGIN:DAYLIGHT
TZOFFSETFROM:-0600
TZOFFSETTO:-0500
TZNAME:CDT
DTSTART:20260308T080000
END:DAYLIGHT
BEGIN:STANDARD
TZOFFSETFROM:-0500
TZOFFSETTO:-0600
TZNAME:CST
DTSTART:20261101T070000
END:STANDARD
BEGIN:DAYLIGHT
TZOFFSETFROM:-0600
TZOFFSETTO:-0500
TZNAME:CDT
DTSTART:20270314T080000
END:DAYLIGHT
BEGIN:STANDARD
TZOFFSETFROM:-0500
TZOFFSETTO:-0600
TZNAME:CST
DTSTART:20271107T070000
END:STANDARD
END:VTIMEZONE
BEGIN:VEVENT
DTSTART;TZID=America/Chicago:20260422T090000
DTEND;TZID=America/Chicago:20260422T110000
DTSTAMP:20260419T073854
CREATED:20250411T194230Z
LAST-MODIFIED:20260323T174249Z
UID:10001569-1776848400-1776855600@dekalbcountycvb.com
SUMMARY:Earth Day Park Clean-Up
DESCRIPTION:Free for all ages! Help staff clean up trash and debris from one of our most beloved parks this Earth Day! Meet at the Hopkins Park Shelter at 9:00 AM sharp and staff will show you the rest! No registration is required!
URL:https://dekalbcountycvb.com/dccvb-event/earth-day-park-clean-up-2026/
LOCATION:Hopkins Park\, 1403 Sycamore Road\, DeKalb\, IL\, 60115\, United States
CATEGORIES:Family Friendly,Free Event
END:VEVENT
BEGIN:VEVENT
DTSTART;TZID=America/Chicago:20260422T110000
DTEND;TZID=America/Chicago:20260422T140000
DTSTAMP:20260419T073854
CREATED:20260330T174112Z
LAST-MODIFIED:20260330T174114Z
UID:10002487-1776855600-1776866400@dekalbcountycvb.com
SUMMARY:2026 Food Truck Wednesdays
DESCRIPTION:Come out for lunch\, meet up with a friend or grab your afternoon pick-me-up from a variety of food trucks each Wednesday through the fall. \n\n\n\nLocal food trucks will line the street on Normal Road in front of the MLK Commons on Wednesdays from 11 a.m. to 2 p.m. \n\n\n\nCAB will provide entertainment and fun\, including student performances. There will also be appearances from members of NIU Athletics. 
URL:https://dekalbcountycvb.com/dccvb-event/2026-food-truck-wednesdays-2/2026-04-22/
LOCATION:MLK Commons\, DeKalb\, Illinois\, 60115\, United States
CATEGORIES:Free Event
ATTACH;FMTTYPE=image/jpeg:https://dekalbcountycvb.com/wp-content/uploads/2025/08/Food-Truck-Wednesday.jpg
END:VEVENT
END:VCALENDAR