BEGIN:VCALENDAR
VERSION:2.0
PRODID:-//DeKalb County Convention and Visitors Bureau - ECPv6.15.17.1//NONSGML v1.0//EN
CALSCALE:GREGORIAN
METHOD:PUBLISH
X-WR-CALNAME:DeKalb County Convention and Visitors Bureau
X-ORIGINAL-URL:https://dekalbcountycvb.com
X-WR-CALDESC:Events for DeKalb County Convention and Visitors Bureau
REFRESH-INTERVAL;VALUE=DURATION:PT1H
X-Robots-Tag:noindex
X-PUBLISHED-TTL:PT1H
BEGIN:VTIMEZONE
TZID:America/Chicago
BEGIN:DAYLIGHT
TZOFFSETFROM:-0600
TZOFFSETTO:-0500
TZNAME:CDT
DTSTART:20240310T080000
END:DAYLIGHT
BEGIN:STANDARD
TZOFFSETFROM:-0500
TZOFFSETTO:-0600
TZNAME:CST
DTSTART:20241103T070000
END:STANDARD
BEGIN:DAYLIGHT
TZOFFSETFROM:-0600
TZOFFSETTO:-0500
TZNAME:CDT
DTSTART:20250309T080000
END:DAYLIGHT
BEGIN:STANDARD
TZOFFSETFROM:-0500
TZOFFSETTO:-0600
TZNAME:CST
DTSTART:20251102T070000
END:STANDARD
BEGIN:DAYLIGHT
TZOFFSETFROM:-0600
TZOFFSETTO:-0500
TZNAME:CDT
DTSTART:20260308T080000
END:DAYLIGHT
BEGIN:STANDARD
TZOFFSETFROM:-0500
TZOFFSETTO:-0600
TZNAME:CST
DTSTART:20261101T070000
END:STANDARD
END:VTIMEZONE
BEGIN:VEVENT
DTSTART;TZID=America/Chicago:20251010T180000
DTEND;TZID=America/Chicago:20251010T220000
DTSTAMP:20260420T033538
CREATED:20250925T014207Z
LAST-MODIFIED:20250926T204727Z
UID:10002082-1760119200-1760133600@dekalbcountycvb.com
SUMMARY:Open Studio
DESCRIPTION:Visit the gallery and studio of fine artist Elisa R. Boughner at Artifex Studio in downtown DeKalb to experience her latest work. Enjoy an evening filled with color\, creativity\, and conversation!
URL:https://dekalbcountycvb.com/dccvb-event/open-studio/
LOCATION:Artifex Studio\, 235 E. Lincoln Hwy.\, DeKalb\, Illinois\, 60115\, United States
CATEGORIES:Adult
ATTACH;FMTTYPE=image/jpeg:https://dekalbcountycvb.com/wp-content/uploads/2025/09/IMG_6762.jpg
ORGANIZER;CN="Elisa Boughner":MAILTO:elisa@boughnerart.com
END:VEVENT
BEGIN:VEVENT
DTSTART;TZID=America/Chicago:20251010T183000
DTEND;TZID=America/Chicago:20251010T203000
DTSTAMP:20260420T033538
CREATED:20250502T155622Z
LAST-MODIFIED:20250502T204526Z
UID:10001674-1760121000-1760128200@dekalbcountycvb.com
SUMMARY:Creepy Campfire at Sycamore Park District
DESCRIPTION:Get ready for Sycamore Library’s 5th Annual Creepy Campfire event featuring a night of ghost stories\, songs\, and s’mores! \nAdults and accompanied teens can join Library staff at Sycamore Park District’s Good Tymes Shelter off Airport Road from 6:30-8:30pm. Bring your camping chairs\, blankets\, and your spookiest stories! \nRegistration optional. Hot chocolate\, apple cider\, and s’mores provided.
URL:https://dekalbcountycvb.com/dccvb-event/creepy-campfire-at-sycamore-park-district/
LOCATION:Sycamore Park District Good Tymes Shelter
CATEGORIES:Free Event
END:VEVENT
BEGIN:VEVENT
DTSTART;TZID=America/Chicago:20251010T190000
DTEND;TZID=America/Chicago:20251010T220000
DTSTAMP:20260420T033538
CREATED:20251001T194719Z
LAST-MODIFIED:20251006T155311Z
UID:10002130-1760122800-1760133600@dekalbcountycvb.com
SUMMARY:The Haunt - Jonamac's Haunted Corn Maze
DESCRIPTION:Get Lost In Terror \n\n\n\nWhen the sun sets on the farm\, an eerie shadow is cast upon the maze inviting guests to explore the 10-acre labyrinth in our corn field. \n\n\n\nPathways twist and turn through miles of rustling leaves where terrifying creatures and spooky surprises are lurking behind the stalks. \n\n\n\nEnter if you dare… but BEWARE!Strongly recommended to purchase tickets beforehand!What You Need To Know \n\n\n\nAll children under the age of 16 need to be with an adult chaperone. Children are not permitted to enter the maze alone or without adult supervision. \n\n\n\nThe time on your ticket is your ENTRY TIME. For example\, if you select 6:30-7:30PM\, you need to redeem your tickets by 7:30PM or the tickets will no longer be valid. Last group in at 10:30PM\, then the entrance is closed. \n\n\n\nNo Halloween Masks or costumes are permitted in the maze\, sorry! \n\n\n\nGuests are ideally broken up into groups of 4-5 (or fewer) people and metered into the maze by our staff to keep groups separated. Large groups do not get as great of an experience! \n\n\n\nIt takes about 30-45 minutes to get through the maze\, and we have staff to help you if you get lost. \n\n\n\nNo Alcohol is permitted in the maze. \n\n\n\nFlashlights will not be allowed in the Haunted Maze\, only glowsticks or pen lights. \n\n\n\nOur Scare Actors are not permitted to touch guests\, and guests are not permitted to touch or hit Scare Actors\, or they will be asked to leave the maze. \n\n\n\nPlease be advised\, the haunted maze does contain strobe lights\, flashing lights\, loud noises\, and dirt pathways. \n\n\n\nUnlike other years\, this year the entire maze is Haunted. We will not have 1/2 un-haunted and 1/2 haunted.
URL:https://dekalbcountycvb.com/dccvb-event/the-haunt-jonamacs-haunted-corn-maze/2025-10-10/
LOCATION:Jonamac Orchard\, 19412 Shabbona Rd\, Malta\, IL\, 60150\, United States
CATEGORIES:Adult,LGBTQ Friendly,Physical Activities
ATTACH;FMTTYPE=image/jpeg:https://dekalbcountycvb.com/wp-content/uploads/2025/10/Screen-Shot-2025-10-01-at-2.45.44-PM.jpg
END:VEVENT
BEGIN:VEVENT
DTSTART;TZID=America/Chicago:20251010T190000
DTEND;TZID=America/Chicago:20251010T235900
DTSTAMP:20260420T033538
CREATED:20251010T194024Z
LAST-MODIFIED:20251010T194026Z
UID:10002144-1760122800-1760140740@dekalbcountycvb.com
SUMMARY:Evil Intentions Haunted House
DESCRIPTION:Evil Intentions Haunted House has relocated to Forsaken Hollow! In this new\, larger\, and more terrifying home\, Evil has taken on a new life. Prepare yourself for an unforgettable experience filled with unexpected scares and surprises. Come see what awaits and discover why all roads end here! \n\n\n\nAttractions include: \n\n\n\nCorn Trail – A cornfield packed with scares\, screams\, and evil lurking in the dark. \n\n\n\n20\,000 Sq. Ft. of Evil! – A massive\, nonstop nightmare\, 20\,000 square feet indoor haunted house with terror around every corner. \n\n\n\nMidway – More than just a haunted house. Food\, games\, and freakish fun to keep the horror going all night.
URL:https://dekalbcountycvb.com/dccvb-event/evil-intentions-haunted-house/2025-10-10/
LOCATION:Evil Intentions Haunted House\, 45W050 Beith Rd\, Maple Park\, Illinois\, 60151\, United States
ORGANIZER;CN="Evil Intentions Haunted House":MAILTO:info@eihaunt.com
END:VEVENT
END:VCALENDAR