BEGIN:VCALENDAR
VERSION:2.0
PRODID:-//DeKalb County Convention and Visitors Bureau - ECPv6.15.17.1//NONSGML v1.0//EN
CALSCALE:GREGORIAN
METHOD:PUBLISH
X-WR-CALNAME:DeKalb County Convention and Visitors Bureau
X-ORIGINAL-URL:https://dekalbcountycvb.com
X-WR-CALDESC:Events for DeKalb County Convention and Visitors Bureau
REFRESH-INTERVAL;VALUE=DURATION:PT1H
X-Robots-Tag:noindex
X-PUBLISHED-TTL:PT1H
BEGIN:VTIMEZONE
TZID:America/Chicago
BEGIN:DAYLIGHT
TZOFFSETFROM:-0600
TZOFFSETTO:-0500
TZNAME:CDT
DTSTART:20240310T080000
END:DAYLIGHT
BEGIN:STANDARD
TZOFFSETFROM:-0500
TZOFFSETTO:-0600
TZNAME:CST
DTSTART:20241103T070000
END:STANDARD
BEGIN:DAYLIGHT
TZOFFSETFROM:-0600
TZOFFSETTO:-0500
TZNAME:CDT
DTSTART:20250309T080000
END:DAYLIGHT
BEGIN:STANDARD
TZOFFSETFROM:-0500
TZOFFSETTO:-0600
TZNAME:CST
DTSTART:20251102T070000
END:STANDARD
BEGIN:DAYLIGHT
TZOFFSETFROM:-0600
TZOFFSETTO:-0500
TZNAME:CDT
DTSTART:20260308T080000
END:DAYLIGHT
BEGIN:STANDARD
TZOFFSETFROM:-0500
TZOFFSETTO:-0600
TZNAME:CST
DTSTART:20261101T070000
END:STANDARD
END:VTIMEZONE
BEGIN:VEVENT
DTSTART;TZID=America/Chicago:20250930T190000
DTEND;TZID=America/Chicago:20250930T203000
DTSTAMP:20260420T033619
CREATED:20250827T172740Z
LAST-MODIFIED:20250827T172742Z
UID:10002025-1759258800-1759264200@dekalbcountycvb.com
SUMMARY:Egyptian Theatre Horror Film Series
DESCRIPTION:Step into the chilling world of cinematic terror with the Horror Film Series at the historic Egyptian Theatre this fall. From the heart-pounders to the bone-chilling\, this series offers something for every horror lover! Join us for all of the thrills and chills on the largest movie screen in DeKalb County! \n\n\n\nFilm Schedule:September 30 – Night of the Living Dead (1968)October 7 – The Monster Squad (1987)October 14 – The Lost Boys (1987)October 21 – Shaun of the Dead (2004)October 29 – Trick ‘r Treat (2007)
URL:https://dekalbcountycvb.com/dccvb-event/egyptian-theatre-horror-film-series/2025-09-30/
LOCATION:Egyptian Theatre\, 135 North 2nd Street\, DeKalb\, IL\, 60115\, United States
ATTACH;FMTTYPE=image/jpeg:https://dekalbcountycvb.com/wp-content/uploads/2025/08/Horror-Film-Series-2025.jpg
END:VEVENT
BEGIN:VEVENT
DTSTART;TZID=America/Chicago:20250930T190000
DTEND;TZID=America/Chicago:20250930T210000
DTSTAMP:20260420T033619
CREATED:20250912T210419Z
LAST-MODIFIED:20250917T210528Z
UID:10002064-1759258800-1759266000@dekalbcountycvb.com
SUMMARY:NIU Wind Ensemble Concert
DESCRIPTION:The NIU Wind Ensemble will present the collegiate world premiere of a piece commissioned by the US Marine Band to commemorate a significant anniversary. \n\n\n\nJoin this special performance by the NIU Wind Ensemble featuring the collegiate premiere of Symphony No. 2\, “The Sacred Cloth”\, a piece written by Dr. Onsby Rose.
URL:https://dekalbcountycvb.com/dccvb-event/niu-wind-ensemble-concert-2/
LOCATION:NIU Music Building\, 550 Lucinda Ave\, DeKalb\, IL\, 60115\, United States
CATEGORIES:Live Music
ORGANIZER;CN="NIU School of Music":MAILTO:music@niu.edu
END:VEVENT
END:VCALENDAR