BEGIN:VCALENDAR
VERSION:2.0
PRODID:-//DeKalb County Convention and Visitors Bureau - ECPv6.15.17.1//NONSGML v1.0//EN
CALSCALE:GREGORIAN
METHOD:PUBLISH
X-ORIGINAL-URL:https://dekalbcountycvb.com
X-WR-CALDESC:Events for DeKalb County Convention and Visitors Bureau
REFRESH-INTERVAL;VALUE=DURATION:PT1H
X-Robots-Tag:noindex
X-PUBLISHED-TTL:PT1H
BEGIN:VTIMEZONE
TZID:America/Chicago
BEGIN:DAYLIGHT
TZOFFSETFROM:-0600
TZOFFSETTO:-0500
TZNAME:CDT
DTSTART:20240310T080000
END:DAYLIGHT
BEGIN:STANDARD
TZOFFSETFROM:-0500
TZOFFSETTO:-0600
TZNAME:CST
DTSTART:20241103T070000
END:STANDARD
BEGIN:DAYLIGHT
TZOFFSETFROM:-0600
TZOFFSETTO:-0500
TZNAME:CDT
DTSTART:20250309T080000
END:DAYLIGHT
BEGIN:STANDARD
TZOFFSETFROM:-0500
TZOFFSETTO:-0600
TZNAME:CST
DTSTART:20251102T070000
END:STANDARD
BEGIN:DAYLIGHT
TZOFFSETFROM:-0600
TZOFFSETTO:-0500
TZNAME:CDT
DTSTART:20260308T080000
END:DAYLIGHT
BEGIN:STANDARD
TZOFFSETFROM:-0500
TZOFFSETTO:-0600
TZNAME:CST
DTSTART:20261101T070000
END:STANDARD
END:VTIMEZONE
BEGIN:VEVENT
DTSTART;TZID=America/Chicago:20250816T090000
DTEND;TZID=America/Chicago:20250816T150000
DTSTAMP:20260420T051112
CREATED:20240625T185459Z
LAST-MODIFIED:20250730T195803Z
UID:10000784-1755334800-1755356400@dekalbcountycvb.com
SUMMARY:Cruisin' to Genoa Car Show
DESCRIPTION:Join the Genoa Chamber of Commerce in downtown Genoa for the Cruisin’ to Genoa Car Show! This family fun event is free to the public and sure to be a blast! Come rain or shine on August 16th from 9-3pm to enjoy classic cars! \n\n\n\nTrophy Presentation at 3:00 pm! Over 25 Trophies Awarded! Including Best of Show\, Kids’ Choice\, Top 20\, People’s Choice and MORE!
URL:https://dekalbcountycvb.com/dccvb-event/cruisin-to-genoa-car-show-2025/
LOCATION:IL Route 72\, Genoa\, Illinois\, 60135\, United States
CATEGORIES:Family Friendly,Free Event
ATTACH;FMTTYPE=image/jpeg:https://dekalbcountycvb.com/wp-content/uploads/2024/06/Crusin-to-Genoa-Car-Show.jpg
ORGANIZER;CN="Genoa Chamber of Commerce":MAILTO:info@genoaareachamber.com ;
END:VEVENT
BEGIN:VEVENT
DTSTART;TZID=America/Chicago:20250816T100000
DTEND;TZID=America/Chicago:20250816T103000
DTSTAMP:20260420T051112
CREATED:20250707T182154Z
LAST-MODIFIED:20250711T205635Z
UID:10001910-1755338400-1755340200@dekalbcountycvb.com
SUMMARY:Wee the People: Teaching Children About Democracy
DESCRIPTION:Join members of REACT (Responsive Engagement Activating Civic Talent) for stories and activities which will inspire children to be thoughtful members of our community. Parents and children are welcome to the DeKalb Public Library’s monthly program on Saturdays from 10:00-10:20 am. Come to one\, two\, or all three sessions! Enjoy a story\, discussion\, and an activity. Ages 4-7\, but children of all ages are welcome and must be accompanied by an adult. \nThe first session on August 16 is “Thinking about Others”. \nThis program is free and open to all. Registration is not required. Parents must be present. \nFor more information\, please contact Theresa at (815) 756-9568 ext. 3350 or at theresaw@dkpl.org.
URL:https://dekalbcountycvb.com/dccvb-event/wee-the-people-teaching-children-about-democracy/
LOCATION:DeKalb Public Library\, 309 Oak St\, DeKalb\, IL\, 60115\, United States
CATEGORIES:Family Friendly
ATTACH;FMTTYPE=image/jpeg:https://dekalbcountycvb.com/wp-content/uploads/2025/07/08-16-wee-the-people.jpg
ORGANIZER;CN="DeKalb Public Library":MAILTO:theresaw@dkpl.org
END:VEVENT
BEGIN:VEVENT
DTSTART;TZID=America/Chicago:20250816T130000
DTEND;TZID=America/Chicago:20250816T143000
DTSTAMP:20260420T051112
CREATED:20250414T191602Z
LAST-MODIFIED:20250627T204459Z
UID:10001587-1755349200-1755354600@dekalbcountycvb.com
SUMMARY:Self Defense Seminar
DESCRIPTION:Join this interactive self-defense training seminar. Self-defense training not only helps you protect yourself\, but others as well! Plus\, training helps you become physically and emotionally fit. Having the ability to defend yourself increases your self-esteem and boosts your confidence. In this 90-minute course\, we will discuss and practice situational awareness\, practical self-defense techniques\, and role-playing exercises to increase reaction time. Parents must remain in the building with participants aged 12-16.
URL:https://dekalbcountycvb.com/dccvb-event/self-defense-seminar/2025-08-16/
LOCATION:Sycamore Park District Community Center\, 480 Airport Rd\, Sycamore\, IL\, 60178
CATEGORIES:Physical Activities
ATTACH;FMTTYPE=image/jpeg:https://dekalbcountycvb.com/wp-content/uploads/2025/04/360_F_139817295_CVOOlsiUxjFcDRrd9glbaVPMeLlO8nvA.jpg
ORGANIZER;CN="Sycamore Park District":MAILTO:info@sycparks.org
END:VEVENT
BEGIN:VEVENT
DTSTART;TZID=America/Chicago:20250816T153000
DTEND;TZID=America/Chicago:20250816T170000
DTSTAMP:20260420T051112
CREATED:20250501T233647Z
LAST-MODIFIED:20250502T203329Z
UID:10001673-1755358200-1755363600@dekalbcountycvb.com
SUMMARY:The Wonder of Birds
DESCRIPTION:From building nests to using tools\, learn about how intelligent feathered friends truly are\, and meet some animal ambassadors! Presented by Kim White.  
URL:https://dekalbcountycvb.com/dccvb-event/the-wonder-of-birds/
LOCATION:Sycamore Public Library\, 103 E State St\, Sycamore\, Illinois\, 60178
CATEGORIES:Free Event
END:VEVENT
BEGIN:VEVENT
DTSTART;TZID=America/Chicago:20250816T190000
DTEND;TZID=America/Chicago:20250816T220000
DTSTAMP:20260420T051112
CREATED:20250415T201244Z
LAST-MODIFIED:20250415T201431Z
UID:10001600-1755370800-1755381600@dekalbcountycvb.com
SUMMARY:Beach Party feat. Johnny Russler & Beach Bum Band
DESCRIPTION:Warehouse on Park is throwing their annual beach party for the 4th year in a row! Johnny & The band played the very first beach party and they are back to celebrate! \n\n\n\nJohnny Russler & the Beach Bum Band have been bringing the endless summer to audiences from Key West\, Florida to Minnesota and Texas to New England for over 20 years. The Beach Bum Band has been bringing the Beach Vibes with Smooth Steel Pan\, Rocking Guitars\, Blazing Basslines\, Plenty of Percussion and Keys songs that are jam-packed with an island beat and tight harmonies. \n\n\n\n Jah Love Jamaica food truck with their Authentic Jamaican food is also back! \n\n\n\nBeach themed cocktails will be available \n\n\n\n$10 on Eventbrite $15 at the gate per personGate & bar opens at 6:30pm \n\n\n\n16 & over eventNo outside food or drinks allowedNo PetsYou can bring chairs if you likeLimited parking\, carpooling suggestedGolf carts are welcome to park on the alley near the gate
URL:https://dekalbcountycvb.com/dccvb-event/beach-party-feat-johnny-russler-beach-bum-band/
LOCATION:Warehouse on Park\, 662 Park Ave\, Genoa\, IL\, 60135\, United States
CATEGORIES:Live Music
END:VEVENT
END:VCALENDAR