BEGIN:VCALENDAR
VERSION:2.0
PRODID:-//DeKalb County Convention and Visitors Bureau - ECPv6.15.17.1//NONSGML v1.0//EN
CALSCALE:GREGORIAN
METHOD:PUBLISH
X-ORIGINAL-URL:https://dekalbcountycvb.com
X-WR-CALDESC:Events for DeKalb County Convention and Visitors Bureau
REFRESH-INTERVAL;VALUE=DURATION:PT1H
X-Robots-Tag:noindex
X-PUBLISHED-TTL:PT1H
BEGIN:VTIMEZONE
TZID:America/Chicago
BEGIN:DAYLIGHT
TZOFFSETFROM:-0600
TZOFFSETTO:-0500
TZNAME:CDT
DTSTART:20240310T080000
END:DAYLIGHT
BEGIN:STANDARD
TZOFFSETFROM:-0500
TZOFFSETTO:-0600
TZNAME:CST
DTSTART:20241103T070000
END:STANDARD
BEGIN:DAYLIGHT
TZOFFSETFROM:-0600
TZOFFSETTO:-0500
TZNAME:CDT
DTSTART:20250309T080000
END:DAYLIGHT
BEGIN:STANDARD
TZOFFSETFROM:-0500
TZOFFSETTO:-0600
TZNAME:CST
DTSTART:20251102T070000
END:STANDARD
BEGIN:DAYLIGHT
TZOFFSETFROM:-0600
TZOFFSETTO:-0500
TZNAME:CDT
DTSTART:20260308T080000
END:DAYLIGHT
BEGIN:STANDARD
TZOFFSETFROM:-0500
TZOFFSETTO:-0600
TZNAME:CST
DTSTART:20261101T070000
END:STANDARD
END:VTIMEZONE
BEGIN:VEVENT
DTSTART;TZID=America/Chicago:20250803T130000
DTEND;TZID=America/Chicago:20250803T150000
DTSTAMP:20260420T032453
CREATED:20250707T144853Z
LAST-MODIFIED:20250709T170650Z
UID:10001890-1754226000-1754233200@dekalbcountycvb.com
SUMMARY:Malta Vintage Base Ball Game
DESCRIPTION:Don’t miss the Malta Vintage Base Ball Game featuring the Oregon Ganymedes vs. the Creston Regulators! Enjoy a fun\, family-friendly event as the teams play using turn-of-the-century rules for an authentic vintage baseball experience. Bring your lawn chairs\, grab some concessions\, and feel free to BYOB as you relax and enjoy the game in a laid-back\, nostalgic setting.
URL:https://dekalbcountycvb.com/dccvb-event/malta-vintage-base-ball-game/
LOCATION:Malta Lions Park\, 409 N 4th Street\, Malta\, IL\, 60150\, United States
CATEGORIES:Family Friendly,Free Event
ATTACH;FMTTYPE=image/png:https://dekalbcountycvb.com/wp-content/uploads/2025/07/Malta-Vintage-Baseball-flyer-2025.png
ORGANIZER;CN="Malta Seedling Project":MAILTO:malta.seedlings@gmail.com
END:VEVENT
BEGIN:VEVENT
DTSTART;TZID=America/Chicago:20250803T133000
DTEND;TZID=America/Chicago:20250803T143000
DTSTAMP:20260420T032453
CREATED:20250626T160202Z
LAST-MODIFIED:20250627T193321Z
UID:10001876-1754227800-1754231400@dekalbcountycvb.com
SUMMARY:Senior Coffee Hour
DESCRIPTION:Have you been wanting to meet new people? Drop by the Sycamore Public Library on the first Sunday of the month for free coffee\, games\, and conversation.
URL:https://dekalbcountycvb.com/dccvb-event/senior-coffee-hour/2025-08-03/
LOCATION:Sycamore Public Library\, 103 E State St\, Sycamore\, Illinois\, 60178
CATEGORIES:Adult
END:VEVENT
BEGIN:VEVENT
DTSTART;TZID=America/Chicago:20250803T140000
DTEND;TZID=America/Chicago:20250803T170000
DTSTAMP:20260420T032453
CREATED:20250415T194015Z
LAST-MODIFIED:20250415T195120Z
UID:10001598-1754229600-1754240400@dekalbcountycvb.com
SUMMARY:Summer Celebration Party feat. Soundcheck
DESCRIPTION:It’s Summertime! Warehouse on Park loves summer so much that they have decided to throw a special Celebration of Summer party! \n\n\n\nLocal musical artist\, Soundcheck will be rockin’ the Warehouse from 2-5pm \n\n\n\nIt is also National Watermelon Day\, so there will be watermelon-based cocktails for this epic party! \n\n\n\nFREE ENTRY EVENT! \n\n\n\n16 & over eventBar opens at 1pm Music 2-5pmNo outside food or drinks allowedNo pets allowedYou can bring chairs
URL:https://dekalbcountycvb.com/dccvb-event/summer-celebration-party-feat-soundcheck/
LOCATION:Warehouse on Park\, 662 Park Ave\, Genoa\, IL\, 60135\, United States
CATEGORIES:Free Event,Live Music
END:VEVENT
BEGIN:VEVENT
DTSTART;TZID=America/Chicago:20250803T140000
DTEND;TZID=America/Chicago:20250803T190000
DTSTAMP:20260420T032453
CREATED:20250714T165307Z
LAST-MODIFIED:20250714T165309Z
UID:10001912-1754229600-1754247600@dekalbcountycvb.com
SUMMARY:Food Truck Feast
DESCRIPTION:Sandwich Moose Lodge 1016 presents Food Truck Feast on Sunday\, August 3rd! Explore a variety of food trucks while enjoying live music. This event is open to all.
URL:https://dekalbcountycvb.com/dccvb-event/food-truck-feast/
LOCATION:Sandwich Moose Lodge 1016\, 1002 E Church St\, Sandwich\, Illinois\, 60548\, United States
CATEGORIES:Family Friendly,LGBTQ Friendly
ATTACH;FMTTYPE=image/jpeg:https://dekalbcountycvb.com/wp-content/uploads/2025/07/Food-Truck-Feast.jpg
END:VEVENT
END:VCALENDAR