BEGIN:VCALENDAR
VERSION:2.0
PRODID:-//DeKalb County Convention and Visitors Bureau - ECPv6.15.17.1//NONSGML v1.0//EN
CALSCALE:GREGORIAN
METHOD:PUBLISH
X-WR-CALNAME:DeKalb County Convention and Visitors Bureau
X-ORIGINAL-URL:https://dekalbcountycvb.com
X-WR-CALDESC:Events for DeKalb County Convention and Visitors Bureau
REFRESH-INTERVAL;VALUE=DURATION:PT1H
X-Robots-Tag:noindex
X-PUBLISHED-TTL:PT1H
BEGIN:VTIMEZONE
TZID:America/Chicago
BEGIN:DAYLIGHT
TZOFFSETFROM:-0600
TZOFFSETTO:-0500
TZNAME:CDT
DTSTART:20240310T080000
END:DAYLIGHT
BEGIN:STANDARD
TZOFFSETFROM:-0500
TZOFFSETTO:-0600
TZNAME:CST
DTSTART:20241103T070000
END:STANDARD
BEGIN:DAYLIGHT
TZOFFSETFROM:-0600
TZOFFSETTO:-0500
TZNAME:CDT
DTSTART:20250309T080000
END:DAYLIGHT
BEGIN:STANDARD
TZOFFSETFROM:-0500
TZOFFSETTO:-0600
TZNAME:CST
DTSTART:20251102T070000
END:STANDARD
BEGIN:DAYLIGHT
TZOFFSETFROM:-0600
TZOFFSETTO:-0500
TZNAME:CDT
DTSTART:20260308T080000
END:DAYLIGHT
BEGIN:STANDARD
TZOFFSETFROM:-0500
TZOFFSETTO:-0600
TZNAME:CST
DTSTART:20261101T070000
END:STANDARD
END:VTIMEZONE
BEGIN:VEVENT
DTSTART;TZID=America/Chicago:20250802T130000
DTEND;TZID=America/Chicago:20250802T180000
DTSTAMP:20260420T043555
CREATED:20250623T195000Z
LAST-MODIFIED:20250627T195848Z
UID:10001873-1754139600-1754157600@dekalbcountycvb.com
SUMMARY:Tails on Tap Bar Crawl
DESCRIPTION:Join Tails for a fun afternoon in the beautiful Downtown Sycamore! \nYour ticket includes freebies at several downtown bars/restaurants\, a lanyard\, 2 raffle tickets and Bar Crawl Bingo! Purchase your ticket online\, or at the registration table outside of MVP’s between 1-3 pm on Saturday August 2nd. \nVisit the participating venues at your own pace between 1-6 p.m. and end the day at MVP’s patio for an after party where they will have raffle opportunities galore! \nGet your tickets here: https://tailshumanesociety.networkforgood.com/events/88473-tails-on-tap-2025 \nAll proceeds benefit homeless pets at Tails Humane Society! \n*While there are some dog-friendly patios in Downtown Sycamore\, not every stop on the crawl has a space suitable for our four-legged friends. Leave the dogs at home for this event but bring them with for the Mutt Strut 5K on October 4th!
URL:https://dekalbcountycvb.com/dccvb-event/tails-on-tap-bar-crawl/
LOCATION:Downtown Sycamore\, Sycamore\, Illlinois\, 60178
CATEGORIES:Adult
ATTACH;FMTTYPE=image/png:https://dekalbcountycvb.com/wp-content/uploads/2025/06/2025-Tails-on-Tap-Bar-Crawl-Social-Media-Posts.png
ORGANIZER;CN="Tails Humane Society":MAILTO:info@tailshumanesociety.org
END:VEVENT
BEGIN:VEVENT
DTSTART;TZID=America/Chicago:20250802T140000
DTEND;TZID=America/Chicago:20250802T150000
DTSTAMP:20260420T043555
CREATED:20250707T164302Z
LAST-MODIFIED:20250709T195726Z
UID:10001901-1754143200-1754146800@dekalbcountycvb.com
SUMMARY:Jersey Brothers
DESCRIPTION:The Jersey Brothers perform music from Frankie Valli and The Four Seasons\, and their contemporaries\, with historical notes from the groups popular and on-going career. \nSeasoned performers\, Norm and Randy Murray have appeared on the same bill as The Four Seasons\, Johnny Rivers\, Jerry Lee Lewis\, The Diamonds\, and Bill Haleys Comets. \nThis event is free and open to all. No registration is required. Sponsored by Gretchen and Charles Moore. \nFor additional information\, please contact Samantha at samanthah@dkpl.org or at (815) 756-9568 ext. 1701.
URL:https://dekalbcountycvb.com/dccvb-event/jersey-brothers-2/
LOCATION:DeKalb Public Library\, 309 Oak St\, DeKalb\, IL\, 60115\, United States
CATEGORIES:Live Music
ATTACH;FMTTYPE=image/jpeg:https://dekalbcountycvb.com/wp-content/uploads/2025/07/08-02-jersey.jpg
ORGANIZER;CN="DeKalb Public Library":MAILTO:theresaw@dkpl.org
END:VEVENT
BEGIN:VEVENT
DTSTART;TZID=America/Chicago:20250802T173000
DTEND;TZID=America/Chicago:20250802T220000
DTSTAMP:20260420T043555
CREATED:20250415T191708Z
LAST-MODIFIED:20250415T192311Z
UID:10001597-1754155800-1754172000@dekalbcountycvb.com
SUMMARY:Elvis Night feat. Ronnie B. Elvis
DESCRIPTION:Another special musical experience will be happening at The Warehouse on Park as they welcome\, 2021 & 2020 Tribute Artist of the Year – Elvis Tribute Artist / Josie Music Awards\, Ronnie B. Elvis! An Elvis experience like no other will be happening on this special evening. \n\n\n\nAlso welcoming a local legend in Rock\, Harry Hmura! Harry will be performing LIVE from 6-7:30pm \n\n\n\nHarry has recorded and toured both nationally and internationally with Grammy Award Winning blues legends\, James Cotton (Muddy Waters side man) and Sugar Blue (recorded with the Rolling Stones). Harry’s performed and shared the stage with Muddy Waters\, Buddy Guy\, Johnny Winter\, Dickey Betts\, Elvin Bishop\, Jeff Healey\, and Buddy Miles. \n\n\n\nRonnie will be performing from 8-10pm \n\n\n\nElvis inspired cocktails & food for this special evening will be available! \n\n\n\n$10 on Eventbrite $15 at the gate per personGate & bar opens at 5:30pm \n\n\n\nNo outside food or drinks allowedNo PetsYou can bring chairs if you likeLimited parking\, carpooling is suggestedGolf carts can park in the alley near the gate
URL:https://dekalbcountycvb.com/dccvb-event/elvis-night-feat-ronnie-b-elvis/
LOCATION:Warehouse on Park\, 662 Park Ave\, Genoa\, IL\, 60135\, United States
CATEGORIES:Live Music
ATTACH;FMTTYPE=image/jpeg:https://dekalbcountycvb.com/wp-content/uploads/2025/04/warehouse-on-park-crowd.jpg
END:VEVENT
BEGIN:VEVENT
DTSTART;TZID=America/Chicago:20250802T180000
DTEND;TZID=America/Chicago:20250802T200000
DTSTAMP:20260420T043555
CREATED:20250721T142431Z
LAST-MODIFIED:20250721T142433Z
UID:10001917-1754157600-1754164800@dekalbcountycvb.com
SUMMARY:Whiskey Tasting with Whiskey Acres
DESCRIPTION:Join Blumen Gardens for an evening of rich flavors and fascinating stories at a Whiskey Tasting Workshop. \n\n\n\nThis immersive experience features a guided whiskey tasting with a whiskey expert that will lead you through a presentation on the history\, distillation process\, and tasting notes of several unique selections—from smooth bourbons to bold single malts. Whether you’re a seasoned whiskey lover or just starting your journey\, you’ll leave with a deeper appreciation and new favorites in your glass. \n\n\n\nIncludes: Whiskey tasting One handcrafted cocktail Artfully arranged charcuterie board A keepsake rocks glass Engaging presentation and tasting guide
URL:https://dekalbcountycvb.com/dccvb-event/whiskey-tasting-with-whiskey-acres/
LOCATION:Blumen Gardens\, 403 Edward St\, Sycamore\, IL\, 60178\, United States
CATEGORIES:Adult
ATTACH;FMTTYPE=image/jpeg:https://dekalbcountycvb.com/wp-content/uploads/2024/08/dnews_0312_WhiskeyAcres2.jpg
END:VEVENT
END:VCALENDAR