BEGIN:VCALENDAR
VERSION:2.0
PRODID:-//DeKalb County Convention and Visitors Bureau - ECPv6.15.17.1//NONSGML v1.0//EN
CALSCALE:GREGORIAN
METHOD:PUBLISH
X-ORIGINAL-URL:https://dekalbcountycvb.com
X-WR-CALDESC:Events for DeKalb County Convention and Visitors Bureau
REFRESH-INTERVAL;VALUE=DURATION:PT1H
X-Robots-Tag:noindex
X-PUBLISHED-TTL:PT1H
BEGIN:VTIMEZONE
TZID:America/Chicago
BEGIN:DAYLIGHT
TZOFFSETFROM:-0600
TZOFFSETTO:-0500
TZNAME:CDT
DTSTART:20240310T080000
END:DAYLIGHT
BEGIN:STANDARD
TZOFFSETFROM:-0500
TZOFFSETTO:-0600
TZNAME:CST
DTSTART:20241103T070000
END:STANDARD
BEGIN:DAYLIGHT
TZOFFSETFROM:-0600
TZOFFSETTO:-0500
TZNAME:CDT
DTSTART:20250309T080000
END:DAYLIGHT
BEGIN:STANDARD
TZOFFSETFROM:-0500
TZOFFSETTO:-0600
TZNAME:CST
DTSTART:20251102T070000
END:STANDARD
BEGIN:DAYLIGHT
TZOFFSETFROM:-0600
TZOFFSETTO:-0500
TZNAME:CDT
DTSTART:20260308T080000
END:DAYLIGHT
BEGIN:STANDARD
TZOFFSETFROM:-0500
TZOFFSETTO:-0600
TZNAME:CST
DTSTART:20261101T070000
END:STANDARD
END:VTIMEZONE
BEGIN:VEVENT
DTSTART;TZID=America/Chicago:20250725T080000
DTEND;TZID=America/Chicago:20250725T170000
DTSTAMP:20260419T143340
CREATED:20250612T184207Z
LAST-MODIFIED:20250627T203238Z
UID:10001841-1753430400-1753462800@dekalbcountycvb.com
SUMMARY:Line & couples Dancing
DESCRIPTION:Join DJ Dave at Denim and Dimonds for Line Dancing and Couples Dancing beginning at 7pmEvery Friday unless noted on their calendar.
URL:https://dekalbcountycvb.com/dccvb-event/line-couples-dancing/2025-07-25/
LOCATION:Denim & Diamonds Saloon\, 425 W State St.\, Sycamore\, IL\, 60178\, United States
ATTACH;FMTTYPE=image/jpeg:https://dekalbcountycvb.com/wp-content/uploads/2025/06/IMG_1717.jpeg
END:VEVENT
BEGIN:VEVENT
DTSTART;TZID=America/Chicago:20250725T210000
DTEND;TZID=America/Chicago:20250726T010000
DTSTAMP:20260419T143341
CREATED:20250714T170014Z
LAST-MODIFIED:20250714T170301Z
UID:10001913-1753477200-1753491600@dekalbcountycvb.com
SUMMARY:Party on the Patio
DESCRIPTION:Join a fun evening on the patio of El Jimador Mexican Grill with live music & great drink specials\, including famous margarita towers and purses.
URL:https://dekalbcountycvb.com/dccvb-event/party-on-the-patio/
LOCATION:El Jimador Mexican Grill\, 260 E Lincoln Hwy.\, DeKalb\, Illinois\, 60115\, United States
CATEGORIES:Live Music
ATTACH;FMTTYPE=image/jpeg:https://dekalbcountycvb.com/wp-content/uploads/2025/07/El-Jimador-Party-on-the-Patio.jpg
ORGANIZER;CN="El Jimador Mexican Grill":MAILTO:contact@eljimadordekalb.com
END:VEVENT
END:VCALENDAR