BEGIN:VCALENDAR
VERSION:2.0
PRODID:-//DeKalb County Convention and Visitors Bureau - ECPv6.15.17.1//NONSGML v1.0//EN
CALSCALE:GREGORIAN
METHOD:PUBLISH
X-ORIGINAL-URL:https://dekalbcountycvb.com
X-WR-CALDESC:Events for DeKalb County Convention and Visitors Bureau
REFRESH-INTERVAL;VALUE=DURATION:PT1H
X-Robots-Tag:noindex
X-PUBLISHED-TTL:PT1H
BEGIN:VTIMEZONE
TZID:America/Chicago
BEGIN:DAYLIGHT
TZOFFSETFROM:-0600
TZOFFSETTO:-0500
TZNAME:CDT
DTSTART:20240310T080000
END:DAYLIGHT
BEGIN:STANDARD
TZOFFSETFROM:-0500
TZOFFSETTO:-0600
TZNAME:CST
DTSTART:20241103T070000
END:STANDARD
BEGIN:DAYLIGHT
TZOFFSETFROM:-0600
TZOFFSETTO:-0500
TZNAME:CDT
DTSTART:20250309T080000
END:DAYLIGHT
BEGIN:STANDARD
TZOFFSETFROM:-0500
TZOFFSETTO:-0600
TZNAME:CST
DTSTART:20251102T070000
END:STANDARD
BEGIN:DAYLIGHT
TZOFFSETFROM:-0600
TZOFFSETTO:-0500
TZNAME:CDT
DTSTART:20260308T080000
END:DAYLIGHT
BEGIN:STANDARD
TZOFFSETFROM:-0500
TZOFFSETTO:-0600
TZNAME:CST
DTSTART:20261101T070000
END:STANDARD
END:VTIMEZONE
BEGIN:VEVENT
DTSTART;TZID=America/Chicago:20250722T150000
DTEND;TZID=America/Chicago:20250722T180000
DTSTAMP:20260419T143342
CREATED:20250509T215930Z
LAST-MODIFIED:20250627T203932Z
UID:10001729-1753196400-1753207200@dekalbcountycvb.com
SUMMARY:Sycamore Farmers' Market
DESCRIPTION:Shop fresh produce\, meat\, canned items\, art\, and more from locals at the Sycamore Farmers’ Market!
URL:https://dekalbcountycvb.com/dccvb-event/sycamore-farmers-market/2025-07-22/
LOCATION:Kar-Fre Flowers\, 1126 E. State St. Sycamore\, Sycamore\, Illinois\, 60178\, United States
CATEGORIES:Farmers' Markets
ATTACH;FMTTYPE=image/jpeg:https://dekalbcountycvb.com/wp-content/uploads/2025/05/IMG_131825.jpg
END:VEVENT
BEGIN:VEVENT
DTSTART;TZID=America/Chicago:20250722T160000
DTEND;TZID=America/Chicago:20250722T200000
DTSTAMP:20260419T143342
CREATED:20250602T164737Z
LAST-MODIFIED:20250627T194103Z
UID:10001808-1753200000-1753214400@dekalbcountycvb.com
SUMMARY:Blumen Gardens Food Truck Tuesdays
DESCRIPTION:Mark your calendars for Food Truck Tuesday at Blumen Gardens! Join them for an evening of gastronomic delights. With a rotating lineup of food trucks\, there’s something to satisfy every craving. Plus\, enjoy the enchanting tunes of live music while you dine al fresco. Come hungry and leave happy!
URL:https://dekalbcountycvb.com/dccvb-event/blumen-gardens-food-truck-tuesdays/2025-07-22/
LOCATION:Blumen Gardens\, 403 Edward St\, Sycamore\, IL\, 60178\, United States
CATEGORIES:Family Friendly,Live Music
ATTACH;FMTTYPE=image/png:https://dekalbcountycvb.com/wp-content/uploads/2025/06/Food-Truck-Events-Post-_Invitation-_Square__-_2_.png
END:VEVENT
BEGIN:VEVENT
DTSTART;TZID=America/Chicago:20250722T190000
DTEND;TZID=America/Chicago:20250722T210000
DTSTAMP:20260419T143342
CREATED:20250609T172112Z
LAST-MODIFIED:20250709T193321Z
UID:10001897-1753210800-1753218000@dekalbcountycvb.com
SUMMARY:Trivia Night at Class VI
DESCRIPTION:Celebrate the 250th anniversary of the founding of our country with an American-themed trivia night at Class VI Wine and Charcuterie! Join regular hosts of their Monday night trivia\, Rich and Steve\, who will lead you in six rounds of 10 questions\, and a final picture round. Menu of wines and charcuterie boards available during trivia. \nClass VI Wine and Charcuterie \nThis event is intended for adults\, and teens accompanied by an adult. Registration is not required. \nFor more information\, contact Susan at susang@dkpl.org or (815) 756-9568 ext. 2114.
URL:https://dekalbcountycvb.com/dccvb-event/trivia-night-at-class-vi/
LOCATION:Class VI\, 214 East Lincoln Hwy.\, DeKalb\, Illinois\, 60115\, United States
CATEGORIES:Free Event
ATTACH;FMTTYPE=image/jpeg:https://dekalbcountycvb.com/wp-content/uploads/2025/06/class-vi.jpg
ORGANIZER;CN="DeKalb Public Library":MAILTO:theresaw@dkpl.org
END:VEVENT
BEGIN:VEVENT
DTSTART;TZID=America/Chicago:20250722T193000
DTEND;TZID=America/Chicago:20250722T210000
DTSTAMP:20260419T143342
CREATED:20250512T161102Z
LAST-MODIFIED:20250512T161105Z
UID:10001740-1753212600-1753218000@dekalbcountycvb.com
SUMMARY:DeKalb Municipal Band Concert 2025
DESCRIPTION:Join the DeKalb Park District for the 171st season of Municipal Band Concerts on Tuesday nights this summer! These FREE concerts begin at 7:30 pm in the Hopkins Park Bandshell.
URL:https://dekalbcountycvb.com/dccvb-event/dekalb-municipal-band-concert-2025/2025-07-22/
LOCATION:Hopkins Park Band Shell\, 1403 Sycamore Road\, DeKalb\, IL\, 60115\, United States
CATEGORIES:Free Event,Live Music
ATTACH;FMTTYPE=image/jpeg:https://dekalbcountycvb.com/wp-content/uploads/2024/06/DeKalb-Municipal-Band-Shelter.jpg
END:VEVENT
END:VCALENDAR