BEGIN:VCALENDAR
VERSION:2.0
PRODID:-//DeKalb County Convention and Visitors Bureau - ECPv6.15.17.1//NONSGML v1.0//EN
CALSCALE:GREGORIAN
METHOD:PUBLISH
X-WR-CALNAME:DeKalb County Convention and Visitors Bureau
X-ORIGINAL-URL:https://dekalbcountycvb.com
X-WR-CALDESC:Events for DeKalb County Convention and Visitors Bureau
REFRESH-INTERVAL;VALUE=DURATION:PT1H
X-Robots-Tag:noindex
X-PUBLISHED-TTL:PT1H
BEGIN:VTIMEZONE
TZID:America/Chicago
BEGIN:DAYLIGHT
TZOFFSETFROM:-0600
TZOFFSETTO:-0500
TZNAME:CDT
DTSTART:20240310T080000
END:DAYLIGHT
BEGIN:STANDARD
TZOFFSETFROM:-0500
TZOFFSETTO:-0600
TZNAME:CST
DTSTART:20241103T070000
END:STANDARD
BEGIN:DAYLIGHT
TZOFFSETFROM:-0600
TZOFFSETTO:-0500
TZNAME:CDT
DTSTART:20250309T080000
END:DAYLIGHT
BEGIN:STANDARD
TZOFFSETFROM:-0500
TZOFFSETTO:-0600
TZNAME:CST
DTSTART:20251102T070000
END:STANDARD
BEGIN:DAYLIGHT
TZOFFSETFROM:-0600
TZOFFSETTO:-0500
TZNAME:CDT
DTSTART:20260308T080000
END:DAYLIGHT
BEGIN:STANDARD
TZOFFSETFROM:-0500
TZOFFSETTO:-0600
TZNAME:CST
DTSTART:20261101T070000
END:STANDARD
END:VTIMEZONE
BEGIN:VEVENT
DTSTART;TZID=America/Chicago:20250627T080000
DTEND;TZID=America/Chicago:20250627T170000
DTSTAMP:20260419T224129
CREATED:20250612T184207Z
LAST-MODIFIED:20250627T203238Z
UID:10001837-1751011200-1751043600@dekalbcountycvb.com
SUMMARY:Line & couples Dancing
DESCRIPTION:Join DJ Dave at Denim and Dimonds for Line Dancing and Couples Dancing beginning at 7pmEvery Friday unless noted on their calendar.
URL:https://dekalbcountycvb.com/dccvb-event/line-couples-dancing/2025-06-27/
LOCATION:Denim & Diamonds Saloon\, 425 W State St.\, Sycamore\, IL\, 60178\, United States
ATTACH;FMTTYPE=image/jpeg:https://dekalbcountycvb.com/wp-content/uploads/2025/06/IMG_1717.jpeg
END:VEVENT
BEGIN:VEVENT
DTSTART;TZID=America/Chicago:20250627T090000
DTEND;TZID=America/Chicago:20250627T170000
DTSTAMP:20260419T224130
CREATED:20250605T050207Z
LAST-MODIFIED:20250627T202538Z
UID:10001864-1751014800-1751043600@dekalbcountycvb.com
SUMMARY:54th Sandwich Early Day Engine Club Show
DESCRIPTION:The Sandwich Early Day Engine Club would like to invite all to the 54th Annual Show! Friday June 27th and Saturday June 28th\, 2025\, 9 a.m. to 5 p.m. at the beautiful and shady Sandwich Fairgrounds. \nFeaturing Illinois Built engines and Minneapolis Moline tractors. \nBring out your engines\, tractors\, trucks\, and whatever else to the show! If you don’t have something to show\, come enjoy the day with us. \nSandwich corn sheller will be running throughout the day \nTractor parade through the grounds at noon both days. \nKid’s Pedal Pull after the parades \nIndoor/Outdoor Flea Market (to sell contact Steve at 630-881-7049) \n25-mile Tractor Ride (Friday\, 9:30\, contact Roger for more information at 815-498-2515) \nTractor Parade through town (Friday\, 6:30 p.m. leaving from the Fairgrounds) \nFor more information call 815-354-5549 \nor: \nsandwichengineclub@yahoo.com \nhttps://www.facebook.com/sandwichengineclub/ \nHome
URL:https://dekalbcountycvb.com/dccvb-event/54th-sandwich-early-day-engine-club-show/2025-06-27/
LOCATION:Sandwich Fair Grounds\, 15730 Pratt Road\, Sandwich\, IL
CATEGORIES:Family Friendly
ATTACH;FMTTYPE=image/jpeg:https://dekalbcountycvb.com/wp-content/uploads/2025/06/20210627_084729.jpg
END:VEVENT
BEGIN:VEVENT
DTSTART;TZID=America/Chicago:20250627T180000
DTEND;TZID=America/Chicago:20250627T210000
DTSTAMP:20260419T224130
CREATED:20250623T155941Z
LAST-MODIFIED:20250623T155942Z
UID:10001872-1751047200-1751058000@dekalbcountycvb.com
SUMMARY:Music in the Gardens
DESCRIPTION:Music in the Gardens: Featuring Dueling PianosGet ready for a lively evening of music and fun with Dueling Pianos at Blumen Gardens! Set against the backdrop of the enchanting gardens\, this high-energy show brings music\, comedy\, and crowd interaction together for a one-of-a-kind experience. From classic hits to today’s favorites\, no song is off-limits when the audience calls the tunes. Grab a cocktail from the bar\, gather your friends\, and enjoy a summer night filled with laughter\, music\, and unforgettable memories in the gardens. \n\n\n\nCost: $32 per person \n\n\n\nCancellations made 48+ hours before a class are eligible for a refund minus the processing fee. Cancellations made within 48 hours\, or no shows are non-refundable.
URL:https://dekalbcountycvb.com/dccvb-event/music-in-the-gardens/
LOCATION:Blumen Gardens\, 403 Edward St\, Sycamore\, IL\, 60178\, United States
CATEGORIES:Live Music
ATTACH;FMTTYPE=image/jpeg:https://dekalbcountycvb.com/wp-content/uploads/2025/04/blumen.jpeg
END:VEVENT
END:VCALENDAR