BEGIN:VCALENDAR
VERSION:2.0
PRODID:-//DeKalb County Convention and Visitors Bureau - ECPv6.15.17.1//NONSGML v1.0//EN
CALSCALE:GREGORIAN
METHOD:PUBLISH
X-WR-CALNAME:DeKalb County Convention and Visitors Bureau
X-ORIGINAL-URL:https://dekalbcountycvb.com
X-WR-CALDESC:Events for DeKalb County Convention and Visitors Bureau
REFRESH-INTERVAL;VALUE=DURATION:PT1H
X-Robots-Tag:noindex
X-PUBLISHED-TTL:PT1H
BEGIN:VTIMEZONE
TZID:America/Chicago
BEGIN:DAYLIGHT
TZOFFSETFROM:-0600
TZOFFSETTO:-0500
TZNAME:CDT
DTSTART:20240310T080000
END:DAYLIGHT
BEGIN:STANDARD
TZOFFSETFROM:-0500
TZOFFSETTO:-0600
TZNAME:CST
DTSTART:20241103T070000
END:STANDARD
BEGIN:DAYLIGHT
TZOFFSETFROM:-0600
TZOFFSETTO:-0500
TZNAME:CDT
DTSTART:20250309T080000
END:DAYLIGHT
BEGIN:STANDARD
TZOFFSETFROM:-0500
TZOFFSETTO:-0600
TZNAME:CST
DTSTART:20251102T070000
END:STANDARD
BEGIN:DAYLIGHT
TZOFFSETFROM:-0600
TZOFFSETTO:-0500
TZNAME:CDT
DTSTART:20260308T080000
END:DAYLIGHT
BEGIN:STANDARD
TZOFFSETFROM:-0500
TZOFFSETTO:-0600
TZNAME:CST
DTSTART:20261101T070000
END:STANDARD
END:VTIMEZONE
BEGIN:VEVENT
DTSTART;TZID=America/Chicago:20250622T090000
DTEND;TZID=America/Chicago:20250622T150000
DTSTAMP:20260419T224131
CREATED:20250604T155045Z
LAST-MODIFIED:20250627T203037Z
UID:10001813-1750582800-1750604400@dekalbcountycvb.com
SUMMARY:The Crafty Farmer's Open Air Market
DESCRIPTION:Check out The Crafty Farmers Open Air Market! The 2025 season starts Sunday\, May 4th and occurs every other Sunday until October 5th.
URL:https://dekalbcountycvb.com/dccvb-event/the-crafty-farmers-open-air-market-2/2025-06-22/
LOCATION:Hy-Vee\, 2700 Dekalb Ave.\, Sycamore\, Illinois\, 60178\, United States
CATEGORIES:Family Friendly,Farmers' Markets,Free Event
ATTACH;FMTTYPE=image/jpeg:https://dekalbcountycvb.com/wp-content/uploads/2025/01/471313923_122125732778562278_7422934692849736329_n.jpg
ORGANIZER;CN="Hy-Vee":MAILTO:hvcs@hy-vee.com
END:VEVENT
BEGIN:VEVENT
DTSTART;TZID=America/Chicago:20250622T120000
DTEND;TZID=America/Chicago:20250622T160000
DTSTAMP:20260419T224131
CREATED:20250317T155131Z
LAST-MODIFIED:20250627T202745Z
UID:10001475-1750593600-1750608000@dekalbcountycvb.com
SUMMARY:Open Barn Day at Glidden Homestead
DESCRIPTION:Barn tours every half hour starting at noonHouse Tours at 12:30 and 2:30 PMCrafts for children providedBlacksmithing demos all day \n\n\n\nFrom noon to 4 p.m. on Sunday\, June 22\, the Joseph F. Glidden Homestead and Historical Center’s Open Barn Day will give visitors a unique chance to see the inside of the historic barn where “The Winner” barbed wire was invented and initially manufactured. \n\n\n\nAdmission is $5 for adults; children younger than 14 and homestead members are admitted free. \n\n\n\nThe barn\, located at 921 W. Lincoln Highway in DeKalb\, is perhaps the most historically significant in the country\, according to historic preservationist Roger Keys\, because it is where Glidden invented and manufactured the first practical barbed wire. Keys\, who has done much work on the Homestead house and barn\, will give tours every half hour starting at noon. \n\n\n\nThe brick barn was built circa 1870. Glidden’s first barbed wire manufacturing office was located in the southeast corner of the barn. \n\n\n\nThe Phineas Vaughan Blacksmith Shop at the Glidden Homestead also will be open and operating that day. Volunteer blacksmiths will provide a glimpse into living-history as they provide demonstrations of the craft. The historic Glidden home will also be open for docent-led tours starting at 12:30 and 2:30 pm. There will be a farm animal craft available for children. \n\n\n\nThe Joseph F. Glidden Homestead and Historical Center is a not-for-profit organization working to preserve the home and barn\, while providing educational opportunities to the public. The house and Welcome Center are open from noon to 4 p.m. each Sunday. For more information\, call 815-756-7904\, visit www.gliddenhomestead.org or visit J.F. Glidden Homestead & Historical Center on Facebook.
URL:https://dekalbcountycvb.com/dccvb-event/open-barn-day-at-glidden-homestead-2/
LOCATION:Glidden Historical Center\, 921 W Lincoln Hwy\, DeKalb\, IL\, 60115\, United States
CATEGORIES:Family Friendly
ATTACH;FMTTYPE=image/jpeg:https://dekalbcountycvb.com/wp-content/uploads/2025/03/Glidden-Homestead-Barn.jpg
ORGANIZER;CN="Glidden Historical Center":MAILTO:jessi@gliddenhomestead.org
END:VEVENT
BEGIN:VEVENT
DTSTART;TZID=America/Chicago:20250622T120000
DTEND;TZID=America/Chicago:20250622T160000
DTSTAMP:20260419T224131
CREATED:20250602T171114Z
LAST-MODIFIED:20250627T202732Z
UID:10001811-1750593600-1750608000@dekalbcountycvb.com
SUMMARY:Juneteenth Celebration
DESCRIPTION:Enjoy family fun\, free food\, music and dancing while visiting with vendors and local social service agencies.
URL:https://dekalbcountycvb.com/dccvb-event/juneteenth-celebration-2/
LOCATION:Hopkins Park\, 1403 Sycamore Road\, DeKalb\, IL\, 60115\, United States
CATEGORIES:Family Friendly,Free Event
ATTACH;FMTTYPE=image/jpeg:https://dekalbcountycvb.com/wp-content/uploads/2025/06/Juneteenth-Celebration-Flyer-2025-1.jpg
END:VEVENT
BEGIN:VEVENT
DTSTART;TZID=America/Chicago:20250622T150000
DTEND;TZID=America/Chicago:20250622T160000
DTSTAMP:20260419T224131
CREATED:20250512T175550Z
LAST-MODIFIED:20250627T202600Z
UID:10001768-1750604400-1750608000@dekalbcountycvb.com
SUMMARY:Opening of The American Revolution Experience Traveling Exhibit
DESCRIPTION:Created by the Daughters of the American Revolution and the American Battlefield Trust\, the General John Stark Chapter is proud to bring The American Revolution Experience traveling exhibit to our community from June 22 – July 1\, 2025. \nThis exhibit features interactive digital kiosks\, display panels\, compelling storytelling\, and unique artifacts connecting audiences with the people and places that shaped our nation’s founding. This exhibit provides a deeper insight into the sacrifices and triumphs of the Revolutionary War. \nThis opening ceremony is free and open to all. No registration is required. Refreshments will be available while supplies last. \nFor additional information\, please contact Samantha at samanthah@dkpl.org or at (815) 756-9568 ext. 1701.
URL:https://dekalbcountycvb.com/dccvb-event/opening-of-the-american-revolution-experience-traveling-exhibit/
LOCATION:DeKalb Public Library\, 309 Oak St\, DeKalb\, IL\, 60115\, United States
CATEGORIES:Free Event
ATTACH;FMTTYPE=image/jpeg:https://dekalbcountycvb.com/wp-content/uploads/2025/05/exhibit.jpg
ORGANIZER;CN="DeKalb Public Library":MAILTO:theresaw@dkpl.org
END:VEVENT
BEGIN:VEVENT
DTSTART;TZID=America/Chicago:20250622T193000
DTEND;TZID=America/Chicago:20250622T203000
DTSTAMP:20260419T224131
CREATED:20250528T174346Z
LAST-MODIFIED:20250627T203357Z
UID:10001884-1750620600-1750624200@dekalbcountycvb.com
SUMMARY:Legally Blonde
DESCRIPTION:Directed by Cortney Jo Newby \n\n\n\nAssistant Directed by Jon Jaworowski \n\n\n\nMusic Directed by Terri Crain Goodman \n\n\n\nStage Managed by Cheri Heinz and Mandy Wescott \n\n\n\nChoreographed by Sam Haywood \n\n\n\n \n\n\n\n“Omigod”\, you guys! Elle Woods is heading to Harvard—determined to prove she’s “So Much Better” than before. With big dreams\, “Positive” vibes\, and a little help from the “Bend and Snap”\, she’s about to discover “What You Want” isn’t always what you expect. Don’t miss your chance to get “Whipped Into Shape” with the cast of Legally Blonde! \n\n\n\nShow dates for Legally Blonde are as follows: \n\n\n\nThursday\, June 12\, 2025 • 7:30 PM \n\n\n\nFriday\, June 13\, 2025 • 7:30 PM \n\n\n\nSaturday\, June 14\, 2025 • 7:30 PM \n\n\n\nSunday\, June 15\, 2025 • 2:00 PM \n\n\n\nThursday\, June 19\, 2025 • 7:30 PM \n\n\n\nFriday\, June 20\, 2025 • 7:30 PM \n\n\n\nSaturday\, June 21\, 2025 • 7:30 PM \n\n\n\nSunday\, June 22\, 2025 • 2:00 PM \n\n\n\nTickets can be purchased here or by calling our box office at 815-758-1940.
URL:https://dekalbcountycvb.com/dccvb-event/legally-blonde/2025-06-22/
LOCATION:Stage Coach Players\, 126 S. Fifth St.\, DeKalb\, IL\, 60115\, United States
ATTACH;FMTTYPE=image/jpeg:https://dekalbcountycvb.com/wp-content/uploads/2025/05/SCP_Legally-Blonde-Poster_24x36-small.jpg
ORGANIZER;CN="Stage Coach Players":MAILTO:info@stagecoachplayers.com
END:VEVENT
END:VCALENDAR